BEGIN:VCALENDAR
VERSION:2.0
PRODID:-//Contemplative Outreach, Ltd. - ECPv6.15.17.1//NONSGML v1.0//EN
CALSCALE:GREGORIAN
METHOD:PUBLISH
X-WR-CALNAME:Contemplative Outreach, Ltd.
X-ORIGINAL-URL:https://www.contemplativeoutreach.org
X-WR-CALDESC:Events for Contemplative Outreach, Ltd.
REFRESH-INTERVAL;VALUE=DURATION:PT1H
X-Robots-Tag:noindex
X-PUBLISHED-TTL:PT1H
BEGIN:VTIMEZONE
TZID:Asia/Karachi
BEGIN:STANDARD
TZOFFSETFROM:+0500
TZOFFSETTO:+0500
TZNAME:PKT
DTSTART:20250101T000000
END:STANDARD
END:VTIMEZONE
BEGIN:VTIMEZONE
TZID:Pacific/Honolulu
BEGIN:STANDARD
TZOFFSETFROM:-1000
TZOFFSETTO:-1000
TZNAME:HST
DTSTART:20250101T000000
END:STANDARD
END:VTIMEZONE
BEGIN:VTIMEZONE
TZID:Europe/Helsinki
BEGIN:DAYLIGHT
TZOFFSETFROM:+0200
TZOFFSETTO:+0300
TZNAME:EEST
DTSTART:20250330T010000
END:DAYLIGHT
BEGIN:STANDARD
TZOFFSETFROM:+0300
TZOFFSETTO:+0200
TZNAME:EET
DTSTART:20251026T010000
END:STANDARD
BEGIN:DAYLIGHT
TZOFFSETFROM:+0200
TZOFFSETTO:+0300
TZNAME:EEST
DTSTART:20260329T010000
END:DAYLIGHT
BEGIN:STANDARD
TZOFFSETFROM:+0300
TZOFFSETTO:+0200
TZNAME:EET
DTSTART:20261025T010000
END:STANDARD
BEGIN:DAYLIGHT
TZOFFSETFROM:+0200
TZOFFSETTO:+0300
TZNAME:EEST
DTSTART:20270328T010000
END:DAYLIGHT
BEGIN:STANDARD
TZOFFSETFROM:+0300
TZOFFSETTO:+0200
TZNAME:EET
DTSTART:20271031T010000
END:STANDARD
END:VTIMEZONE
BEGIN:VTIMEZONE
TZID:UTC
BEGIN:STANDARD
TZOFFSETFROM:+0000
TZOFFSETTO:+0000
TZNAME:UTC
DTSTART:20250101T000000
END:STANDARD
END:VTIMEZONE
BEGIN:VEVENT
DTSTART;TZID=Asia/Karachi:20260922T160000
DTEND;TZID=Asia/Karachi:20260926T120000
DTSTAMP:20260420T202701
CREATED:20260209T135013Z
LAST-MODIFIED:20260209T135036Z
UID:160794-1790092800-1790424000@www.contemplativeoutreach.org
SUMMARY:Presenter Formation Retreat
DESCRIPTION:The Presenter Formation Team of Contemplative Outreach.org provides this retreat to offer participants the opportunity to become commissioned Presenters of the Centering Prayer Introductory Workshop. \nWorking with a notebook of materials\, each participant will have ample opportunity to learn the content of the Introductory Workshop and to practice presenting the content to others\, with supportive feedback and guidance. \nAll participants must complete an application prior to registration for this event. To receive an application please contact Rob Carr at robcarr924@gmail.com\nThose approved applications will receive a link to the Sophia Retreat Center for registration. \nRegistration is $400.00\, which includes lodging\, all meals and materials.
URL:https://www.contemplativeoutreach.org/event/presenter-formation-retreat/
LOCATION:Sophia Center\, Atchinson KS\, 751 S 8th St\, Atchison\,KS\, KS\, United States
CATEGORIES:Training
END:VEVENT
BEGIN:VEVENT
DTSTART;TZID=Pacific/Honolulu:20261003T090000
DTEND;TZID=Pacific/Honolulu:20261003T113000
DTSTAMP:20260420T202701
CREATED:20230309T193500Z
LAST-MODIFIED:20251217T224326Z
UID:133741-1791018000-1791027000@www.contemplativeoutreach.org
SUMMARY:Changing with the Fall Colors Half Day  Centering Prayer/Welcoming Prayer mini-retreat via Hawaiʻi (1st Saturday of every month)
DESCRIPTION:Online Half Day Centering Prayer/Welcoming Prayer mini-retreat via Hawaiʻi (1st Saturday of every month)\nMay 6 @ 9:00 am – 11:30 am UTC-10\nFREE \nFirst Saturdays online retreats are a special time where we explore our Centering Prayer practice. We are looking forward to sharing Physio-Divina (Moving) practices\, Visio-Divina (visual-Art) practices\, Terra-Divna (Nature)  Lectio-Divina (Sacred Text) practices in addition to the Centering Prayer and Welcoming Prayer practice that are our foundation. Pulelehua\, Liedeke\, and Margie welcome others if you are called to join us. \nWe hope you will join us from wherever & whenever you are! Schedule in Hawai’i Time (UTC -10)\n8:45am Room open to for early connections\n9:00 Welcome and introductions\n9:15 Centering prayer in nature\n9:45 Welcoming prayer on the earth\n10:00 Centering prayer in nature\n10:20 Break\n10:30 Terra Divina connecting to nature thru images and video of nature\n10:45 Reflections\n11:00 Body Prayer with Lectio Divina\n11:15-11:30 Closing Prayer\nhttps://us02web.zoom.us/j/92185854158?pwd=dDJxN0FkRkRvQWhrQURwN29SUTBFUT09\nZoom Meeting ID: 921 8585 4158 Passcode: 730086 \nWebsite: http://www.cohawaii.org\nPhone (628) 400-2644\nEmail: cohawaii@gmail.com \nAll session are freely offered\, donations are welcome\, no registration is needed.
URL:https://www.contemplativeoutreach.org/event/online-half-day-moving-meditation-centering-prayer-welcoming-prayer-mini-retreat-via-hawai%ca%bbi-1st-saturday-of-every-month/
LOCATION:Internet – Online
CATEGORIES:Retreat,Webcast
ATTACH;FMTTYPE=image/jpeg:https://www.contemplativeoutreach.org/wp-content/uploads/2023/03/IMG_0733-e1678390480888.jpeg
ORGANIZER;CN="Contemplative Outreach Hawai%CA%BBi":MAILTO:cohawaii@gmail.com
END:VEVENT
BEGIN:VEVENT
DTSTART;TZID=Europe/Helsinki:20261028T170000
DTEND;TZID=Europe/Helsinki:20261101T140000
DTSTAMP:20260420T202701
CREATED:20250902T175121Z
LAST-MODIFIED:20260328T080028Z
UID:157085-1793206800-1793541600@www.contemplativeoutreach.org
SUMMARY:4-Day Contemplative Retreat
DESCRIPTION:“In the stillness of Centering Prayer\, we learn to rest in God\, not as an idea\, but as a living presence that transforms us from within.”\n– Cynthia Bourgeault \nSharing silent prayer in the context of a retreat offers a profound experience of soul-to-soul connection — with fellow practitioners and with all living beings. \nThis 4-day retreat is designed to nourish the soul’s deep longing for intimacy with God\, inviting participants into a transformative journey through contemplation and the sacred practice of silence. \nHeld entirely in silence\, the retreat includes: \nTwo daily input sessions to deepen understanding of the Centering Prayer method and reflect on the contemplative path;\nMultiple periods of Centering Prayer each day;\nOpportunities for soul sharing with the guide (if desired);\nPersonal time for reflection and journaling. \nIt is recommended that participants have attended either a weekend Centering Prayer retreat or a one-day introductory workshop and maintain some level of ongoing practice. \nPlease see the link below for more information and to register.
URL:https://www.contemplativeoutreach.org/event/4-day-contemplative-retreat-2/
LOCATION:Sacred Heart Monastery\, Missiezusters Klooster\, 20\, Steyl\, Venlo\, 5935 BX\, Netherlands
CATEGORIES:Retreat
ATTACH;FMTTYPE=image/jpeg:https://www.contemplativeoutreach.org/wp-content/uploads/2025/09/Photo-4-e1756835463629.jpg
ORGANIZER;CN="Sr. Maria Jose Rebelo%2C SSpS":MAILTO:silence.contemplation.steyl@ssps.de
END:VEVENT
BEGIN:VEVENT
DTSTART;TZID=UTC:20261107T090000
DTEND;TZID=UTC:20261107T113000
DTSTAMP:20260420T202701
CREATED:20231212T221604Z
LAST-MODIFIED:20251217T224252Z
UID:139293-1794042000-1794051000@www.contemplativeoutreach.org
SUMMARY:All Saints-All Souls Visio Divina & Centering Prayer ONLINE
DESCRIPTION: All Saints-All Souls Visio Divina  is the focus for this online half day Centering Prayer/Welcoming Prayer mini-retreat via Hawaiʻi (1st Saturday of every month)\n @ 9:00 am – 11:30 am UTC-10\nFREE \nFirst Saturdays online retreats are a special time where we explore our Centering Prayer practice. We are looking forward to sharing Physio-Divina (Moving) practices\, Visio-Divina (Visual-Art) practices\, Terra-Divina (Nature)\, Lectio-Divina (Sacred Text) practices in addition to the Centering Prayer and Welcoming Prayer practice that are our foundation. Pulelehua\, Liedeke\, and Margie welcome all who wish to join us. \nDates 2025 ( the zoom link is the same for all these dates): Jan 4\, Feb. 1 March 1\, April 5\, May 3\, June 7 July 5\, August 2\, September 6\, October4\, November 1\, December 6 \nWe hope you will join us from wherever & whenever you are! Schedule in Hawai’i Time (UTC -10)\n8:45am Room open to for early connections\n9:00 Welcome and introductions\n9:15 Centering Prayer\n9:45 Break\n9:50 Centering Prayer\n10:20 Break\n10:30 Visio Divina and Reflections\n11:15 Closing prayer\nhttps://us02web.zoom.us/j/92185854158?pwd=dDJxN0FkRkRvQWhrQURwN29SUTBFUT09\nZoom Meeting ID: 921 8585 4158 Passcode: 730086 \nWebsite: http://www.cohawaii.org\nPhone (628) 400-2644\nEmail: cohawaii@gmail.com \nAll session are freely offered\, donations are welcome\, no registration is needed.
URL:https://www.contemplativeoutreach.org/event/gratitude-in-centering-prayer-visio-divina-online/
LOCATION:Internet – Online
CATEGORIES:Retreat,Webinar
ATTACH;FMTTYPE=image/jpeg:https://www.contemplativeoutreach.org/wp-content/uploads/2023/12/all-saints-modern.jpg
ORGANIZER;CN="Contemplative Outreach Hawai%CA%BBi":MAILTO:cohawaii@gmail.com
END:VEVENT
BEGIN:VEVENT
DTSTART;TZID=UTC:20261205T090000
DTEND;TZID=UTC:20261205T113000
DTSTAMP:20260420T202701
CREATED:20231212T221346Z
LAST-MODIFIED:20251217T224215Z
UID:139289-1796461200-1796470200@www.contemplativeoutreach.org
SUMMARY:Advent a time to immerse in  Welcoming and Centering Prayer ONLINE
DESCRIPTION: Advent  is the focus for this online half day Centering Prayer/Welcoming Prayer mini-retreat via Hawaiʻi (1st Saturday of every month)\n @ 9:00 am – 11:30 am UTC-10\nFREE \nFirst Saturdays online retreats are a special time where we explore our Centering Prayer practice. We are looking forward to sharing Physio-Divina (Moving) practices\, Visio-Divina (Visual-Art) practices\, Terra-Divina (Nature)\, Lectio-Divina (Sacred Text) practices in addition to the Centering Prayer and Welcoming Prayer practice that are our foundation. Pulelehua\, Liedeke\, and Margie welcome all who wish to join us. \nDates 2026( the zoom link is the same for all these dates): First Saturday \nWe hope you will join us from wherever & whenever you are! Schedule in Hawai’i Time (UTC -10)\n8:45am Room open to for early connections\n9:00 Welcome and introductions\n9:15 Welcoming/Centering Prayer\n10:00 Break\n10:10 Centering Prayer\n10:40 Break\n10:50 Lectio Divina and Reflections\n11:15 Closing prayer\nhttps://us02web.zoom.us/j/92185854158?pwd=dDJxN0FkRkRvQWhrQURwN29SUTBFUT09\nZoom Meeting ID: 921 8585 4158 Passcode: 730086 \nWebsite: http://www.cohawaii.org\nPhone (628) 400-2644\nEmail: cohawaii@gmail.com \nAll session are freely offered\, donations are welcome\, no registration is needed.
URL:https://www.contemplativeoutreach.org/event/blooming-in-centering-prayer-visio-divina-online/
LOCATION:Internet – Online
CATEGORIES:Retreat,Workshop
ATTACH;FMTTYPE=image/jpeg:https://www.contemplativeoutreach.org/wp-content/uploads/2023/12/IMG_5945-1-scaled-e1702419178365.jpeg
ORGANIZER;CN="Contemplative Outreach Hawai%CA%BBi":MAILTO:cohawaii@gmail.com
END:VEVENT
END:VCALENDAR