BEGIN:VCALENDAR
VERSION:2.0
PRODID:-//Contemplative Outreach, Ltd. - ECPv6.15.17.1//NONSGML v1.0//EN
CALSCALE:GREGORIAN
METHOD:PUBLISH
X-WR-CALNAME:Contemplative Outreach, Ltd.
X-ORIGINAL-URL:https://www.contemplativeoutreach.org
X-WR-CALDESC:Events for Contemplative Outreach, Ltd.
REFRESH-INTERVAL;VALUE=DURATION:PT1H
X-Robots-Tag:noindex
X-PUBLISHED-TTL:PT1H
BEGIN:VTIMEZONE
TZID:UTC
BEGIN:STANDARD
TZOFFSETFROM:+0000
TZOFFSETTO:+0000
TZNAME:UTC
DTSTART:20160101T000000
END:STANDARD
END:VTIMEZONE
BEGIN:VEVENT
DTSTART;TZID=UTC:20171006T080000
DTEND;TZID=UTC:20171009T170000
DTSTAMP:20260422T141040
CREATED:20200513T234843Z
LAST-MODIFIED:20200513T234843Z
UID:102251-1507276800-1507568400@www.contemplativeoutreach.org
SUMMARY:Welcoming Prayer Weekend Retreat
DESCRIPTION:Contemplative outreach of Central Pa Presents:	Welcoming Prayer Retreat\n	October 6-8\, 2017 \n	Presenter: Sr. Rita Panciera\, RSM \n	The Welcoming Prayer is a method of consenting to God's presence and action in the events and situations in daily life. It provides a method of being aware of our physical and emotional reactions and a method of dealing with them prayerfully in the midst of daily life. \nThe Welcoming Prayer helps to dismantle the emotional programs of the false-self system and to heal the wounds of a lifetime by addressing them where they are stored – in the body. It contributes to the process of transformation in Christ initiated in Contemplative Prayer. \nThe time together will be both retreat and workshop\, with opportunity for silence and Centering Prayer in community. Also\, participants will be introduced to the actual method of the Welcoming Prayer and provided with opportunities to practice. Discussions will include the human condition and the false-self system as the conceptual background of the Welcoming Prayer practice. There will be time for focusing\, working with what is happening in our bodies and practicing the prayer. \nSr. Rita Panciera\, RSM is a Sister of Mercy and Director of the House of Prayer in Erie\, PA. She has been an experienced practitioner of Centering Prayer for many years and has facilitated many Centering Prayer retreats and programs\, both at Bethany Retreat Center and elsewhere.\n	Brochures available. \n  \nSPACE is LIMITED\n	Offering: $185 per person\n	Deposit: $50 nonrefundable deposit due by 9/20\n	Make Checks payable to: COCPa\n	Save $15 – Bring your own single sheets & towels
URL:https://www.contemplativeoutreach.org/event/welcoming-prayer-weekend-retreat-5/
LOCATION:Bethany Retreat Center\, 1031 Germania Rd\, Frenchville\, PA\, 16836\, United States
ORGANIZER;CN="Nicole Fedder ~ Program Director":MAILTO:bethanyretreatcenter@gmail.com
END:VEVENT
BEGIN:VEVENT
DTSTART;TZID=UTC:20170930T080000
DTEND;TZID=UTC:20170930T170000
DTSTAMP:20260422T141040
CREATED:20200513T234843Z
LAST-MODIFIED:20200513T234843Z
UID:102252-1506758400-1506790800@www.contemplativeoutreach.org
SUMMARY:Introduction to Centering Prayer Workshop
DESCRIPTION:Centering Prayer Introductory Workshop \nSaturday\, September 30th\, 2017 \n8:30a.m. – 1:00 p.m. \nRefreshments provided \n 
URL:https://www.contemplativeoutreach.org/event/introduction-to-centering-prayer-workshop-31/
ORGANIZER;CN="Karina":MAILTO:kfernandez@fccla.org
END:VEVENT
END:VCALENDAR