BEGIN:VCALENDAR
VERSION:2.0
PRODID:-//Contemplative Outreach, Ltd. - ECPv6.15.17.1//NONSGML v1.0//EN
CALSCALE:GREGORIAN
METHOD:PUBLISH
X-ORIGINAL-URL:https://www.contemplativeoutreach.org
X-WR-CALDESC:Events for Contemplative Outreach, Ltd.
REFRESH-INTERVAL;VALUE=DURATION:PT1H
X-Robots-Tag:noindex
X-PUBLISHED-TTL:PT1H
BEGIN:VTIMEZONE
TZID:America/New_York
BEGIN:DAYLIGHT
TZOFFSETFROM:-0500
TZOFFSETTO:-0400
TZNAME:EDT
DTSTART:20230312T070000
END:DAYLIGHT
BEGIN:STANDARD
TZOFFSETFROM:-0400
TZOFFSETTO:-0500
TZNAME:EST
DTSTART:20231105T060000
END:STANDARD
BEGIN:DAYLIGHT
TZOFFSETFROM:-0500
TZOFFSETTO:-0400
TZNAME:EDT
DTSTART:20240310T070000
END:DAYLIGHT
BEGIN:STANDARD
TZOFFSETFROM:-0400
TZOFFSETTO:-0500
TZNAME:EST
DTSTART:20241103T060000
END:STANDARD
BEGIN:DAYLIGHT
TZOFFSETFROM:-0500
TZOFFSETTO:-0400
TZNAME:EDT
DTSTART:20250309T070000
END:DAYLIGHT
BEGIN:STANDARD
TZOFFSETFROM:-0400
TZOFFSETTO:-0500
TZNAME:EST
DTSTART:20251102T060000
END:STANDARD
END:VTIMEZONE
BEGIN:VTIMEZONE
TZID:UTC
BEGIN:STANDARD
TZOFFSETFROM:+0000
TZOFFSETTO:+0000
TZNAME:UTC
DTSTART:20230101T000000
END:STANDARD
END:VTIMEZONE
BEGIN:VTIMEZONE
TZID:America/New_York
BEGIN:DAYLIGHT
TZOFFSETFROM:-0500
TZOFFSETTO:-0400
TZNAME:EDT
DTSTART:20230312T070000
END:DAYLIGHT
BEGIN:STANDARD
TZOFFSETFROM:-0400
TZOFFSETTO:-0500
TZNAME:EST
DTSTART:20231105T060000
END:STANDARD
BEGIN:DAYLIGHT
TZOFFSETFROM:-0500
TZOFFSETTO:-0400
TZNAME:EDT
DTSTART:20240310T070000
END:DAYLIGHT
BEGIN:STANDARD
TZOFFSETFROM:-0400
TZOFFSETTO:-0500
TZNAME:EST
DTSTART:20241103T060000
END:STANDARD
BEGIN:DAYLIGHT
TZOFFSETFROM:-0500
TZOFFSETTO:-0400
TZNAME:EDT
DTSTART:20250309T070000
END:DAYLIGHT
BEGIN:STANDARD
TZOFFSETFROM:-0400
TZOFFSETTO:-0500
TZNAME:EST
DTSTART:20251102T060000
END:STANDARD
END:VTIMEZONE
BEGIN:VEVENT
DTSTART;TZID=America/New_York:20240301T140000
DTEND;TZID=America/New_York:20240303T133000
DTSTAMP:20260422T051558
CREATED:20231027T201535Z
LAST-MODIFIED:20231027T201535Z
UID:138438-1709301600-1709472600@www.contemplativeoutreach.org
SUMMARY:Introduction to Centering Prayer
DESCRIPTION:Whether your interest is deepening your relationship with God\, relief from the stress of daily life\, or learning about contemplative prayer\, why not take some time this winter to learn and practice Centering Prayer? There will be plenty of time to rest and enjoy the beautiful contemplative oasis of Holy Cross Monastery in the Hudson Valley. The intention for this weekend retreat is to introduce you to the practice of Centering Prayer or refresh your understanding of your practice. Inquirers into Centering Prayer and beginners are welcome. \nBr. Bernard Delcourt\, is the Associate Director of Holy Cross Monastery. Bernard is a Contemplative Outreach commissioned presenter. Bernard has been a monk since 2004. Before becoming a monk\, he was an investment banker and then a life and business skills coach. He is a spiritual director and regularly visits General Theological Seminary in New York to offer spiritual direction to students and staff. \nRegister by e-mail or phone with our Guesthouse Manager\, Donna Mallory at 845-384-6660 ext 1 or at guesthouse@hcmnet.org.
URL:https://www.contemplativeoutreach.org/event/introduction-to-centering-prayer-9/
LOCATION:Holy Cross Monastery – New York\, 1615 Route 9W\, West Park\, NY\, 12493\, United States
CATEGORIES:Workshop
ATTACH;FMTTYPE=image/jpeg:https://www.contemplativeoutreach.org/wp-content/uploads/2023/10/IMG_4243.jpg
ORGANIZER;CN="Leslee Anne Terpay":MAILTO:co-leslee@comcast.net
END:VEVENT
BEGIN:VEVENT
DTSTART;TZID=America/New_York:20240306T110000
DTEND;TZID=America/New_York:20240306T120000
DTSTAMP:20260422T051558
CREATED:20240202T173640Z
LAST-MODIFIED:20240202T173640Z
UID:141747-1709722800-1709726400@www.contemplativeoutreach.org
SUMMARY:Centering Prayer Lenten Series - via Zoom
DESCRIPTION:Catholic Prison Ministries Coalition is offering a weekly Centering Prayer opportunity during Lent to introduce how Centering Prayer can support ones’ ministry and about the profound effect of Centering Prayer on those living ‘Inside.’ Each week a formerly incarcerated person with a CP practice will co-present with Rev. Hampton Deck a member of Contemplative Outreach Prison Outreach Service Team and facilitator of Centering Prayer groups in prison. \nPlease see the link below to register.
URL:https://www.contemplativeoutreach.org/event/centering-prayer-lenten-series-via-zoom-4/
LOCATION:Internet – Online
CATEGORIES:Webinar
ATTACH;FMTTYPE=image/png:https://www.contemplativeoutreach.org/wp-content/uploads/2024/02/Lenten-CP-Series-e1706827177231.png
END:VEVENT
BEGIN:VEVENT
DTSTART;TZID=UTC:20240306T160000
DTEND;TZID=UTC:20240306T171500
DTSTAMP:20260422T051558
CREATED:20240125T174734Z
LAST-MODIFIED:20240125T174734Z
UID:141350-1709740800-1709745300@www.contemplativeoutreach.org
SUMMARY:Introduction to Centering Prayer In-Person Workshop
DESCRIPTION:Centering Prayer Introductory Program \nDo you seek the still\, quiet voice of God? The Centering Prayer Introductory Program will help us to understand the Indwelling Presence of God within each of us\, and offer prayer periods to experience this Presence. We will explore our intimate relationship with God through Christian contemplative prayer\, which has been a part of our Christian heritage for centuries. We will explore the benefits of Centering Prayer in ordinary life. Time will be\nallowed for practice of the prayer and discussion of the practice each Wednesday afternoon from 4-5:15 p.m. throughout Lent 2024. \nThe program will be presented starting on Ash Wednesday at 4 p.m.\, February 14\, 2024 for the seven weeks of Lent at Grace Lutheran Church 205 South Garner St\, State College\, PA 16801. A donation of $20 per person is requested\, which includes a book. Please note that no one seeking to experience this form of prayer is ever turned away due to any financial constraints. \nThe program will be presented through the local chapter of Contemplative Outreach by Mary Kay and Doug Laplante\, experienced practitioners of Centering Prayer. For more information email Mary Kay at mklaplante11@gmail.com or to sign up\, please call or e-mail Sherri Rider at (814) 238-2478 or srider@glcpa.org
URL:https://www.contemplativeoutreach.org/event/introduction-to-centering-prayer-in-person-workshop-3/
LOCATION:Grace Lutheran Church – PA\, 205 South Garner Street\, State College\, PA\, 16801\, United States
CATEGORIES:Workshop
ATTACH;FMTTYPE=image/jpeg:https://www.contemplativeoutreach.org/wp-content/uploads/2024/01/bro-01_0-3.jpg
ORGANIZER;CN="Contemplative Outreach of Central Pennsylvania":MAILTO:douglaplante@gmail.com
END:VEVENT
BEGIN:VEVENT
DTSTART;TZID=America/New_York:20240313T110000
DTEND;TZID=America/New_York:20240313T120000
DTSTAMP:20260422T051558
CREATED:20240202T173803Z
LAST-MODIFIED:20240202T173803Z
UID:141754-1710327600-1710331200@www.contemplativeoutreach.org
SUMMARY:Centering Prayer Lenten Series - via Zoom
DESCRIPTION:Catholic Prison Ministries Coalition is offering a weekly Centering Prayer opportunity during Lent to introduce how Centering Prayer can support ones’ ministry and about the profound effect of Centering Prayer on those living ‘Inside.’ Each week a formerly incarcerated person with a CP practice will co-present with Rev. Hampton Deck a member of Contemplative Outreach Prison Outreach Service Team and facilitator of Centering Prayer groups in prison. \nPlease see the link below to register.
URL:https://www.contemplativeoutreach.org/event/centering-prayer-lenten-series-via-zoom-5/
LOCATION:Internet – Online
CATEGORIES:Webinar
ATTACH;FMTTYPE=image/png:https://www.contemplativeoutreach.org/wp-content/uploads/2024/02/Lenten-CP-Series-e1706827177231.png
END:VEVENT
BEGIN:VEVENT
DTSTART;TZID=UTC:20240313T160000
DTEND;TZID=UTC:20240313T171500
DTSTAMP:20260422T051558
CREATED:20240125T174810Z
LAST-MODIFIED:20240125T174810Z
UID:141356-1710345600-1710350100@www.contemplativeoutreach.org
SUMMARY:Introduction to Centering Prayer In-Person Workshop
DESCRIPTION:Centering Prayer Introductory Program \nDo you seek the still\, quiet voice of God? The Centering Prayer Introductory Program will help us to understand the Indwelling Presence of God within each of us\, and offer prayer periods to experience this Presence. We will explore our intimate relationship with God through Christian contemplative prayer\, which has been a part of our Christian heritage for centuries. We will explore the benefits of Centering Prayer in ordinary life. Time will be\nallowed for practice of the prayer and discussion of the practice each Wednesday afternoon from 4-5:15 p.m. throughout Lent 2024. \nThe program will be presented starting on Ash Wednesday at 4 p.m.\, February 14\, 2024 for the seven weeks of Lent at Grace Lutheran Church 205 South Garner St\, State College\, PA 16801. A donation of $20 per person is requested\, which includes a book. Please note that no one seeking to experience this form of prayer is ever turned away due to any financial constraints. \nThe program will be presented through the local chapter of Contemplative Outreach by Mary Kay and Doug Laplante\, experienced practitioners of Centering Prayer. For more information email Mary Kay at mklaplante11@gmail.com or to sign up\, please call or e-mail Sherri Rider at (814) 238-2478 or srider@glcpa.org
URL:https://www.contemplativeoutreach.org/event/introduction-to-centering-prayer-in-person-workshop-4/
LOCATION:Grace Lutheran Church – PA\, 205 South Garner Street\, State College\, PA\, 16801\, United States
CATEGORIES:Workshop
ATTACH;FMTTYPE=image/jpeg:https://www.contemplativeoutreach.org/wp-content/uploads/2024/01/bro-01_0-4.jpg
ORGANIZER;CN="Contemplative Outreach of Central Pennsylvania":MAILTO:douglaplante@gmail.com
END:VEVENT
BEGIN:VEVENT
DTSTART;TZID=UTC:20240315T150000
DTEND;TZID=UTC:20240317T150000
DTSTAMP:20260422T051558
CREATED:20240214T225049Z
LAST-MODIFIED:20240214T225049Z
UID:142008-1710514800-1710687600@www.contemplativeoutreach.org
SUMMARY:11th-Step Retreat
DESCRIPTION:This retreat is for people who participate in any 12-step recovery program to introduce or expand and deepen the experience of contemplative prayer as part of a daily 11th-Step practice ourselves\, in silence\, saying nothing\, asking for nothing\, just being and allowing our Higher Power to be with us. \nThe retreat will offer an environment of solitude and silence in community with time for reflection\, fellowship\, and a 12-step meeting. for those new to contemplative prayer\, the retreat is an introductory Workshop on Centering Prayer in the context of 12-step recover. \nPlease see the link below to register.
URL:https://www.contemplativeoutreach.org/event/11th-step-retreat/
LOCATION:Bethany Retreat Center\, 1031 Germania Rd\, Frenchville\, PA\, 16836\, United States
CATEGORIES:Retreat
ORGANIZER;CN="Nancy Cord-Baran":MAILTO:ncb612@gmail.com
END:VEVENT
BEGIN:VEVENT
DTSTART;TZID=UTC:20240316T090000
DTEND;TZID=UTC:20240316T120000
DTSTAMP:20260422T051558
CREATED:20240110T221638Z
LAST-MODIFIED:20240110T221723Z
UID:140469-1710579600-1710590400@www.contemplativeoutreach.org
SUMMARY:Lent Silent Saturday
DESCRIPTION:During Lent\, this quiet morning\, free from daily activities\, gives participants time for a communal gathering in silence and Centering Prayer. Along with scheduled prayers and contemplative walks is unstructured time for private journaling or reflection\, and enjoyment of the beautiful grounds of Holy Spirit Retreat Center. \nThe day is open to beginners as well as those experienced in contemplative prayer or silent meditation. All are welcome. A brief introduction to Centering Prayer will be offered for those new to the practice. \nRegistration online at hsrcenter.com is appreciated\, but not required.\nA free will offering is gratefully appreciated.\nFor more information contact Marilyn Nobori at centeringprayer@hsrcenter.com or 818-815-4480
URL:https://www.contemplativeoutreach.org/event/lent-silent-saturday/
LOCATION:Holy Spirit Retreat Center\, 4316 Lanai Road\, Encino\, CA\, 91436\, United States
CATEGORIES:Retreat
ATTACH;FMTTYPE=image/jpeg:https://www.contemplativeoutreach.org/wp-content/uploads/2024/01/IMG_3460-scaled-e1704924976374.jpg
ORGANIZER;CN="Marilyn Nobori":MAILTO:centeringprayer@hsrcenter.com
END:VEVENT
BEGIN:VEVENT
DTSTART;TZID=America/New_York:20240320T110000
DTEND;TZID=America/New_York:20240320T120000
DTSTAMP:20260422T051558
CREATED:20240202T173913Z
LAST-MODIFIED:20240202T173913Z
UID:141761-1710932400-1710936000@www.contemplativeoutreach.org
SUMMARY:Centering Prayer Lenten Series - via Zoom
DESCRIPTION:Catholic Prison Ministries Coalition is offering a weekly Centering Prayer opportunity during Lent to introduce how Centering Prayer can support ones’ ministry and about the profound effect of Centering Prayer on those living ‘Inside.’ Each week a formerly incarcerated person with a CP practice will co-present with Rev. Hampton Deck a member of Contemplative Outreach Prison Outreach Service Team and facilitator of Centering Prayer groups in prison. \nPlease see the link below to register.
URL:https://www.contemplativeoutreach.org/event/centering-prayer-lenten-series-via-zoom-6/
LOCATION:Internet – Online
CATEGORIES:Webinar
ATTACH;FMTTYPE=image/png:https://www.contemplativeoutreach.org/wp-content/uploads/2024/02/Lenten-CP-Series-e1706827177231.png
END:VEVENT
BEGIN:VEVENT
DTSTART;TZID=UTC:20240320T160000
DTEND;TZID=UTC:20240320T171500
DTSTAMP:20260422T051558
CREATED:20240125T173231Z
LAST-MODIFIED:20240125T173305Z
UID:141363-1710950400-1710954900@www.contemplativeoutreach.org
SUMMARY:Introduction to Centering Prayer In-Person Workshop
DESCRIPTION:Centering Prayer Introductory Program \nDo you seek the still\, quiet voice of God? The Centering Prayer Introductory Program will help us to understand the Indwelling Presence of God within each of us\, and offer prayer periods to experience this Presence. We will explore our intimate relationship with God through Christian contemplative prayer\, which has been a part of our Christian heritage for centuries. We will explore the benefits of Centering Prayer in ordinary life. Time will be\nallowed for practice of the prayer and discussion of the practice each Wednesday afternoon from 4-5:15 p.m. throughout Lent 2024. \nThe program will be presented starting on Ash Wednesday at 4 p.m.\, February 14\, 2024 for the seven weeks of Lent at Grace Lutheran Church 205 South Garner St\, State College\, PA 16801. A donation of $20 per person is requested\, which includes a book. Please note that no one seeking to experience this form of prayer is ever turned away due to any financial constraints. \nThe program will be presented through the local chapter of Contemplative Outreach by Mary Kay and Doug Laplante\, experienced practitioners of Centering Prayer. For more information email Mary Kay at mklaplante11@gmail.com or to sign up\, please call or e-mail Sherri Rider at (814) 238-2478 or srider@glcpa.org
URL:https://www.contemplativeoutreach.org/event/introduction-to-centering-prayer-in-person-workshop-2/
LOCATION:Grace Lutheran Church – PA\, 205 South Garner Street\, State College\, PA\, 16801\, United States
CATEGORIES:Workshop
ATTACH;FMTTYPE=image/jpeg:https://www.contemplativeoutreach.org/wp-content/uploads/2024/01/bro-01_0-5.jpg
ORGANIZER;CN="Contemplative Outreach of Central Pennsylvania":MAILTO:douglaplante@gmail.com
END:VEVENT
BEGIN:VEVENT
DTSTART;TZID=America/New_York:20240327T110000
DTEND;TZID=America/New_York:20240327T120000
DTSTAMP:20260422T051558
CREATED:20240202T174021Z
LAST-MODIFIED:20240202T174021Z
UID:141768-1711537200-1711540800@www.contemplativeoutreach.org
SUMMARY:Centering Prayer Lenten Series - via Zoom
DESCRIPTION:Catholic Prison Ministries Coalition is offering a weekly Centering Prayer opportunity during Lent to introduce how Centering Prayer can support ones’ ministry and about the profound effect of Centering Prayer on those living ‘Inside.’ Each week a formerly incarcerated person with a CP practice will co-present with Rev. Hampton Deck a member of Contemplative Outreach Prison Outreach Service Team and facilitator of Centering Prayer groups in prison. \nPlease see the link below to register.
URL:https://www.contemplativeoutreach.org/event/centering-prayer-lenten-series-via-zoom-7/
LOCATION:Internet – Online
CATEGORIES:Webinar
ATTACH;FMTTYPE=image/png:https://www.contemplativeoutreach.org/wp-content/uploads/2024/02/Lenten-CP-Series-e1706827177231.png
END:VEVENT
BEGIN:VEVENT
DTSTART;TZID=America/New_York:20240327T160000
DTEND;TZID=America/New_York:20240327T171500
DTSTAMP:20260422T051558
CREATED:20240125T173005Z
LAST-MODIFIED:20240125T173005Z
UID:141369-1711555200-1711559700@www.contemplativeoutreach.org
SUMMARY:Introduction to Centering Prayer In-Person Workshop
DESCRIPTION:Centering Prayer Introductory Program \nDo you seek the still\, quiet voice of God? The Centering Prayer Introductory Program will help us to understand the Indwelling Presence of God within each of us\, and offer prayer periods to experience this Presence. We will explore our intimate relationship with God through Christian contemplative prayer\, which has been a part of our Christian heritage for centuries. We will explore the benefits of Centering Prayer in ordinary life. Time will be\nallowed for practice of the prayer and discussion of the practice each Wednesday afternoon from 4-5:15 p.m. throughout Lent 2024. \nThe program will be presented starting on Ash Wednesday at 4 p.m.\, February 14\, 2024 for the seven weeks of Lent at Grace Lutheran Church 205 South Garner St\, State College\, PA 16801. A donation of $20 per person is requested\, which includes a book. Please note that no one seeking to experience this form of prayer is ever turned away due to any financial constraints. \nThe program will be presented through the local chapter of Contemplative Outreach by Mary Kay and Doug Laplante\, experienced practitioners of Centering Prayer. For more information email Mary Kay at mklaplante11@gmail.com or to sign up\, please call or e-mail Sherri Rider at (814) 238-2478 or srider@glcpa.org
URL:https://www.contemplativeoutreach.org/event/introduction-to-centering-prayer-in-person-workshop/
LOCATION:Grace Lutheran Church – PA\, 205 South Garner Street\, State College\, PA\, 16801\, United States
CATEGORIES:Workshop
ATTACH;FMTTYPE=image/jpeg:https://www.contemplativeoutreach.org/wp-content/uploads/2024/01/bro-01_0-6.jpg
ORGANIZER;CN="Contemplative Outreach of Central Pennsylvania":MAILTO:douglaplante@gmail.com
END:VEVENT
END:VCALENDAR