BEGIN:VCALENDAR
VERSION:2.0
PRODID:-//Contemplative Outreach, Ltd. - ECPv6.15.17.1//NONSGML v1.0//EN
CALSCALE:GREGORIAN
METHOD:PUBLISH
X-WR-CALNAME:Contemplative Outreach, Ltd.
X-ORIGINAL-URL:https://www.contemplativeoutreach.org
X-WR-CALDESC:Events for Contemplative Outreach, Ltd.
REFRESH-INTERVAL;VALUE=DURATION:PT1H
X-Robots-Tag:noindex
X-PUBLISHED-TTL:PT1H
BEGIN:VTIMEZONE
TZID:UTC
BEGIN:STANDARD
TZOFFSETFROM:+0000
TZOFFSETTO:+0000
TZNAME:UTC
DTSTART:20230101T000000
END:STANDARD
END:VTIMEZONE
BEGIN:VTIMEZONE
TZID:America/Los_Angeles
BEGIN:DAYLIGHT
TZOFFSETFROM:-0800
TZOFFSETTO:-0700
TZNAME:PDT
DTSTART:20230312T100000
END:DAYLIGHT
BEGIN:STANDARD
TZOFFSETFROM:-0700
TZOFFSETTO:-0800
TZNAME:PST
DTSTART:20231105T090000
END:STANDARD
BEGIN:DAYLIGHT
TZOFFSETFROM:-0800
TZOFFSETTO:-0700
TZNAME:PDT
DTSTART:20240310T100000
END:DAYLIGHT
BEGIN:STANDARD
TZOFFSETFROM:-0700
TZOFFSETTO:-0800
TZNAME:PST
DTSTART:20241103T090000
END:STANDARD
BEGIN:DAYLIGHT
TZOFFSETFROM:-0800
TZOFFSETTO:-0700
TZNAME:PDT
DTSTART:20250309T100000
END:DAYLIGHT
BEGIN:STANDARD
TZOFFSETFROM:-0700
TZOFFSETTO:-0800
TZNAME:PST
DTSTART:20251102T090000
END:STANDARD
END:VTIMEZONE
BEGIN:VEVENT
DTSTART;TZID=UTC:20241028T080000
DTEND;TZID=UTC:20241101T170000
DTSTAMP:20260421T141501
CREATED:20240721T030609Z
LAST-MODIFIED:20240721T030609Z
UID:146110-1730102400-1730480400@www.contemplativeoutreach.org
SUMMARY:Three or Five-Day Centering Prayer Retreat
DESCRIPTION:Centering Prayer is a form of Christian silent meditation rooted in the self-emptying love that forms the heart of Jesus’ teaching and life. This retreat is an opportunity to learn Centering Prayer as a way to deepen one’s contemplative journey in the contemporary world. The retreat offers two tracks: \n\nThe three-day track is recommended for people who have not completed the introductory workshop and wish to learn to practice Centering Prayer.\nThe five-day track is recommended for people who have an established and regular practice of Centering Prayer.\n\nBoth the three- and five- day Centering Prayer retreat provide group experiences of silence\, solitude\, and space for optional prayer times with the monks\, including Mass. Afternoons include time for walking in nature and soul friending with retreat facilitators. The retreat experience fosters an ever-deepening level of interior silence and may lead to an awareness of the presence of God in everyday life. \nSchedule: The retreat starts for both the 3- and 5-day track on Monday\, October 28 with check in at 2:00 PM. The 3-day track ends Wednesday\, October 30th at noon\, and the 5-day track ends Friday\, November 1st at 10:00 AM. \nProgram Fee: $450 for the 3-day track and $700 for the 5-day track. \nPlease see the link below for more information and to register.
URL:https://www.contemplativeoutreach.org/event/three-or-five-day-centering-prayer-retreat/
LOCATION:Monastery of the Holy Spirit\, 2625 Highway 212 SW\, Conyers\, GA\, 330094\, United States
CATEGORIES:Retreat
END:VEVENT
BEGIN:VEVENT
DTSTART;TZID=UTC:20241109T090000
DTEND;TZID=UTC:20241109T123000
DTSTAMP:20260421T141501
CREATED:20241016T195223Z
LAST-MODIFIED:20241017T230034Z
UID:149180-1731142800-1731155400@www.contemplativeoutreach.org
SUMMARY:Centering Prayer Introductory Workshop
DESCRIPTION:Saturday\, November 9\, 2024. 9am – 12:30pm. \nRegistration is required. $25.00 per person includes light breakfast and snacks\nCentering Prayer Introductory Workshop\nOr contact Jill Yamada jillprays@aol.com 949 257-6002 \nThe Introductory Workshop is a deep dive into the practice of Centering Prayer. If you’ve been practicing Centering Prayer for a while or are new to the practice and have never attended an introductory workshop\, we believe it’s essential to your practice. If you’ve attended a prior workshop and would like a refresher\, you are welcome as well. \nWe will learn the background and nuts and bolts of sitting\, consenting\, while taming your thoughts\, allowing God to be God and how letting go to the Lord’s Spirit within is a miraculous work of God.
URL:https://www.contemplativeoutreach.org/event/centering-prayer-introductory-workshop-20/
LOCATION:Shepherd of the Hills United Methodist Church\, 26001 Muirlands Blvd\, Mission Viejo\, CA\, 92691\, United States
CATEGORIES:Workshop
ATTACH;FMTTYPE=image/jpeg:https://www.contemplativeoutreach.org/wp-content/uploads/2024/10/Flyer-2024.jpg
ORGANIZER;CN="Jill Yamada":MAILTO:jillprays@aol.com
END:VEVENT
BEGIN:VEVENT
DTSTART;VALUE=DATE:20241116
DTEND;VALUE=DATE:20241117
DTSTAMP:20260421T141501
CREATED:20240920T212912Z
LAST-MODIFIED:20240920T212912Z
UID:147757-1731715200-1731801599@www.contemplativeoutreach.org
SUMMARY:My Peace I Give You: A Centering Prayer Day with the Aramaic Jesus
DESCRIPTION:“Peace I leave with you; my peace I give you. I do not give to you as the world gives. Do not let your hearts be troubled and do not be afraid.”\n— John 14:27 \nDuring this immersive day of Centering Prayer we will engage with our full embodied being in Centering Prayer as well as chanting\, Lectio Divina (divine reading)\, and body prayers. In Lectio Divina will take a contemplative look at the words of Jesus through the Aramaic language that he spoke. Aramaic has far fewer words than many modern languages\, and each word is rich with multiple meanings. We will explore and deepen some of his sayings and their meaning for us in our Centering Prayer and our lives just as we are in this moment. Come join us on the beautiful Mercy grounds for these sacred practices with others in a sacred circle. \nSchedule (subject to change):\n9:30 Grounding practices\, introduction to the day and themes\, and to each other\n10:00 Centering Prayer\n10:30 Break\n10:45 Teaching and Lectio Divina: Aramaic Jesus\n11:30 Centering Prayer\n12:00 Lunch and Contemplative Free Time\n1:30 Centering Prayer\n2:00 Teaching and Lectio Divina: Aramaic Jesus\n2:45 Break\n3:00 Centering Prayer\n4:00 Close \nLeaders \nJoy Andrews Hayter\, Ph.D. is a spiritual director whose offerings include Centering Prayer and other contemplative practices of the Christian Wisdom tradition. She is the author of The Cosmic Web: Hope For Our World Through Science and Spirituality. Find out more at joyfulfillment.com. \nHeather Ruce\, M.A. is a Wisdom Spiritual Director who offers Wisdom Practice Circles\, Retreats\, and Wisdom Schools focused on the expansive Christian Wisdom Tradition. She works within the lineage of Wisdom Teacher Cynthia Bourgeault whom she has been a student of for over a decade. Heather weaves her Masters in Marital & Family Therapy and training in Somatic Experiencing\, Organic Intelligence & Spiritual Direction into her teaching and guidance in various Wisdom practices\, all in service of waking up and putting on the Mind of Christ. Find out more at heatherruce.com. \nCatherine Regan\, Ph.D.\nCatherine Regan\, Ph.D. is a spiritual director\, retired psychologist\, and adjunct staff member at Mercy Center\, primarily serving on the Centering Prayer team. She has a special interest in participating in the reclamation of the Christian Wisdom tradition and fostering the contemplative practices so urgently needed at this time in our world. \nPlease see the link below to register.
URL:https://www.contemplativeoutreach.org/event/my-peace-i-give-you-a-centering-prayer-day-with-the-aramaic-jesus/
LOCATION:Mercy Center Burlingame\, 2300 Adeline Drive\, Burlingame\, CA\, 94010\, United States
CATEGORIES:Retreat
ATTACH;FMTTYPE=image/png:https://www.contemplativeoutreach.org/wp-content/uploads/2024/09/RETREAT-HEADERS-2024-09-09T111949.038-e1726867734522.png
ORGANIZER;CN="Cristina Esguerra":MAILTO:registration@mercywmw.org
END:VEVENT
BEGIN:VEVENT
DTSTART;TZID=UTC:20241118T143000
DTEND;TZID=UTC:20241120T110000
DTSTAMP:20260421T141501
CREATED:20241016T165648Z
LAST-MODIFIED:20241016T165648Z
UID:149019-1731940200-1732100400@www.contemplativeoutreach.org
SUMMARY:Embracing - a Retreat at Prairiewoods
DESCRIPTION:A Retreat for the Season leading into Christmas\nSponsored by Contemplative Outreach Northeast Iowa Chapter \nIs it time to embrace\n– the movement of the Spirit in your life?\n– a difficult relationship?\n– a path to inner and outer peace?\n– all that has come to you?\n– hope when hope is lost?\n– change when what is seems so comfortable? \nThe “Embracing” retreat is an opportunity to spend “time away” in the company of other pilgrims. This event (Monday at 2:30 pm through Wednesday at 11:30 am) will include structured opportunities for\n– Quiet prayer in the Presence;\n– Sacred Reading of Scripture;\n– Communal Sung Prayer;\n– Communal meals; plus \nFree time for\n– Yoga or Tai Chi\,\n– a Nature walk\,\n– walking a labyrinth\,\n– hand massage\, and more \nRegistration: To register online\, the link below; OR send an email to us with your intent\, and we will send you a form to return with a check for the registration fee. Online registration closes November 4 @ 9 am.  \nFees:\nFull Retreat with shared room: $175\nFull Retreat with individual room: $215\nCommuter: $145 (meals\, no overnight room);\nOne day only (Tuesday) $75 (with no overnight) \nPrairiewoods is at 120 Boyson Rd\, Hiawatha\, IA.\nPhoto by Grant Ritchie on Unsplash \nFAQs – Frequently Asked Questions \nQ1: Will there be food provided?\nA: Yes\, there will be fruit\, drinks (coffee\, tea and water) and other snacks available throughout the event. Meals will be served by Prairiewoods staff\, with the option to accommodate people with special dietary needs.\nQ2: Will silence be a part of the event?\nA: Yes\, much of the retreat will include internal and external silence. However\, there will some time for conversation with other retreatants.\nQ3: Can I attend only part of the retreat?\nA: Yes. We encourage people to attend the whole event; however\, if you can only come for one day\, you are welcome to do so. The related costs are listed above\nQ4: Will I be expected to share many details of my life?\nA: No. There will be time for introductions with other group members\, but not extensive sharing. If extended sharing is desired\, there will be opportunities to meet one-on-one with one of the leaders.\nQ5: Is Prairiewoods handicap accessible?\nA: Yes. The Center has all facilities on one level. While there are two levels withing the building for sleeping rooms\, you may request a room on the floor level. Retreatants will need to assess whether the outdoor grounds are safe for them.\nQ6: Is there anything else I might want to know about Prairiewoods?\nA: Yes. Indoors\, there is an onsite bookstore\, an area for meals and snacks\, a quiet prayer room\, our meeting room\, etc. Outdoors\, the wooded grounds provide a space to commune in nature; with an outdoor labyrinth available.\nQ7 If I cannot attend this event\, can my registration be refunded?\nRefunds are possible until 9 am November 4. However\, thereafter we cannot provide refunds because of our contract with Prairiewoods. With this we guarantee the number of participants and associated fees. Refunds will be the full amount minus the Eventbrite processing fee if payment is made online.
URL:https://www.contemplativeoutreach.org/event/embracing-a-retreat-at-prairiewoods/
LOCATION:Prairiewoods Franciscan Spirituality Center\, 120 Boyson Rd\, Hiawatha\, IA\, 52233\, United States
CATEGORIES:Retreat
ATTACH;FMTTYPE=image/png:https://www.contemplativeoutreach.org/wp-content/uploads/2024/10/Embracing-a-Retreat-at-Prairiewoods-resized.png
ORGANIZER;CN="Contemplative Outreach of Northeast Iowa":MAILTO:CONEiowa@gmail.com
END:VEVENT
END:VCALENDAR