BEGIN:VCALENDAR
VERSION:2.0
PRODID:-//Contemplative Outreach, Ltd. - ECPv6.15.17.1//NONSGML v1.0//EN
CALSCALE:GREGORIAN
METHOD:PUBLISH
X-WR-CALNAME:Contemplative Outreach, Ltd.
X-ORIGINAL-URL:https://www.contemplativeoutreach.org
X-WR-CALDESC:Events for Contemplative Outreach, Ltd.
REFRESH-INTERVAL;VALUE=DURATION:PT1H
X-Robots-Tag:noindex
X-PUBLISHED-TTL:PT1H
BEGIN:VTIMEZONE
TZID:UTC
BEGIN:STANDARD
TZOFFSETFROM:+0000
TZOFFSETTO:+0000
TZNAME:UTC
DTSTART:20240101T000000
END:STANDARD
END:VTIMEZONE
BEGIN:VTIMEZONE
TZID:America/Los_Angeles
BEGIN:DAYLIGHT
TZOFFSETFROM:-0800
TZOFFSETTO:-0700
TZNAME:PDT
DTSTART:20240310T100000
END:DAYLIGHT
BEGIN:STANDARD
TZOFFSETFROM:-0700
TZOFFSETTO:-0800
TZNAME:PST
DTSTART:20241103T090000
END:STANDARD
BEGIN:DAYLIGHT
TZOFFSETFROM:-0800
TZOFFSETTO:-0700
TZNAME:PDT
DTSTART:20250309T100000
END:DAYLIGHT
BEGIN:STANDARD
TZOFFSETFROM:-0700
TZOFFSETTO:-0800
TZNAME:PST
DTSTART:20251102T090000
END:STANDARD
BEGIN:DAYLIGHT
TZOFFSETFROM:-0800
TZOFFSETTO:-0700
TZNAME:PDT
DTSTART:20260308T100000
END:DAYLIGHT
BEGIN:STANDARD
TZOFFSETFROM:-0700
TZOFFSETTO:-0800
TZNAME:PST
DTSTART:20261101T090000
END:STANDARD
END:VTIMEZONE
BEGIN:VTIMEZONE
TZID:Europe/Amsterdam
BEGIN:DAYLIGHT
TZOFFSETFROM:+0100
TZOFFSETTO:+0200
TZNAME:CEST
DTSTART:20240331T010000
END:DAYLIGHT
BEGIN:STANDARD
TZOFFSETFROM:+0200
TZOFFSETTO:+0100
TZNAME:CET
DTSTART:20241027T010000
END:STANDARD
BEGIN:DAYLIGHT
TZOFFSETFROM:+0100
TZOFFSETTO:+0200
TZNAME:CEST
DTSTART:20250330T010000
END:DAYLIGHT
BEGIN:STANDARD
TZOFFSETFROM:+0200
TZOFFSETTO:+0100
TZNAME:CET
DTSTART:20251026T010000
END:STANDARD
BEGIN:DAYLIGHT
TZOFFSETFROM:+0100
TZOFFSETTO:+0200
TZNAME:CEST
DTSTART:20260329T010000
END:DAYLIGHT
BEGIN:STANDARD
TZOFFSETFROM:+0200
TZOFFSETTO:+0100
TZNAME:CET
DTSTART:20261025T010000
END:STANDARD
END:VTIMEZONE
BEGIN:VTIMEZONE
TZID:America/Kentucky/Louisville
BEGIN:DAYLIGHT
TZOFFSETFROM:-0500
TZOFFSETTO:-0400
TZNAME:EDT
DTSTART:20240310T070000
END:DAYLIGHT
BEGIN:STANDARD
TZOFFSETFROM:-0400
TZOFFSETTO:-0500
TZNAME:EST
DTSTART:20241103T060000
END:STANDARD
BEGIN:DAYLIGHT
TZOFFSETFROM:-0500
TZOFFSETTO:-0400
TZNAME:EDT
DTSTART:20250309T070000
END:DAYLIGHT
BEGIN:STANDARD
TZOFFSETFROM:-0400
TZOFFSETTO:-0500
TZNAME:EST
DTSTART:20251102T060000
END:STANDARD
BEGIN:DAYLIGHT
TZOFFSETFROM:-0500
TZOFFSETTO:-0400
TZNAME:EDT
DTSTART:20260308T070000
END:DAYLIGHT
BEGIN:STANDARD
TZOFFSETFROM:-0400
TZOFFSETTO:-0500
TZNAME:EST
DTSTART:20261101T060000
END:STANDARD
END:VTIMEZONE
BEGIN:VTIMEZONE
TZID:America/New_York
BEGIN:DAYLIGHT
TZOFFSETFROM:-0500
TZOFFSETTO:-0400
TZNAME:EDT
DTSTART:20240310T070000
END:DAYLIGHT
BEGIN:STANDARD
TZOFFSETFROM:-0400
TZOFFSETTO:-0500
TZNAME:EST
DTSTART:20241103T060000
END:STANDARD
BEGIN:DAYLIGHT
TZOFFSETFROM:-0500
TZOFFSETTO:-0400
TZNAME:EDT
DTSTART:20250309T070000
END:DAYLIGHT
BEGIN:STANDARD
TZOFFSETFROM:-0400
TZOFFSETTO:-0500
TZNAME:EST
DTSTART:20251102T060000
END:STANDARD
BEGIN:DAYLIGHT
TZOFFSETFROM:-0500
TZOFFSETTO:-0400
TZNAME:EDT
DTSTART:20260308T070000
END:DAYLIGHT
BEGIN:STANDARD
TZOFFSETFROM:-0400
TZOFFSETTO:-0500
TZNAME:EST
DTSTART:20261101T060000
END:STANDARD
END:VTIMEZONE
BEGIN:VEVENT
DTSTART;TZID=UTC:20250101T080000
DTEND;TZID=UTC:20250401T170000
DTSTAMP:20260421T090915
CREATED:20240721T030922Z
LAST-MODIFIED:20250306T161912Z
UID:146115-1735718400-1743526800@www.contemplativeoutreach.org
SUMMARY:Contemplative Living II: Daily Life as Prayer – via Zoom
DESCRIPTION:Your life is hidden with Christ in God.\n– Colossians 3:3 \nFurther enrich your contemplative life and embrace the practice of living each day as a form of prayer. In Contemplative Living I (CL I) the focus is on deepening your interior prayer life\, leading to the awareness of God’s presence in all that is. In Contemplative Living II (CL II) the focus shifts towards increased intentionality in how you are living your daily life. You likely have a better understanding of what blocks you in deepening your relationship with God\, others\, and even with yourself. You are now more capable of looking at your part in relationships and what gets in the way of being and becoming the person God created you to be. Building on the contemplative practices learned in CL I\, in CL II you will assess where you are in your life and how you can make choices aligning with your authentic self. \nThe design of Contemplative Living II: Daily Life as Prayer: \nGaining contemplative attitudes and dispositions through \n\nContemplative Listening – a practice of active listening in group spiritual direction\, raising your awareness of the movements of the Divine within you and others.\nContemplative Discernment – a method of going to God with your questions and desires\, allowing the answers to find you\nContemplative Awareness related to Addictions\, Attachments and Aversion – using contemplative discernment to surface habit patterns that have become compulsions that you no longer freely choose\nThe Forgiveness Prayer – a prayer that guides you to follow Jesus’s example to live with hearts open to love\nContemplative Service – a vocation\, a calling\, or a way of life that’s rooted in living a contemplative life\nCommitment to a Contemplative Rule of Life – looking at the rhythm of life you’ve created in this course\, what practices have worked for you and that you will continue to commit to in the ordinary activities of your life\nContemplative Living Communities – the support we receive from community enhances our spiritual journey and is helpful to continue in some way at the end of the course\n\nPlease see the link below for more information and to register.
URL:https://www.contemplativeoutreach.org/event/contemplative-living-ii-daily-life-as-prayer-via-zoom/
LOCATION:Internet – Online
END:VEVENT
BEGIN:VEVENT
DTSTART;VALUE=DATE:20250129
DTEND;VALUE=DATE:20250502
DTSTAMP:20260421T090915
CREATED:20250129T211622Z
LAST-MODIFIED:20250129T212436Z
UID:152758-1738108800-1746143999@www.contemplativeoutreach.org
SUMMARY:Certificate in Contemplative Spiritual Direction
DESCRIPTION:The certificate offering is a 2-year formation and training program for persons who discern a call to the ministry of spiritual direction. Applicants will begin Phase I in July 2025. \nCertificate in Contemplative Spiritual Direction features:\n\nContemplative spiritual formation as the foundation\nA 24-month Focused Program with home-based assignments\nA Cohort Model in a hybrid format (online and residential components)\nFacilitated by seasoned practitioners\nA Supervised Practicum (One-on-One/Peer Group) facilitated by trained supervisors\nUse of the Enneagram in Spiritual Direction for Greater Self-awareness and Spiritual Growth\n\nRead more about the program here. It includes emphasis on Centering Prayer (including a five-day retreat)\, Lectio Divina and the teachings of Thomas Keating. \nApplications Due: May 1\, 2025 \nTo complete the application\, you will need to submit the following. \n\nOne current reference\, including name\, phone number\, and email address.\nA PDF or Word document of your responses to the short essay questions\, found below.\nA non-refundable application fee of $75.\n\nFor any questions\, please email lifelonglearning@ctsnet.edu.
URL:https://www.contemplativeoutreach.org/event/certificate-in-contemplative-spiritual-direction/
LOCATION:Columbia Theological Seminary\, 701 South Columbia Drive\, Decatur\, GA\, 30031\, United States
ATTACH;FMTTYPE=image/png:https://www.contemplativeoutreach.org/wp-content/uploads/2025/01/CSD-4-e1738185865595.png
END:VEVENT
BEGIN:VEVENT
DTSTART;TZID=UTC:20250131T173000
DTEND;TZID=UTC:20250202T110000
DTSTAMP:20260421T090915
CREATED:20241217T195032Z
LAST-MODIFIED:20241217T195032Z
UID:151190-1738344600-1738494000@www.contemplativeoutreach.org
SUMMARY:Introduction to Centering Prayer
DESCRIPTION:Sr. Ruth Ann Madera will introduce you and guide you tot the inner silence of Centering Prayer. Centering Prayer is a form Christian contemplative prayer\, to center awareness on the presence of God. \nPlease see the link below to register.
URL:https://www.contemplativeoutreach.org/event/introduction-to-centering-prayer-13/
LOCATION:Bethany Retreat Center\, 1031 Germania Rd\, Frenchville\, PA\, 16836\, United States
CATEGORIES:Retreat
ATTACH;FMTTYPE=image/jpeg:https://www.contemplativeoutreach.org/wp-content/uploads/2024/12/Banner-Flyer-e1734465015520.jpg
ORGANIZER;CN="Sr. Ruth Ann Madera":MAILTO:lisam@anawimministries.org
END:VEVENT
BEGIN:VEVENT
DTSTART;TZID=America/Los_Angeles:20250207T173000
DTEND;TZID=America/Los_Angeles:20250209T120000
DTSTAMP:20260421T090915
CREATED:20250110T194735Z
LAST-MODIFIED:20250110T194735Z
UID:152310-1738949400-1739102400@www.contemplativeoutreach.org
SUMMARY:Centering Prayer and Three-Centered Knowing: A Silent Centering Prayer Wisdom Retreat
DESCRIPTION:“Centering Prayer … is the opening of mind and heart\, body and emotions–our whole being–to God\, the Ultimate Mystery\, beyond words\, thoughts\, and emotions.”\n—Thomas Keating\, in Open Mind Open Heart \nIn Centering Prayer we practice letting go to the Divine Indwelling\, building up a muscle of release\, of consent to the presence and action of the Ultimate Mystery in our lives. Our Centering Prayer deepens further when we engage with our whole being: mind and heart\, body and emotions\, as Thomas Keating urges us. In this retreat we will explore Centering Prayer as a practice\, in a way suitable for those new to it\, as well as for those who have been practicing for a long time. Along with this\, we will explore three-centered knowing\, not just with our heads but with our entire physical\, emotional\, and intellectual being. In The Wisdom Jesus\, when Cynthia Bourgeault talks about tuning into Jesus as a living being here with us now she says\, “It’s not knowing something more\, like a new fact or piece of esoteric information; it’s knowing deeper\, knowing with more and more of your being engaged.” \nJoin us in person at Mercy Center\, Burlingame\, CA where we will gather together and practice silence\, Centering Prayer\, and wisdom practices of chanting and movement that will help to engage our whole being. There will be some group sharing during teaching sessions\, but you are welcome to stay silent at those times too. This retreat follows on the material in our Centering Prayer and Wisdom Introductory Practice Series\, but that series is not a prerequisite. \n“May the next years see the increase of Centering Prayer\, and the creative addition of other wisdom aspects that might enhance what we are doing\, or at least help us to do what we have learned out of our tradition\, with complete commitment.”\n—Thomas Keating\, in A Life Surrendered to Love \n*For more information on the Christian Wisdom Path\, see Cynthia Bourgeault’s book: The Wisdom Way of Knowing: Reclaiming an Ancient Tradition to Awaken the Heart. If you have not read this book you are encouraged to do so before the retreat\, but it is not a prerequisite. \nPlease see the link below to register. \nLeaders \nHeather Ruce\, M.A. is a Wisdom Spiritual Director who offers Wisdom Practice Circles\, Retreats\, and Wisdom Schools focused on the expansive Christian Wisdom Tradition. She works within the lineage of Wisdom Teacher Cynthia Bourgeault whom she has been a student of for over a decade. Heather weaves her Masters in Marital & Family Therapy and training in Somatic Experiencing\, Organic Intelligence & Spiritual Direction into her teaching and guidance in various Wisdom practices\, all in service of waking up and putting on the Mind of Christ. Find out more at heatherruce.com. \nJoy Andrews Hayter\, Ph.D. is a spiritual director whose offerings include Centering Prayer and other contemplative practices of the Christian Wisdom tradition. These practices encourage us to lean into the Love that is constantly being offered within a relational web of Sacred Unity. As a scientist she sees in the physical world an expression of that love. She is the author of The Cosmic Web: Hope For Our World Through Spirituality and Science\, with foreword by Cynthia Bourgeault. You can find out more about her at joyfulfillment.com. \nCatherine Regan\, Ph.D. is a spiritual director\, retired psychologist\, and longtime adjunct program staff member at Mercy Center\, at this time serving on the Centering Prayer/Wisdom Practices team. She also offers online and in-person retreat days. She is committed to fostering our reclaiming the Wisdom at the heart of the Christian Tradition and the contemplative practices so urgently needed at this time in our world.
URL:https://www.contemplativeoutreach.org/event/centering-prayer-and-three-centered-knowing-a-silent-centering-prayer-wisdom-retreat-2/
LOCATION:Mercy Center Burlingame\, 2300 Adeline Drive\, Burlingame\, CA\, 94010\, United States
CATEGORIES:Retreat
ATTACH;FMTTYPE=image/png:https://www.contemplativeoutreach.org/wp-content/uploads/2025/01/RETREAT-HEADERS-2025-01-09T100848.457-e1736538401657.png
ORGANIZER;CN="Cristina Esguerra":MAILTO:registration@mercywmw.org
END:VEVENT
BEGIN:VEVENT
DTSTART;TZID=Europe/Amsterdam:20250208T093000
DTEND;TZID=Europe/Amsterdam:20250208T123000
DTSTAMP:20260421T090915
CREATED:20241111T192750Z
LAST-MODIFIED:20241111T192915Z
UID:149820-1739007000-1739017800@www.contemplativeoutreach.org
SUMMARY:Centering Prayer Introductory Workshop - via Zoom
DESCRIPTION:Are you seeking a path to explore or strengthen your inner connection with God at the centre of your being? \nCentering Prayer is a practice that leads to contemplation by opening oneself to God’s love\, healing\, and inner goodness; moreover\, it nurtures the soul’s desire to grow in kindness and compassion towards all. \nThe online workshop offers a glimpse into this practice through short inputs on the method of Centering Prayer\, along with times of silent practice together. \nYou are most welcome\, whether you are a beginner or simply desire to refresh your practice. \nPresenter: Sr. Maria José Rebelo\, SSpS \nPlease see the link below to register.
URL:https://www.contemplativeoutreach.org/event/centering-prayer-introductory-workshop-via-zoom-3/
LOCATION:Internet – Online
CATEGORIES:Workshop
ATTACH;FMTTYPE=image/jpeg:https://www.contemplativeoutreach.org/wp-content/uploads/2024/11/Photo-1-e1731353017219.jpg
ORGANIZER;CN="Sr. Maria Jose Rebelo%2C SSpS":MAILTO:silence.contemplation.steyl@ssps.de
END:VEVENT
BEGIN:VEVENT
DTSTART;TZID=UTC:20250213T150000
DTEND;TZID=UTC:20250216T133000
DTSTAMP:20260421T090915
CREATED:20240612T165907Z
LAST-MODIFIED:20240612T165907Z
UID:145328-1739458800-1739712600@www.contemplativeoutreach.org
SUMMARY:The Way of Love: An Interspiritual Convergence
DESCRIPTION:Each of the Abrahamic traditions—Judaism\, Christianity\, and Islam—has at its core a commitment to step onto the Path of Love. When we delve deep into our diverse spiritual practices\, it shows us hints of our true identity and glimpses into Unity consciousness. \nThis retreat will explore the Way of Love woven through the mystical heart of these three great religions\, engaging practices and elements of vision from each tradition. We’ll open to an interspiritual dialogue between traditions grounded at the experience level. \nPlease see the link below for more information and to register.
URL:https://www.contemplativeoutreach.org/event/the-way-of-love-an-interspiritual-convergence/
LOCATION:Holy Family Passionist Retreat Center\, 303 Tunxis Road\, West Hartford\, CT\, 6107\, United States
CATEGORIES:Retreat
ATTACH;FMTTYPE=image/png:https://www.contemplativeoutreach.org/wp-content/uploads/2024/06/CCE-Way-of-Love.png
ORGANIZER;CN="Mike  Smoolca":MAILTO:msmoolca@hotmail.com
END:VEVENT
BEGIN:VEVENT
DTSTART;TZID=America/Kentucky/Louisville:20250213T160000
DTEND;TZID=America/Kentucky/Louisville:20250216T130000
DTSTAMP:20260421T090915
CREATED:20240822T185434Z
LAST-MODIFIED:20240822T185434Z
UID:147103-1739462400-1739710800@www.contemplativeoutreach.org
SUMMARY:Centering Prayer Weekend Retreat
DESCRIPTION:An opportunity to deepen the practice of Centering Prayer and Lectio Divina in an atmosphere of silence and solitude within community. \nThe cost of this retreat has been lowered by $100 per participant due to a grant from the Contemplative Outreach Divine Economy Fund. The fund is dedicated to making Fr. Thomas Keating’s teachings in retreats accessible to Centering Prayer practitioners. \nGo to the link below and scroll down for link to flyer for more information and to register.
URL:https://www.contemplativeoutreach.org/event/centering-prayer-weekend-retreat-25/
LOCATION:Knobs Haven Retreat Center\, 515 Nerinx Road\, Nerinx\, KY\, 40049\, United States
CATEGORIES:Retreat
ORGANIZER;CN="CO of Louisville":MAILTO:sksallen13@gmail.com
END:VEVENT
BEGIN:VEVENT
DTSTART;TZID=UTC:20250214T170000
DTEND;TZID=UTC:20250216T130000
DTSTAMP:20260421T090915
CREATED:20240815T203955Z
LAST-MODIFIED:20250115T163959Z
UID:146927-1739552400-1739710800@www.contemplativeoutreach.org
SUMMARY:Centering Prayer and the Process of Forgiveness
DESCRIPTION:Centering Prayer is a receptive method of silent prayer which deepens our relationship with God\, the Indwelling Presence\, closer than breathing\, closer than thinking\, closer than consciousness itself. The Process of Forgiveness is a practice that brings before God others whom we need to forgive and those from whom we need to ask forgiveness. The silence of Centering Prayer fosters an atmosphere in which such forgiveness is possible to experience. These practices come through Contemplative Outreach whose founder was Thomas Keating. \nGuests can participate in daily Centering Prayer sessions\, Holy Eucharist services and a Meditation in Motion class. Fresh nutritious meals and daily snacks are provided throughout the weekend. Opportunities to enjoy the labyrinth\, the meditation garden\, the Turkey Hollow Trail\, or a simple walk down St. Mary’s Lane\, all while experiencing the gifts of holy silence. \nPlease see the link below for more information and to register.
URL:https://www.contemplativeoutreach.org/event/centering-prayer-and-the-process-of-forgiveness/
LOCATION:St. Mary’s Sewanee: The Ayres Center for Spiritual Development\, 770 St. Mary's Lane\, TN\, 37375\, United States
CATEGORIES:Retreat
ATTACH;FMTTYPE=image/jpeg:https://www.contemplativeoutreach.org/wp-content/uploads/2024/08/StMarys_horizontal.small_-2.jpg
END:VEVENT
BEGIN:VEVENT
DTSTART;TZID=America/New_York:20250214T193000
DTEND;TZID=America/New_York:20250220T130000
DTSTAMP:20260421T090915
CREATED:20250113T204116Z
LAST-MODIFIED:20250113T204116Z
UID:152353-1739561400-1740056400@www.contemplativeoutreach.org
SUMMARY:5 Day Centering Prayer Hybrid Retreat: In-person and via Zoom
DESCRIPTION:This Centering Prayer retreat\, led by Fr. Bill Sheehan\, OMI\, will encourage you to deepen your prayer practice in an atmosphere of silence and solitude within a supportive community of prayer. This deeper level of profound spiritual practice will be aided by several periods of Centering Prayer each day and conferences by Fr. Bill on various topics related to the contemplative journey. \nPlease see the link below to register.
URL:https://www.contemplativeoutreach.org/event/5-day-centering-prayer-hybrid-retreat-in-person-and-via-zoom/
LOCATION:Dominican Retreat and Conference Center\, 1945 Union Street (Route 7)\, Niskayuna\, NY\, 12309\, United States
CATEGORIES:Retreat
ORGANIZER;CN="Sr. Sue Zemgulis%2C OP":MAILTO:suezop@hotmail.com
END:VEVENT
BEGIN:VEVENT
DTSTART;TZID=America/New_York:20250218T140000
DTEND;TZID=America/New_York:20250221T133000
DTSTAMP:20260421T090915
CREATED:20241104T222338Z
LAST-MODIFIED:20241104T222338Z
UID:149680-1739887200-1740144600@www.contemplativeoutreach.org
SUMMARY:Centering Prayer Retreat
DESCRIPTION:This retreat\, offered from Tuesday\, February 18 till Friday\, February 21\, 2025\, at Holy Cross Monastery on the Hudson River in New York State\, offers opportunities for both those new to the Centering Prayer and those who have an established practice. During the retreat\, one will experience integrating contemplation and action through silence\, solitude\, community and the rhythm of this Episcopal Benedictine monastic community’s worship and prayer life. The retreat offers two tracks. For those new to Centering Prayer\, the basic essentials of the method and conceptual background of Centering Prayer will be presented. To those who have an established prayer practice\, more time will be available to foster an ever-deepening level of interior silence and awareness of the presence of God in everyday life. This contemplative retreat welcomes both those new to and those comfortable with silence that have a yearning to rediscover this ancient prayer that prepares us to receive the gift of contemplation. \nCheck-in is from 2:00 to 5:00 p.m. Tuesday. Vespers begin at 5:00. Supper then follows. Orientation begins at 6:45. The retreat concludes with lunch on Friday. (Daily Holy Eucharist is available at 9:00 a.m.). \nCost for the retreat is $470. The retreat fee includes a single room and all meals. Shared single occupancy bathrooms in the hallways. \nIf you have questions about the retreat content please contact retreat leader: Leslee Terpay at co-leslee@comcast.net. \nLeslee Anne Terpay: As a Contemplative Outreach commissioned presenter of Centering Prayer and Lectio Divina\, Leslee shares Fr. Thomas Keating’s teachings on the Christian spiritual journey in workshop and retreat settings. She is part of the service team that stewards Fr. Thomas’s teaching for serving Centering Prayer retreats. She is a spiritual director in Lone Tree\, Colorado and a graduate of The Center for Action and Contemplation Living School. \nTo register\, please contact our Guesthouse Office by phone at 845-384-6660\, ext. 3002 or email guesthouse@hcmnet.org.
URL:https://www.contemplativeoutreach.org/event/centering-prayer-retreat-16/
LOCATION:Holy Cross Monastery – New York\, 1615 Route 9W\, West Park\, NY\, 12493\, United States
ATTACH;FMTTYPE=image/jpeg:https://www.contemplativeoutreach.org/wp-content/uploads/2024/11/IMG_4332.jpg
ORGANIZER;CN="Leslee Anne Terpay":MAILTO:co-leslee@comcast.net
END:VEVENT
BEGIN:VEVENT
DTSTART;TZID=UTC:20250222T080000
DTEND;TZID=UTC:20250223T170000
DTSTAMP:20260421T090915
CREATED:20241014T190742Z
LAST-MODIFIED:20250114T215509Z
UID:149000-1740211200-1740330000@www.contemplativeoutreach.org
SUMMARY:Black Contemplative Prayer Virtual Summit
DESCRIPTION:Hosted by Pastor Tia Norman\, friend of Contemplative Outreach and Centering Prayer Facilitator. \nOn February 22-23\, the Black Contemplative Prayer Virtual Summit brings together black spiritual teachers and thought leaders to explore prayer\, activism\, and community. \nIn the contemplative community\, diversity is essential. This summit addresses a critical question that arises in contemplative communities and Centering Prayer groups: “Where are the facilitators and practitioners of color?” \nBy providing a platform for Black contemplative speakers and teachers\, this first of its kind summit will center Black voices offering the wider contemplative community language and tools that may help in our efforts to include\, invite and diversify the conversation on spiritual growth\, transformation and practice. \nWhether you join live or watch the replays later\, this summit is an opportunity you won’t want to miss. \nRegister is open to ALL: https://www.blackcontemplativesummit.com/?via=cythomas\n$125 USD
URL:https://www.contemplativeoutreach.org/event/black-contemplative-prayer-virtual-summit/
LOCATION:Internet – Online
CATEGORIES:Webinar,Workshop
ATTACH;FMTTYPE=image/png:https://www.contemplativeoutreach.org/wp-content/uploads/2024/10/Summit-Overview-e1728932830613.png
ORGANIZER;CN="Colleen Thomas - COL Diversity Outreach Coordinator":MAILTO:colleen@coutreach.org
END:VEVENT
BEGIN:VEVENT
DTSTART;TZID=UTC:20250222T083000
DTEND;TZID=UTC:20250222T163000
DTSTAMP:20260421T090915
CREATED:20240612T170703Z
LAST-MODIFIED:20240612T170703Z
UID:145297-1740213000-1740241800@www.contemplativeoutreach.org
SUMMARY:Spirituality of the Earth: Thomas Berry's Wisdom for an Ecological Age - in person and online
DESCRIPTION:Thomas Berry\, C.P.\, arguably the father of “ecological spirituality\,” anticipated by decades the contemporary turn toward Earth as the living home of incarnate divinity\, exhorting us to awaken to our sacred role within the “New Story” and the “Great Work” in a living community honored and protected as “a communion of subjects\, not a collection of objects.” Come meet Thomas as the Spiritual Master of the Ecological Age. \nThis program will be offered both in-person and online via Zoom. Information on how to access the program on Zoom will be sent to participants in advance. \nThis program will include a morning and an afternoon session of Centering Prayer. \nPlease see the link below.
URL:https://www.contemplativeoutreach.org/event/spirituality-of-the-earth-thomas-berrys-wisdom-for-an-ecological-age-in-person-and-online/
LOCATION:Holy Family Passionist Retreat Center\, 303 Tunxis Road\, West Hartford\, CT\, 6107\, United States
CATEGORIES:Workshop
ATTACH;FMTTYPE=image/png:https://www.contemplativeoutreach.org/wp-content/uploads/2024/06/CCE-Spirituality-of-the-Earth.png
ORGANIZER;CN="Mike  Smoolca":MAILTO:msmoolca@hotmail.com
END:VEVENT
BEGIN:VEVENT
DTSTART;TZID=Europe/Amsterdam:20250228T170000
DTEND;TZID=Europe/Amsterdam:20250302T140000
DTSTAMP:20260421T090915
CREATED:20241111T193541Z
LAST-MODIFIED:20241111T193541Z
UID:149825-1740762000-1740924000@www.contemplativeoutreach.org
SUMMARY:Contemplative weekend for World Peace (IN SILENCE)
DESCRIPTION:“The contemplative life is an imperative necessity\, not only for the religious\, but for people in all walks of life\, for without contemplation\, no person is fully alive\, fully free\, or fully capable of contributing to a peaceful world.”\n– Thomas Merton \nContemplative prayer and world peace are deeply connected in many spiritual traditions. Centering Prayer\, a Christian contemplative practice\, nurtures inner stillness and deepens one’s sense of connection with God\, fostering profound inner peace. \nThis peace inspires individuals to extend kindness\, service\, and compassion to all\, creating communities rooted in understanding and forgiveness and\, thus\, contributing to greater peace in our world. \nThe weekend will include short input sessions and intensive Centering Prayer practice as a group. \nIf you are new to the method of Centering Prayer\, you are encouraged to attend the online introductory workshop on the 08th of February as a preparation for this World Peace event. \nPlease see the link below to register.
URL:https://www.contemplativeoutreach.org/event/contemplative-weekend-for-world-peace-in-silence/
LOCATION:Sacred Heart Monastery\, Missiezusters Klooster\, 20\, Steyl\, Venlo\, 5935 BX\, Netherlands
CATEGORIES:Retreat
ATTACH;FMTTYPE=image/jpeg:https://www.contemplativeoutreach.org/wp-content/uploads/2024/11/Photo-2-scaled-e1731353706534.jpg
ORGANIZER;CN="Sr. Maria Jose Rebelo%2C SSpS":MAILTO:silence.contemplation.steyl@ssps.de
END:VEVENT
END:VCALENDAR