BEGIN:VCALENDAR
VERSION:2.0
PRODID:-//Contemplative Outreach, Ltd. - ECPv6.15.17.1//NONSGML v1.0//EN
CALSCALE:GREGORIAN
METHOD:PUBLISH
X-WR-CALNAME:Contemplative Outreach, Ltd.
X-ORIGINAL-URL:https://www.contemplativeoutreach.org
X-WR-CALDESC:Events for Contemplative Outreach, Ltd.
REFRESH-INTERVAL;VALUE=DURATION:PT1H
X-Robots-Tag:noindex
X-PUBLISHED-TTL:PT1H
BEGIN:VTIMEZONE
TZID:UTC
BEGIN:STANDARD
TZOFFSETFROM:+0000
TZOFFSETTO:+0000
TZNAME:UTC
DTSTART:20240101T000000
END:STANDARD
END:VTIMEZONE
BEGIN:VTIMEZONE
TZID:America/Chicago
BEGIN:DAYLIGHT
TZOFFSETFROM:-0600
TZOFFSETTO:-0500
TZNAME:CDT
DTSTART:20240310T080000
END:DAYLIGHT
BEGIN:STANDARD
TZOFFSETFROM:-0500
TZOFFSETTO:-0600
TZNAME:CST
DTSTART:20241103T070000
END:STANDARD
BEGIN:DAYLIGHT
TZOFFSETFROM:-0600
TZOFFSETTO:-0500
TZNAME:CDT
DTSTART:20250309T080000
END:DAYLIGHT
BEGIN:STANDARD
TZOFFSETFROM:-0500
TZOFFSETTO:-0600
TZNAME:CST
DTSTART:20251102T070000
END:STANDARD
BEGIN:DAYLIGHT
TZOFFSETFROM:-0600
TZOFFSETTO:-0500
TZNAME:CDT
DTSTART:20260308T080000
END:DAYLIGHT
BEGIN:STANDARD
TZOFFSETFROM:-0500
TZOFFSETTO:-0600
TZNAME:CST
DTSTART:20261101T070000
END:STANDARD
END:VTIMEZONE
BEGIN:VTIMEZONE
TZID:America/New_York
BEGIN:DAYLIGHT
TZOFFSETFROM:-0500
TZOFFSETTO:-0400
TZNAME:EDT
DTSTART:20240310T070000
END:DAYLIGHT
BEGIN:STANDARD
TZOFFSETFROM:-0400
TZOFFSETTO:-0500
TZNAME:EST
DTSTART:20241103T060000
END:STANDARD
BEGIN:DAYLIGHT
TZOFFSETFROM:-0500
TZOFFSETTO:-0400
TZNAME:EDT
DTSTART:20250309T070000
END:DAYLIGHT
BEGIN:STANDARD
TZOFFSETFROM:-0400
TZOFFSETTO:-0500
TZNAME:EST
DTSTART:20251102T060000
END:STANDARD
BEGIN:DAYLIGHT
TZOFFSETFROM:-0500
TZOFFSETTO:-0400
TZNAME:EDT
DTSTART:20260308T070000
END:DAYLIGHT
BEGIN:STANDARD
TZOFFSETFROM:-0400
TZOFFSETTO:-0500
TZNAME:EST
DTSTART:20261101T060000
END:STANDARD
END:VTIMEZONE
BEGIN:VTIMEZONE
TZID:America/Halifax
BEGIN:DAYLIGHT
TZOFFSETFROM:-0400
TZOFFSETTO:-0300
TZNAME:ADT
DTSTART:20240310T060000
END:DAYLIGHT
BEGIN:STANDARD
TZOFFSETFROM:-0300
TZOFFSETTO:-0400
TZNAME:AST
DTSTART:20241103T050000
END:STANDARD
BEGIN:DAYLIGHT
TZOFFSETFROM:-0400
TZOFFSETTO:-0300
TZNAME:ADT
DTSTART:20250309T060000
END:DAYLIGHT
BEGIN:STANDARD
TZOFFSETFROM:-0300
TZOFFSETTO:-0400
TZNAME:AST
DTSTART:20251102T050000
END:STANDARD
BEGIN:DAYLIGHT
TZOFFSETFROM:-0400
TZOFFSETTO:-0300
TZNAME:ADT
DTSTART:20260308T060000
END:DAYLIGHT
BEGIN:STANDARD
TZOFFSETFROM:-0300
TZOFFSETTO:-0400
TZNAME:AST
DTSTART:20261101T050000
END:STANDARD
END:VTIMEZONE
BEGIN:VTIMEZONE
TZID:Europe/Amsterdam
BEGIN:DAYLIGHT
TZOFFSETFROM:+0100
TZOFFSETTO:+0200
TZNAME:CEST
DTSTART:20240331T010000
END:DAYLIGHT
BEGIN:STANDARD
TZOFFSETFROM:+0200
TZOFFSETTO:+0100
TZNAME:CET
DTSTART:20241027T010000
END:STANDARD
BEGIN:DAYLIGHT
TZOFFSETFROM:+0100
TZOFFSETTO:+0200
TZNAME:CEST
DTSTART:20250330T010000
END:DAYLIGHT
BEGIN:STANDARD
TZOFFSETFROM:+0200
TZOFFSETTO:+0100
TZNAME:CET
DTSTART:20251026T010000
END:STANDARD
BEGIN:DAYLIGHT
TZOFFSETFROM:+0100
TZOFFSETTO:+0200
TZNAME:CEST
DTSTART:20260329T010000
END:DAYLIGHT
BEGIN:STANDARD
TZOFFSETFROM:+0200
TZOFFSETTO:+0100
TZNAME:CET
DTSTART:20261025T010000
END:STANDARD
END:VTIMEZONE
BEGIN:VEVENT
DTSTART;VALUE=DATE:20250129
DTEND;VALUE=DATE:20250502
DTSTAMP:20260421T024023
CREATED:20250129T211622Z
LAST-MODIFIED:20250129T212436Z
UID:152758-1738108800-1746143999@www.contemplativeoutreach.org
SUMMARY:Certificate in Contemplative Spiritual Direction
DESCRIPTION:The certificate offering is a 2-year formation and training program for persons who discern a call to the ministry of spiritual direction. Applicants will begin Phase I in July 2025. \nCertificate in Contemplative Spiritual Direction features:\n\nContemplative spiritual formation as the foundation\nA 24-month Focused Program with home-based assignments\nA Cohort Model in a hybrid format (online and residential components)\nFacilitated by seasoned practitioners\nA Supervised Practicum (One-on-One/Peer Group) facilitated by trained supervisors\nUse of the Enneagram in Spiritual Direction for Greater Self-awareness and Spiritual Growth\n\nRead more about the program here. It includes emphasis on Centering Prayer (including a five-day retreat)\, Lectio Divina and the teachings of Thomas Keating. \nApplications Due: May 1\, 2025 \nTo complete the application\, you will need to submit the following. \n\nOne current reference\, including name\, phone number\, and email address.\nA PDF or Word document of your responses to the short essay questions\, found below.\nA non-refundable application fee of $75.\n\nFor any questions\, please email lifelonglearning@ctsnet.edu.
URL:https://www.contemplativeoutreach.org/event/certificate-in-contemplative-spiritual-direction/
LOCATION:Columbia Theological Seminary\, 701 South Columbia Drive\, Decatur\, GA\, 30031\, United States
ATTACH;FMTTYPE=image/png:https://www.contemplativeoutreach.org/wp-content/uploads/2025/01/CSD-4-e1738185865595.png
END:VEVENT
BEGIN:VEVENT
DTSTART;VALUE=DATE:20250427
DTEND;VALUE=DATE:20250503
DTSTAMP:20260421T024023
CREATED:20240717T005702Z
LAST-MODIFIED:20240717T005702Z
UID:146130-1745712000-1746230399@www.contemplativeoutreach.org
SUMMARY:Contemplative Outreach of Northern Nevada Silent Retreat 2025
DESCRIPTION:A 5-day silent retreat hosted by Contemplative Outreach of Northern Nevada\nat Zephyr Point\, Lake Tahoe Nevada.  \nThe retreat begins Sunday April 27 and ends Friday May 2\, 2025. Zephyr Point offers private rooms with individual in suite bathrooms. Meals are provided. \nThe silent retreat includes daily Centering Prayer sits and Lectio Divina practice. There is ample time for personal prayer\, reflection\, and reading. \nThe Zephyr Point web address is: https://zephyrpoint.org/
URL:https://www.contemplativeoutreach.org/event/contemplative-outreach-of-northern-nevada-silent-retreat-2025/
LOCATION:Zephry Point Presbyterian Conference Center\, 660 US-50 Box 289\, NV\, 89448\, United States
CATEGORIES:Retreat
ORGANIZER;CN="Contemplative Outreach of Northern Nevada":MAILTO:ms_miskulin@icloud.com
END:VEVENT
BEGIN:VEVENT
DTSTART;TZID=UTC:20250428T140000
DTEND;TZID=UTC:20250502T110000
DTSTAMP:20260421T024023
CREATED:20241226T181420Z
LAST-MODIFIED:20241226T181420Z
UID:151355-1745848800-1746183600@www.contemplativeoutreach.org
SUMMARY:5-Day Intensive Prayer Retreat
DESCRIPTION:This five-day Centering Prayer intensive retreat provides an opportunity to deepen the practice of Centering Prayer in an atmosphere of silence and community support. This retreat follows the Contemplative Outreach guidelines for an intensive retreat including five 30-minute Centering Prayer periods on most days. An established practice of Centering Prayer for at least six months is recommended but not pre-requisite to attend. \nThe retreat begins Monday with check-in from 2:00 to 5:00 pm and concludes the following Friday morning. The retreat fee of $450 includes a single room (with private bath) and meals. We are limiting the number of registrations to 25 including retreat leaders so each has their own room for solitude. The cost of this retreat has been lowered by $200 per participant due to a grant from the Contemplative Outreach Divine Economy Fund. The fund is dedicated to making Fr. Thomas Keating’s teachings in retreats accessible to Centering Prayer practitioners. \nPrince of Peace Benedictine Monastery encompasses 126 acres atop a hill approximately two miles east of the Pacific Ocean. Located in Oceanside\, California\, the monastery offers a serene haven for contemplation and spiritual growth. The grounds include walking paths\, Stations of the Cross\, and prayer chapel. \nThe monastery will be serving three meals a day but does not provide special meals. If you have dietary restrictions or preferences you may bring own food to supplement what is served. There is a refrigerator and microwave in the dining room. \nPlease see the link below to register.
URL:https://www.contemplativeoutreach.org/event/5-day-intensive-prayer-retreat/
LOCATION:Prince of Peace Abbey\, 650 Benet Hill Rd.\, CA\, 92058\, United States
CATEGORIES:Retreat
ATTACH;FMTTYPE=image/png:https://www.contemplativeoutreach.org/wp-content/uploads/2024/12/architecture-gallery1.png
ORGANIZER;CN="Contemplative Outreach San Diego":MAILTO:brian.curry77@gmail.com
END:VEVENT
BEGIN:VEVENT
DTSTART;TZID=UTC:20250429T170000
DTEND;TZID=UTC:20250502T120000
DTSTAMP:20260421T024023
CREATED:20240625T173837Z
LAST-MODIFIED:20241011T192944Z
UID:145709-1745946000-1746187200@www.contemplativeoutreach.org
SUMMARY:Centering Prayer Presenter Formation Retreat
DESCRIPTION:This retreat\, facilitated by the Contemplative Outreach Presenter Formation Service Team\, will offer participants an opportunity to be formed as Commissioned Presenters of the Centering Prayer Introductory Workshop. Working with a notebook of materials\, each participant will have ample opportunity to learn the content of the Introductory Workshop and to practice presenting the content to others\, with supportive feedback and guidance. \nAll participants must complete an application prior to registration for this event. To receive an application please contact Rob Carr robcarr924@gmail.com. \nThose individuals with approved applications will receive a link to the Sophia Center for registration. \nRegistration is $400.00 which includes three nights lodging\, all meals and materials. \nSpace is limited. \n 
URL:https://www.contemplativeoutreach.org/event/centering-prayer-presenter-formation-retreat/
LOCATION:Sophia Center\, Atchinson KS\, 751 S 8th St\, Atchison\,KS\, KS\, United States
CATEGORIES:Training
ORGANIZER;CN="Contemplative Outreach Kansas City":MAILTO:robcarr924@gmail.com
END:VEVENT
BEGIN:VEVENT
DTSTART;TZID=America/Chicago:20250503T100000
DTEND;TZID=America/Chicago:20250503T130000
DTSTAMP:20260421T024023
CREATED:20250219T175449Z
LAST-MODIFIED:20250219T205841Z
UID:153172-1746266400-1746277200@www.contemplativeoutreach.org
SUMMARY:An Ancient Flowing Stream – via Zoom
DESCRIPTION:This workshop presents how African origins\, heritage\, culture and music power the Christian contemplative spirit. Combining the wisdom and talents of the Very Reverend Michael Battle\, Ph.D. and Julian Davis Reid\, M.Div.\, this creative workshop will use storytelling\, music\, art\, and poetry to bring alive the many contributions to contemplative life that flow from Africa and the Black experience. \nPlease see the link below to register.
URL:https://www.contemplativeoutreach.org/event/an-ancient-flowing-stream-via-zoom/
LOCATION:Internet – Online
CATEGORIES:Webinar,Workshop
ATTACH;FMTTYPE=image/png:https://www.contemplativeoutreach.org/wp-content/uploads/2025/02/River-Flowing-e1739987604303.png
ORGANIZER;CN="Contemplative Outreach Chicago":MAILTO:registrar@centeringprayerchicago.org
END:VEVENT
BEGIN:VEVENT
DTSTART;VALUE=DATE:20250504
DTEND;VALUE=DATE:20250510
DTSTAMP:20260421T024023
CREATED:20240604T183944Z
LAST-MODIFIED:20240604T183944Z
UID:145083-1746316800-1746835199@www.contemplativeoutreach.org
SUMMARY:6-Day Intensive and Post-Intensive Centering Prayer Retreat
DESCRIPTION:This retreat offers two tracks simultaneously: intensive and post-intensive. Everyone attending will share three sets of two 30-minute periods of Centering Prayer\, daily. The intensive retreat will watch and discuss video talks from Fr. Thomas Keating’s The Spiritual Journey. Instead of videos\, the post-intensive retreat includes an additional hour of Centering Prayer each day. You choose the track that works best for you. Lectio Divina will be offered daily\, as well as optional soul-friending with the staff. Silence is maintained throughout the retreat. \nRetreat led by: Fr. Bill Sheehan\, O.M.I.\, and Susan Turpin \nPlease see the link below to register.
URL:https://www.contemplativeoutreach.org/event/6-day-intensive-and-post-intensive-centering-prayer-retreat/
LOCATION:Holy Family Passionist Retreat Center\, 303 Tunxis Road\, West Hartford\, CT\, 6107\, United States
CATEGORIES:Retreat
ATTACH;FMTTYPE=image/png:https://www.contemplativeoutreach.org/wp-content/uploads/2024/06/CCE-6-day-intensive.png
ORGANIZER;CN="Mike  Smoolca":MAILTO:msmoolca@hotmail.com
END:VEVENT
BEGIN:VEVENT
DTSTART;TZID=America/New_York:20250513T140000
DTEND;TZID=America/New_York:20250519T100000
DTSTAMP:20260421T024023
CREATED:20241104T222036Z
LAST-MODIFIED:20250314T181758Z
UID:149685-1747144800-1747648800@www.contemplativeoutreach.org
SUMMARY:Seven-Day Centering Prayer Dual Track Intensive/Post Intensive Retreat
DESCRIPTION:The seven-day Centering Prayer dual-track intensive/post intensive retreat offered from Monday\, May 13 to Sunday\, May 19\, 2025\, provides an opportunity to deepen the practice of Centering Prayer in an atmosphere of profound silence and community support. The intensive track will follow the Contemplative Outreach guidelines for an intensive retreat including six 30-minute Centering Prayer periods daily plus viewing and faith sharing on Thomas Keating’s human condition teachings. The post intensive track provides an additional 30 minutes of Centering Prayer with time for daily solitude. \nRetreat leaders: Leslee Anne Terpay and Br. Bernard Delcourt are available for soul-friending. During the retreat\, one will experience integrating as one wishes contemplation and action through silence\, solitude\, community and the rhythm of this Episcopal Benedictine monastic community’s worship and prayer life including daily Holy Eucharist. An established practice of Centering Prayer for at least 6-months is highly recommended. \nTuesday check-in is from 2:00 to 5:00 p.m. Supper is at 5:45 pm. Orientation begins at 6:45 pm. The retreat concludes with breakfast on the last day with optional attendance at Holy Eucharist. \nCost for the retreat is $990. The retreat fee includes a single room and all meals. Shared single occupancy bathrooms in the hallways. \nIf you have questions about the retreat content or which track is best for you\, please contact retreat leader: Leslee Terpay at co-leslee@comcast.net. \nLeslee Anne Terpay: As a Contemplative Outreach commissioned presenter of Centering Prayer and Lectio Divina\, Leslee shares Fr. Thomas Keating’s teachings on the Christian spiritual journey in workshop and retreat settings. She is part of the service team that stewards Fr. Thomas’s teaching for serving Centering Prayer retreats. She is a spiritual director in Lone Tree\, Colorado and a graduate of The Center for Action and Contemplation Living School. \nBr. Bernard Delcourt is the Director of Associates of the monastery. Br. Bernard is a Contemplative Outreach commissioned presenter. He has been a monk since 2004. Before becoming a monk\, he was an investment banker and then a life and business skills coach. He is also a spiritual director and regularly visits seminarians in New Haven to offer them spiritual direction. \nTo register\, please contact the Guesthouse Office by phone at 845-384-6660\, ext. 3002 or email guesthouse@hcmnet.org.\nThis retreat is full. You can be added to the wait list by contacting the Guesthouse Office.
URL:https://www.contemplativeoutreach.org/event/seven-day-centering-prayer-dual-track-intensive-post-intensive-retreat/
LOCATION:Holy Cross Monastery – New York\, 1615 Route 9W\, West Park\, NY\, 12493\, United States
CATEGORIES:Retreat
ATTACH;FMTTYPE=image/jpeg:https://www.contemplativeoutreach.org/wp-content/uploads/2024/11/IMG_3751-PANO-e1730758813421.jpg
ORGANIZER;CN="Leslee Anne Terpay":MAILTO:co-leslee@comcast.net
END:VEVENT
BEGIN:VEVENT
DTSTART;TZID=UTC:20250517T083000
DTEND;TZID=UTC:20250517T163000
DTSTAMP:20260421T024023
CREATED:20240612T170309Z
LAST-MODIFIED:20240612T170309Z
UID:145316-1747470600-1747499400@www.contemplativeoutreach.org
SUMMARY:The Enneagram and Eco-Spirituality: Self-Awareness and Contemplation Through a Nature-Based Lens - in person and online
DESCRIPTION:This workshop focuses on the integration of the Enneagram and Eco-Spirituality. Eco-Spirituality recognizes the sacredness of all life on Earth\, as well as the inherent “wildness” of the human soul. The Enneagram is a set of teachings that show us how to be present to our life and free ourselves from self-defeating habits and patterns. The intersection of the two helps us stop “self-defeating” when it comes to our relationship with the Earth and embrace our potential as a truly life-enhancing force on this planet. \nThis program will be offered both in-person and online via Zoom. Information on how to access the program on Zoom will be sent to participants in advance. \nThis program will include a morning and an afternoon session of Centering Prayer. \nPlease see the link below to register.
URL:https://www.contemplativeoutreach.org/event/the-enneagram-and-eco-spirituality-self-awareness-and-contemplation-through-a-nature-based-lens-in-person-and-online/
LOCATION:Holy Family Passionist Retreat Center\, 303 Tunxis Road\, West Hartford\, CT\, 6107\, United States
CATEGORIES:Workshop
ATTACH;FMTTYPE=image/png:https://www.contemplativeoutreach.org/wp-content/uploads/2024/06/CCE-Enneagram-and-Eco-Spirituality.png
ORGANIZER;CN="Mike  Smoolca":MAILTO:msmoolca@hotmail.com
END:VEVENT
BEGIN:VEVENT
DTSTART;TZID=America/Halifax:20250524T090000
DTEND;TZID=America/Halifax:20250524T120000
DTSTAMP:20260421T024023
CREATED:20250430T160718Z
LAST-MODIFIED:20250430T160718Z
UID:155089-1748077200-1748088000@www.contemplativeoutreach.org
SUMMARY:The Transformative Practice of Humility
DESCRIPTION:“When there is no more sense of an “I” (ego)\, the great I AM takes over our lives.”\n– Fr. Thomas Keating\, Reflections on the Unknowable \nWhat is humility? And how do we practice it? What role does humility play in Centering Prayer and transformation? \nWith Fr. Thomas Keatings’ Reflections on the Unknowable and Philippians 2 as our guides\, together we will explore the transformative practice of humility. \nThrough Centering Prayer\, Lectio Divina\, and faith-sharing\, we will reflect on humility as a practice. This workshop will challenge common misconceptions about humility and expand our awareness of humility as a pathway to transforming union with God. \nMeet Colleen Thomas \nA spiritual director and long-time practitioner of Centering Prayer\, Colleen Thomas delights in companioning others on their spiritual journey. Trained in the monastic arts of discernment\, spiritual companionship\, and retreat leadership\, she leads contemplative prayer groups\, workshops\, and retreats. She serves as the Diversity Outreach Coordinator for Contemplative Outreach and as a Program Director for Stillpoint: A Center for Christian Spirituality. Her particular passion is aimed at expanding contemplative practice and teaching younger and BIPOC communities. \nColleen earned her MA in Theology and Art from Fuller Theological Seminary. She worked in television in Los Angeles for 15 years before relocating to her hometown of Washington D.C.\, where she continues to explore her creative passions while enjoying the close companionship of her family. You can hear her in conversation about Centering Prayer and the contemplative life on the Opening Minds\, Opening Hearts podcast. \nPlease register using the link below.
URL:https://www.contemplativeoutreach.org/event/the-transformative-practice-of-humility/
LOCATION:Cathedral of St. Matthew the Apostle\, 1725 Rhode Island Ave NW\, Washington\, D.C.\, 20036
CATEGORIES:Retreat
ATTACH;FMTTYPE=image/jpeg:https://www.contemplativeoutreach.org/wp-content/uploads/2025/04/fog-4479936_1920-e1746029187208.jpg
ORGANIZER;CN="Contemplative Outreach of Maryland and Washington %EF%BB%BF(COMW)":MAILTO:info@ContemplativeOutreachofMarylandandWashington.org
END:VEVENT
BEGIN:VEVENT
DTSTART;TZID=Europe/Amsterdam:20250526T170000
DTEND;TZID=Europe/Amsterdam:20250601T140000
DTSTAMP:20260421T024023
CREATED:20241111T193946Z
LAST-MODIFIED:20241111T193946Z
UID:149831-1748278800-1748786400@www.contemplativeoutreach.org
SUMMARY:6-Day Contemplative Retreat
DESCRIPTION:“So\, I came to the graced realization that I could\, in the midst of my life in the world\, cultivate a contemplative culture in my heart by renewing my fidelity to a daily quiet time in which I could learn from God how to love and be loved by God.”\n– James Finley \nThrough the practice of Centering Prayer\, one embraces the process of transformation in oneself and in others. By persisting in this practice\, a compassionate way of seeing and acting has space to emerge\, and the soul’s innate sense of awe and wonder at creation can be nurtured. \nThe retreat includes input sessions (twice daily) on silence and contemplation\, Centering Prayer method\, and the path of transformation; several periods of guided Centering Prayer daily; soul companionship if desired; personal time for reflection and journaling. \nRequirement: To have attended at least one weekend retreat in silence and have a regular practice of Centering Prayer. \nPlease see the link below to register.
URL:https://www.contemplativeoutreach.org/event/6-day-contemplative-retreat/
LOCATION:Sacred Heart Monastery\, Missiezusters Klooster\, 20\, Steyl\, Venlo\, 5935 BX\, Netherlands
CATEGORIES:Retreat
ATTACH;FMTTYPE=image/jpeg:https://www.contemplativeoutreach.org/wp-content/uploads/2024/11/Photo-3-scaled-e1731353885760.jpg
ORGANIZER;CN="Sr. Maria Jose Rebelo%2C SSpS":MAILTO:silence.contemplation.steyl@ssps.de
END:VEVENT
BEGIN:VEVENT
DTSTART;TZID=UTC:20250527T173000
DTEND;TZID=UTC:20250603T120000
DTSTAMP:20260421T024023
CREATED:20250403T192739Z
LAST-MODIFIED:20250403T192739Z
UID:154595-1748367000-1748952000@www.contemplativeoutreach.org
SUMMARY:Directed Silent Retreat
DESCRIPTION:with the topic Heartfulness Transformation in Christ – with Thomas Keating and Betty Sue Flowers. \nSpiritual direction or spiritual companionship is a process guided by the Holy Spirit in which two people enter into a unique conversation. The spiritual director or guide is trained to listen in a particular way to hear where God is present and acting in the life of another. This “holy listening” approaches each person’s life and story as sacred. \nFacilitated by David Roncolato\, Mary Ann Nicholls and Sr. Ruth Ann Madera . \nFor more information about the facilitators and the retreat\, go here. \n 
URL:https://www.contemplativeoutreach.org/event/directed-silent-retreat/
LOCATION:Bethany Retreat Center\, 1031 Germania Rd\, Frenchville\, PA\, 16836\, United States
CATEGORIES:Retreat
ORGANIZER;CN="Sr. Ruth Ann Madera":MAILTO:lisam@anawimministries.org
END:VEVENT
BEGIN:VEVENT
DTSTART;TZID=America/Chicago:20250530T190000
DTEND;TZID=America/Chicago:20250531T120000
DTSTAMP:20260421T024023
CREATED:20250523T163019Z
LAST-MODIFIED:20250523T163052Z
UID:155549-1748631600-1748692800@www.contemplativeoutreach.org
SUMMARY:Welcoming Prayer Workshop - via Zoom
DESCRIPTION:The Welcoming Prayer is an incarnational method of consenting to God’s presence and action in our physical and emotional reactions to people and events in daily life. This “consent-on-the-go” embodied practice deepens our relationship with God as we move through the ordinary activities of our day\, helping us to stay in the presence of God and the present moment. \nThis online workshop will cover the human condition and the basics of the practice. There will be guided practice sessions as well as time in Centering Prayer. \nThis enrichment will be held online Friday from 7:00-8:30pm Central Daylight Time (CDT)\, resuming Saturday from 9:00am-noon CDT. It will be led by Pamela Begeman and LeAnn Billups. \nPlease see the link below to register and receive the Zoom link.
URL:https://www.contemplativeoutreach.org/event/welcoming-prayer-workshop-via-zoom-2/
LOCATION:Internet – Online
CATEGORIES:Workshop
ORGANIZER;CN="The Church of Conscious Harmony":MAILTO:officemgr@consciousharmony.org
END:VEVENT
END:VCALENDAR