BEGIN:VCALENDAR
VERSION:2.0
PRODID:-//Contemplative Outreach, Ltd. - ECPv6.15.17.1//NONSGML v1.0//EN
CALSCALE:GREGORIAN
METHOD:PUBLISH
X-WR-CALNAME:Contemplative Outreach, Ltd.
X-ORIGINAL-URL:https://www.contemplativeoutreach.org
X-WR-CALDESC:Events for Contemplative Outreach, Ltd.
REFRESH-INTERVAL;VALUE=DURATION:PT1H
X-Robots-Tag:noindex
X-PUBLISHED-TTL:PT1H
BEGIN:VTIMEZONE
TZID:America/Chicago
BEGIN:DAYLIGHT
TZOFFSETFROM:-0600
TZOFFSETTO:-0500
TZNAME:CDT
DTSTART:20240310T080000
END:DAYLIGHT
BEGIN:STANDARD
TZOFFSETFROM:-0500
TZOFFSETTO:-0600
TZNAME:CST
DTSTART:20241103T070000
END:STANDARD
BEGIN:DAYLIGHT
TZOFFSETFROM:-0600
TZOFFSETTO:-0500
TZNAME:CDT
DTSTART:20250309T080000
END:DAYLIGHT
BEGIN:STANDARD
TZOFFSETFROM:-0500
TZOFFSETTO:-0600
TZNAME:CST
DTSTART:20251102T070000
END:STANDARD
BEGIN:DAYLIGHT
TZOFFSETFROM:-0600
TZOFFSETTO:-0500
TZNAME:CDT
DTSTART:20260308T080000
END:DAYLIGHT
BEGIN:STANDARD
TZOFFSETFROM:-0500
TZOFFSETTO:-0600
TZNAME:CST
DTSTART:20261101T070000
END:STANDARD
END:VTIMEZONE
BEGIN:VTIMEZONE
TZID:UTC
BEGIN:STANDARD
TZOFFSETFROM:+0000
TZOFFSETTO:+0000
TZNAME:UTC
DTSTART:20240101T000000
END:STANDARD
END:VTIMEZONE
BEGIN:VTIMEZONE
TZID:America/Chicago
BEGIN:DAYLIGHT
TZOFFSETFROM:-0600
TZOFFSETTO:-0500
TZNAME:CDT
DTSTART:20240310T080000
END:DAYLIGHT
BEGIN:STANDARD
TZOFFSETFROM:-0500
TZOFFSETTO:-0600
TZNAME:CST
DTSTART:20241103T070000
END:STANDARD
BEGIN:DAYLIGHT
TZOFFSETFROM:-0600
TZOFFSETTO:-0500
TZNAME:CDT
DTSTART:20250309T080000
END:DAYLIGHT
BEGIN:STANDARD
TZOFFSETFROM:-0500
TZOFFSETTO:-0600
TZNAME:CST
DTSTART:20251102T070000
END:STANDARD
BEGIN:DAYLIGHT
TZOFFSETFROM:-0600
TZOFFSETTO:-0500
TZNAME:CDT
DTSTART:20260308T080000
END:DAYLIGHT
BEGIN:STANDARD
TZOFFSETFROM:-0500
TZOFFSETTO:-0600
TZNAME:CST
DTSTART:20261101T070000
END:STANDARD
END:VTIMEZONE
BEGIN:VEVENT
DTSTART;TZID=America/Chicago:20250718T150000
DTEND;TZID=America/Chicago:20250721T120000
DTSTAMP:20260420T232605
CREATED:20250108T171852Z
LAST-MODIFIED:20250116T220928Z
UID:152046-1752850800-1753099200@www.contemplativeoutreach.org
SUMMARY:OPENING TO THE UNIVERSAL CHRIST: THE INTER-SPIRITUAL INVITATION OF CENTERING PRAYER
DESCRIPTION:Howard Thurman wrote: “In the Presence of God there is neither male nor female\, white nor black\, Gentile nor Jew\, Protestant nor Catholic\, Hindu\, Buddhist\, nor Muslim\, but a human spirit stripped to the literal substance of itself before God.” \nAre you looking for a break from the busyness of life to rest in stillness and to reconnect with yourself? Are you longing to step away from the distractions of everyday life and nourish your spiritual center? Join this summer’s retreat to get away from the norm and reconnect with your true self and God alive within you. \nThis retreat focuses on Centering Prayer as a path back to the “original religious experience.” Centering Prayer with practice may brings us to the immediate experience of God\, the Divine Mystery\, lovingly present within. \nContemplatives of all great traditions speak the same silent language\, practicing silence in deep prayer and meditation. We explore how contemplation leads us toward greater unity among people with different belief systems and returns us to the original spiritual experience. \nHighlights of the Retreat: \n\nGod as the Ground of Being: Explore God as the very foundation of existence and our direct experience of the Divine.\nReturn to the Original Spiritual Experience: Discover how contemplative prayer brings us back to the primal encounter with the Divine Mystery.\nInterconnection of Religion\, Spirituality\, and Mysticism: Explore the relationship between these aspects and how they unite us beyond belief systems\n\nJoin this silent retreat to deepen your understanding and practice of Centering Prayer\, reconnecting with the Divine Mystery at the heart of all religious experiences. \nLed by Keith Kristich\, founder of Closer Than Breath community. \nLearn more and get tickets for this retreat here. \nEarly Bird pricing until February 14\, 2025 ranging from $437 for double occupancy options to $500 for single occupancy options.
URL:https://www.contemplativeoutreach.org/event/opening-to-the-universal-christ-the-inter-spiritual-invitation-of-centering-prayer/
LOCATION:Mercy Conference and Retreat Center\, 2039 N. Geyer Road\, St. Louis\, MO\, 63131\, United States
CATEGORIES:Retreat
ATTACH;FMTTYPE=image/png:https://www.contemplativeoutreach.org/wp-content/uploads/2025/01/image-2025-retreat.png
ORGANIZER;CN="Contemplative Outreach of St. Louis.":MAILTO:cost.louisinformation@gmail.com
END:VEVENT
BEGIN:VEVENT
DTSTART;TZID=UTC:20250720T130000
DTEND;TZID=UTC:20250720T180000
DTSTAMP:20260420T232605
CREATED:20250609T232233Z
LAST-MODIFIED:20250609T232233Z
UID:155832-1753016400-1753034400@www.contemplativeoutreach.org
SUMMARY:Introduction to Centering Prayer Workshop
DESCRIPTION:This workshop at Ignatius House\, Atlanta\, GA.\, includes themes of prayer as relationship\, the method of Centering Prayer\, thoughts and use of the sacred word\, and deepening our relationship with God. \nPlease register using the link below.
URL:https://www.contemplativeoutreach.org/event/introduction-to-centering-prayer-workshop-39/
LOCATION:Ignatius Jesuit Retreat House\, 6700 Riverside Dr. NW\, GA\, 30328\, United States
CATEGORIES:Workshop
ORGANIZER;CN="Contemplative Outreach Atlanta":MAILTO:coatlantageorgia@gmail.com
END:VEVENT
BEGIN:VEVENT
DTSTART;TZID=America/Chicago:20250727T140000
DTEND;TZID=America/Chicago:20250802T130000
DTSTAMP:20260420T232605
CREATED:20250515T195928Z
LAST-MODIFIED:20250515T195928Z
UID:155360-1753624800-1754139600@www.contemplativeoutreach.org
SUMMARY:Seven-Day Centering Prayer Dual Track Intensive/Post Intensive Retreat
DESCRIPTION:This retreat offers two tracks simultaneously: Intensive I and Post-Intensive. For everyone there will be three sets of two 30 minute periods of Centering Prayer daily. \nThe Intensive Retreat provides an opportunity to deepen the practice of Centering Prayer in an atmosphere of profound silence and community support. Centering Prayer is supported with viewing a selection of the Spiritual Journey video series by Fr. Thomas Keating followed by discussion. \nThe Post-Intensive Retreat has no videos and an additional hour of Centering Prayer daily. Throughout the retreat\, we will be in silence. \nLectio Divina will be offered daily. Soul friending with the retreat guides can be scheduled for both tracks. \nRetreat Guides: JoAnne and Bill McElroy \nPlease see the flyer via the link below for more information and registration information.
URL:https://www.contemplativeoutreach.org/event/seven-day-centering-prayer-dual-track-intensive-post-intensive-retreat-2/
LOCATION:Siena Retreat Center\, Racine WI\, 5637 Erie St\, Racine\, WI 53402\, Racine\, WI\, 53402\, United States
CATEGORIES:Retreat
ORGANIZER;CN="Charles Welsh":MAILTO:welshce@gmail.com
END:VEVENT
END:VCALENDAR