BEGIN:VCALENDAR
VERSION:2.0
PRODID:-//Contemplative Outreach, Ltd. - ECPv6.15.17.1//NONSGML v1.0//EN
CALSCALE:GREGORIAN
METHOD:PUBLISH
X-WR-CALNAME:Contemplative Outreach, Ltd.
X-ORIGINAL-URL:https://www.contemplativeoutreach.org
X-WR-CALDESC:Events for Contemplative Outreach, Ltd.
REFRESH-INTERVAL;VALUE=DURATION:PT1H
X-Robots-Tag:noindex
X-PUBLISHED-TTL:PT1H
BEGIN:VTIMEZONE
TZID:UTC
BEGIN:STANDARD
TZOFFSETFROM:+0000
TZOFFSETTO:+0000
TZNAME:UTC
DTSTART:20240101T000000
END:STANDARD
END:VTIMEZONE
BEGIN:VTIMEZONE
TZID:Europe/Amsterdam
BEGIN:DAYLIGHT
TZOFFSETFROM:+0100
TZOFFSETTO:+0200
TZNAME:CEST
DTSTART:20240331T010000
END:DAYLIGHT
BEGIN:STANDARD
TZOFFSETFROM:+0200
TZOFFSETTO:+0100
TZNAME:CET
DTSTART:20241027T010000
END:STANDARD
BEGIN:DAYLIGHT
TZOFFSETFROM:+0100
TZOFFSETTO:+0200
TZNAME:CEST
DTSTART:20250330T010000
END:DAYLIGHT
BEGIN:STANDARD
TZOFFSETFROM:+0200
TZOFFSETTO:+0100
TZNAME:CET
DTSTART:20251026T010000
END:STANDARD
BEGIN:DAYLIGHT
TZOFFSETFROM:+0100
TZOFFSETTO:+0200
TZNAME:CEST
DTSTART:20260329T010000
END:DAYLIGHT
BEGIN:STANDARD
TZOFFSETFROM:+0200
TZOFFSETTO:+0100
TZNAME:CET
DTSTART:20261025T010000
END:STANDARD
END:VTIMEZONE
BEGIN:VTIMEZONE
TZID:America/Los_Angeles
BEGIN:DAYLIGHT
TZOFFSETFROM:-0800
TZOFFSETTO:-0700
TZNAME:PDT
DTSTART:20240310T100000
END:DAYLIGHT
BEGIN:STANDARD
TZOFFSETFROM:-0700
TZOFFSETTO:-0800
TZNAME:PST
DTSTART:20241103T090000
END:STANDARD
BEGIN:DAYLIGHT
TZOFFSETFROM:-0800
TZOFFSETTO:-0700
TZNAME:PDT
DTSTART:20250309T100000
END:DAYLIGHT
BEGIN:STANDARD
TZOFFSETFROM:-0700
TZOFFSETTO:-0800
TZNAME:PST
DTSTART:20251102T090000
END:STANDARD
BEGIN:DAYLIGHT
TZOFFSETFROM:-0800
TZOFFSETTO:-0700
TZNAME:PDT
DTSTART:20260308T100000
END:DAYLIGHT
BEGIN:STANDARD
TZOFFSETFROM:-0700
TZOFFSETTO:-0800
TZNAME:PST
DTSTART:20261101T090000
END:STANDARD
END:VTIMEZONE
BEGIN:VTIMEZONE
TZID:America/Denver
BEGIN:DAYLIGHT
TZOFFSETFROM:-0700
TZOFFSETTO:-0600
TZNAME:MDT
DTSTART:20240310T090000
END:DAYLIGHT
BEGIN:STANDARD
TZOFFSETFROM:-0600
TZOFFSETTO:-0700
TZNAME:MST
DTSTART:20241103T080000
END:STANDARD
BEGIN:DAYLIGHT
TZOFFSETFROM:-0700
TZOFFSETTO:-0600
TZNAME:MDT
DTSTART:20250309T090000
END:DAYLIGHT
BEGIN:STANDARD
TZOFFSETFROM:-0600
TZOFFSETTO:-0700
TZNAME:MST
DTSTART:20251102T080000
END:STANDARD
BEGIN:DAYLIGHT
TZOFFSETFROM:-0700
TZOFFSETTO:-0600
TZNAME:MDT
DTSTART:20260308T090000
END:DAYLIGHT
BEGIN:STANDARD
TZOFFSETFROM:-0600
TZOFFSETTO:-0700
TZNAME:MST
DTSTART:20261101T080000
END:STANDARD
END:VTIMEZONE
BEGIN:VTIMEZONE
TZID:Asia/Krasnoyarsk
BEGIN:STANDARD
TZOFFSETFROM:+0700
TZOFFSETTO:+0700
TZNAME:+07
DTSTART:20240101T000000
END:STANDARD
END:VTIMEZONE
BEGIN:VTIMEZONE
TZID:America/New_York
BEGIN:DAYLIGHT
TZOFFSETFROM:-0500
TZOFFSETTO:-0400
TZNAME:EDT
DTSTART:20240310T070000
END:DAYLIGHT
BEGIN:STANDARD
TZOFFSETFROM:-0400
TZOFFSETTO:-0500
TZNAME:EST
DTSTART:20241103T060000
END:STANDARD
BEGIN:DAYLIGHT
TZOFFSETFROM:-0500
TZOFFSETTO:-0400
TZNAME:EDT
DTSTART:20250309T070000
END:DAYLIGHT
BEGIN:STANDARD
TZOFFSETFROM:-0400
TZOFFSETTO:-0500
TZNAME:EST
DTSTART:20251102T060000
END:STANDARD
BEGIN:DAYLIGHT
TZOFFSETFROM:-0500
TZOFFSETTO:-0400
TZNAME:EDT
DTSTART:20260308T070000
END:DAYLIGHT
BEGIN:STANDARD
TZOFFSETFROM:-0400
TZOFFSETTO:-0500
TZNAME:EST
DTSTART:20261101T060000
END:STANDARD
END:VTIMEZONE
BEGIN:VEVENT
DTSTART;VALUE=DATE:20251027
DTEND;VALUE=DATE:20251103
DTSTAMP:20260420T161627
CREATED:20250121T210935Z
LAST-MODIFIED:20250810T205255Z
UID:152590-1761523200-1762127999@www.contemplativeoutreach.org
SUMMARY:6-Day Silent Centering Prayer Retreat w/Fr Bill Sheehan
DESCRIPTION:Centering Prayer Retreat with Father Bill Sheehan\nMonday\, October 27 – Sunday\, November 2\, 2025\nHoly Cross Abbey (HCA)\nwww.virginiatrappists.org\nBerryville\, VA \n• 5 Full Days & 2 half days of silence and solitude in a peaceful rural setting\n• 3 plus hours per day of group Centering Prayer\n• Daily morning Centering Prayer sit begins at 5:30am\n• Sunday morning Centering Prayer sit begins at 6:30am\n• Comfortable single room with private bathroom/shower\n• Opportunity to attend any or all of the daily Liturgy of the Hour prayers with the Trappist monks\n• Eucharist celebrated with the Monks in the Abbey Monastery Chapel weekdays and Saturday\nmorning immediately following 7:00am Lauds\n• Sunday morning Eucharist celebrated with Father Sheehan in the Retreat House Chapel\n• Daily group conference Tuesday – Saturday offered by Father Sheehan\n• Opportunity for two private individual conferences with Father Sheehan \nGo to event website link below to access application form. Or contact martha@marthajohnston.com.
URL:https://www.contemplativeoutreach.org/event/6-day-silent-centering-prayer-retreat-w-fr-bill-sheehan/
LOCATION:Holy Cross Abbey\, 901 Cool Spring Ln\, VA\, 22611\, United States
CATEGORIES:Retreat
ATTACH;FMTTYPE=image/jpeg:https://www.contemplativeoutreach.org/wp-content/uploads/2025/01/Flyer-Monday-October-27-Sunday-November-2-2025-copy.jpg
ORGANIZER;CN="Martha Johnston":MAILTO:martha@marthajohnston.com
END:VEVENT
BEGIN:VEVENT
DTSTART;VALUE=DATE:20251027
DTEND;VALUE=DATE:20251104
DTSTAMP:20260420T161627
CREATED:20250721T175832Z
LAST-MODIFIED:20250721T180418Z
UID:156504-1761523200-1762214399@www.contemplativeoutreach.org
SUMMARY:Contemplative Retreat: Five or Eight-Day Centering Prayer
DESCRIPTION:Centering Prayer is a form of Christian silent meditation rooted in the self-emptying love that forms the heart of Jesus’ teaching and life. This retreat is an opportunity to deepen one’s contemplative journey in the contemporary world. The retreat offers two tracks: a five-day track\, recommended for individuals with an established and regular practice of Centering Prayer\, and an eight-day track\, intended for those who have maintained a regular practice of Centering Prayer and previously participated in an intensive retreat. The intensive and post-intensive tracks are available for both the five-day and eight-day retreats. \nThis retreat offers a sacred rhythm of silence\, solitude\, and prayer\, with opportunities to join the Benedictine Sisters for Mass and optional prayer times. Afternoons provided space for walking in nature and engaging in soul friending with retreat facilitators. Designed to cultivate deep interior silence\, the retreat nurtures and awareness of God’s presence in everyday life. A Korean language track is available for the five-day retreat\, making this a welcoming and accessible space for Korean-speaking participants to engage fully in the retreat experience. \nFive-day Retreat $335 $415 $750\nEight-day Retreat $475 $725 $1\,200
URL:https://www.contemplativeoutreach.org/event/contemplative-retreat-five-or-eight-day-centering-prayer/
LOCATION:Benedictine Center Sacred Heart Monastery\, 916 Convent Road\, Cullman\, AL\, 35055\, United States
CATEGORIES:Retreat
END:VEVENT
BEGIN:VEVENT
DTSTART;TZID=Europe/Amsterdam:20251029T170000
DTEND;TZID=Europe/Amsterdam:20251102T140000
DTSTAMP:20260420T161627
CREATED:20241111T194755Z
LAST-MODIFIED:20241111T194755Z
UID:149841-1761757200-1762092000@www.contemplativeoutreach.org
SUMMARY:4-Day Contemplative Retreat
DESCRIPTION:“In moments when we simply surrender all to God in contemplation\, God becomes the actor who acts through us. God becomes the writer of our lives\, and we become the pencil with which God writes a love letter to the world.”\n– Adam Bucko \nSharing silent prayer with others in the context of a retreat is a profound source of soul connection with other practitioners and with all living beings. The retreat aims to nurture the soul’s thirst for intimacy with God\, fostering the path of transformation through contemplation and inner and outer silence. \nThe retreat will be in silence and will include two (daily) input sessions to deepen the Centering Prayer method and reflect on the contemplative journey; various periods of Centering Prayer each day; opportunity for soul companionship; and personal time for reflection and journaling. \nRequirement: to have attended a weekend Centering Prayer retreat or the one-day introductory workshop on Centering Prayer and have some level of ongoing practice. \nPlease see the link below to register.
URL:https://www.contemplativeoutreach.org/event/4-day-contemplative-retreat/
LOCATION:Sacred Heart Monastery\, Missiezusters Klooster\, 20\, Steyl\, Venlo\, 5935 BX\, Netherlands
CATEGORIES:Retreat
ATTACH;FMTTYPE=image/jpeg:https://www.contemplativeoutreach.org/wp-content/uploads/2024/11/Photo-5-scaled-e1731354438614.jpg
ORGANIZER;CN="Sr. Maria Jose Rebelo%2C SSpS":MAILTO:silence.contemplation.steyl@ssps.de
END:VEVENT
BEGIN:VEVENT
DTSTART;VALUE=DATE:20251102
DTEND;VALUE=DATE:20251112
DTSTAMP:20260420T161627
CREATED:20250919T174438Z
LAST-MODIFIED:20250919T174438Z
UID:157406-1762041600-1762905599@www.contemplativeoutreach.org
SUMMARY:Silent Retreats in November 2025 - Prière de consentement Québec
DESCRIPTION:In Granby\, Quebec\, 3 day\, 6 day and 10 day retreats are offered\, at Maison de Spiritualité des Trinitaires\, 200 boul. Robert\, Granby. \n6 day: November 2-7\, $755.45 CDN \n10 day: November 2-11\, $1396.35 CDN \n3 day: November 7-9\, $ 323.90 CDN \nPlease contact Hélène Goulet\, at goulet.h@gmail.com for more information. Although retreat is in complete silence\, a basic understanding of French is required to read documents and understand instructions.
URL:https://www.contemplativeoutreach.org/event/silent-retreats-in-november-2025-priere-de-consentement-quebec/
LOCATION:Maison de Spiritualité des Trinitaires\, 200\, boulevard Robert\, Granby\, Quebec\, J2H 0R2\, Canada
CATEGORIES:Retreat
ORGANIZER;CN="H%C3%A9l%C3%A8ne Goulet":MAILTO:goulet.h@gmail.com
END:VEVENT
BEGIN:VEVENT
DTSTART;TZID=America/Los_Angeles:20251108T090000
DTEND;TZID=America/Los_Angeles:20251108T114500
DTSTAMP:20260420T161627
CREATED:20251008T174537Z
LAST-MODIFIED:20251008T174650Z
UID:157620-1762592400-1762602300@www.contemplativeoutreach.org
SUMMARY:A Morning of Peace and Refreshment - via Zoom
DESCRIPTION:An online Centering Prayer mini-retreat \nThe morning will consist of two sets of two twenty-minute prayer periods with a contemplative break in between\, followed by lectio divina.\nCome and be refreshed before the holidays! \nAll are welcome to attend. If you are new to the practice of Centering Prayer\, please see the Contemplative Outreach brochure on Centering Prayer \nThis event is free\, but a donation of any amount to Contemplative Outreach\, Ltd.\, is greatly appreciated. \nTimes listed are Pacific Standard Time
URL:https://www.contemplativeoutreach.org/event/a-morning-of-peace-and-refreshment-via-zoom-5/
LOCATION:Online Zoom\, Select a Country:
CATEGORIES:Retreat
ATTACH;FMTTYPE=image/jpeg:https://www.contemplativeoutreach.org/wp-content/uploads/2025/10/Morning-of-Peace-JPEG-e1759945515748.jpg
ORGANIZER;CN="Pippa Currey":MAILTO:pcurreysd@gmail.com
END:VEVENT
BEGIN:VEVENT
DTSTART;TZID=UTC:20251108T090000
DTEND;TZID=UTC:20251108T123000
DTSTAMP:20260420T161627
CREATED:20251013T164510Z
LAST-MODIFIED:20251013T164510Z
UID:157661-1762592400-1762605000@www.contemplativeoutreach.org
SUMMARY:Introduction To Centering Prayer with Six Follow-Up Sessions
DESCRIPTION:In-person Introduction to Centering Prayer followed by six consecutive follow-up sessions on Zoom beginning Tuesday November 11 from 7-8:30 pm Eastern Time. \nPlease see the link below to register.
URL:https://www.contemplativeoutreach.org/event/introduction-to-centering-prayer-with-six-follow-up-sessions/
LOCATION:St. Alfred’s Episcopal Church\, 1601 Curlew Road\, Palm Harbor\, FL\, 34683\, United States
CATEGORIES:Workshop
ORGANIZER;CN="Contemplative Outreach of Tampa Bay":MAILTO:mertonmind@gmail.com
END:VEVENT
BEGIN:VEVENT
DTSTART;TZID=America/Denver:20251108T090000
DTEND;TZID=America/Denver:20251108T150000
DTSTAMP:20260420T161627
CREATED:20250910T170041Z
LAST-MODIFIED:20250910T170151Z
UID:157226-1762592400-1762614000@www.contemplativeoutreach.org
SUMMARY:COC Fall Conference -- in-person and online: ​The Science of Transformation: An Experiential Integration and Day of Hope-filled Practice
DESCRIPTION:This is a hybrid presentation being conducted both in person at The Center for Contemplative Living in Denver\, Colorado and online via Zoom videoconference. \nJonathan Steele is engaging\, charismatic\, brilliantly creative\, and wondrously present. As one of my senior Wisdom students\, he shares my own commitment to combining classic Christian contemplative teaching with contemporary reference points in mindfulness\, attention\, and embodied awareness. You are in for a treat! – Cynthia Bourgeault \nDescription of Talk: \nThese times call for a need to unify the seeds of contemplative practice–to return to our fundamental essence and realize our shared human purpose as conscious transmitters of faith\, hope and love. In the words of Bede Griffiths\, we can learn to “join the growing Christ.” \nJonathan’s presentation style includes teaching\, practice and unifying the power of gathered intention. His themes focus on the importance of surrender\, community\, service\, silence and the practice of learning to directly sense the inner body\, or inner-man as St. Paul refers to it. Learning to sense the inner body gives us a physiological rootedness where we can stand in a strong\, compassionate witnessing presence amid polarization. \nTogether we will engage prayer exercises that imprint both Jesus’ recollected presence and self-emptying nature more deeply into our being. Most spiritual traditions have tended to emphasize one or the other: enstatic practices (service through conscious presence) or ecstatic practices (service as self-giving) but not both. The integration of the two supports our collective awakening in becoming people who can change the events of our world from the inside-out without our attention getting hi-jacked by manufactured desire. \nWe offer this day of experiential integration and hope-filled practice on behalf of all beings throughout creation and to bring spiritual healing to our lives and\, by God’s grace\, to this precious planet. The day will include a session of Centering Prayer. \n“I do not know how it works\, but when a group of like-minded people committed to the transformative processes are together\, the force of the energy is certainly up a number of decibels higher. You do not have to do anything but be still and let your mind be quiet. Be still and you will know\, not by the knowledge of the mind\, but by the knowledge of the heart\, who God is and who you are.”\n-Thomas Keating \nAbout Jonathan Steele: \nJonathan L. Steele\, M.A.\, is a retreat leader\, spiritual teacher and companion on the spiritual journey. His work draws deeply upon the transmission of the Christian Wisdom lineage and the Christian contemplative and iInner-traditions. In addition to his lived integration through contemplative practice\, study and service\, he leans on the works of Thomas Keating\, Cynthia Bourgeault\, Valentin Tomberg\, G.I. Gurdjieff and J.G. Bennett. Jonathan currently serves as the Devotional Minister at The Church of Conscious Harmony\, a contemplative Christian community in Austin\, Texas. Jonathan also has significant experience working with recovery communities\, utilizing the path of the 12-Steps and implementing the work of Bowen family systems theory. \nHe has previously companioned others in the context of spiritual direction and hospice chaplaincy\, as well as guiding groups on pilgrimage on the Camino de Santiago in Spain where he lived over the course of eight years. \nTimes listed are Mountain Time (Denver\, CO) \nClick the website link below to learn more and register. Scholarships are available.
URL:https://www.contemplativeoutreach.org/event/coc-fall-conference-jonathan-steele-the-science-of-transformation-an-experiential-integration-and-day-of-hope-filled-practice/
LOCATION:Internet – Online
CATEGORIES:Workshop
ATTACH;FMTTYPE=image/jpeg:https://www.contemplativeoutreach.org/wp-content/uploads/2025/09/SteelePhoto-e1757523572927.jpg
ORGANIZER;CN="Contemplative Outreach of Colorado":MAILTO:staff@centeringprayer.net
END:VEVENT
BEGIN:VEVENT
DTSTART;TZID=America/Denver:20251109T160000
DTEND;TZID=America/Denver:20251112T110000
DTSTAMP:20260420T161627
CREATED:20251006T162117Z
LAST-MODIFIED:20251006T162117Z
UID:157596-1762704000-1762945200@www.contemplativeoutreach.org
SUMMARY:Soul Serenade
DESCRIPTION:Step into the magic of Soul Serenade\, a three-day retreat where healing waters and soulful practices invite you to slow down\, reconnect\, and restore. We’ll open on Sunday night floating beneath the stars in the Hot Springs\, setting the tone for a journey inward. \nEach day unfolds with yoga at sunrise\, followed by moments of quiet reflection through Lectio Divina meditation\, silent sitting\, and the deeply transformative embryonic float—guided with care by Eric and Dr. Christine. \nNourishing breakfasts and lunches will be lovingly prepared for you\, while evenings offer space to choose your own rhythm—whether dining at Mary Murphy’s Steakhouse or creating your own meal in the comfort of your lodging. \nSoul Serenade is your invitation to soften into presence\, let the waters hold you\, and return home renewed. \nPlease see the link below to register.
URL:https://www.contemplativeoutreach.org/event/soul-serenade/
LOCATION:Mount Princeton Hot Springs\, 15870 County Road 162\, Nathorp\, CO\, United States
CATEGORIES:Retreat
ATTACH;FMTTYPE=image/jpeg:https://www.contemplativeoutreach.org/wp-content/uploads/2025/10/Soul-Serenade-3-e1759767665926.jpg
ORGANIZER;CN="Eric Peter":MAILTO:mumblestre@gmail.com
END:VEVENT
BEGIN:VEVENT
DTSTART;TZID=UTC:20251115T090000
DTEND;TZID=UTC:20251115T120000
DTSTAMP:20260420T161627
CREATED:20230809T002520Z
LAST-MODIFIED:20250909T213544Z
UID:137012-1763197200-1763208000@www.contemplativeoutreach.org
SUMMARY:Guard of the Heart – via Zoom
DESCRIPTION:“One practice to bring the effects of contemplative prayer into daily life is traditionally known as “Guard of the Heart.” This consists of letting go of every emotional disturbance as it arises and before we start thinking about it. This method is more sophisticated than dismantling the emotional programs for happiness because it deals with the whole of life. It expresses our ongoing intention to be with God in the present moment and sustains it.” (Fr. Thomas Keating\, 2017) \nThis class will teach the practice of “Guard of the Heart” (Also referred to as “Watchfulness” or “Presence Practice”) and how it compliments our Centering Prayer\, and the practices of the Welcoming Prayer and the Active Prayer Phrase. We will learn the three ways any afflictive thought or emotional disturbance can be instantly released as it arises. Join us for this enriching and deepening complementary practice. This class will include one 20-minute Centering Prayer session. \nTimes listed are Mountain Time. \nClick the Website Link below to learn more and register.
URL:https://www.contemplativeoutreach.org/event/guard-of-the-heart-via-zoom-2/
LOCATION:Internet – Online
CATEGORIES:Workshop
ATTACH;FMTTYPE=image/png:https://www.contemplativeoutreach.org/wp-content/uploads/2023/08/Guard-of-Heart-Intro-Image.png
ORGANIZER;CN="Contemplative Outreach of Colorado":MAILTO:staff@centeringprayer.net
END:VEVENT
BEGIN:VEVENT
DTSTART;TZID=UTC:20251115T090000
DTEND;TZID=UTC:20251115T130000
DTSTAMP:20260420T161627
CREATED:20250728T163952Z
LAST-MODIFIED:20250728T163952Z
UID:156611-1763197200-1763211600@www.contemplativeoutreach.org
SUMMARY:Meeting God in the Silence: An Introduction to Centering Prayer
DESCRIPTION:Do you have questions about Centering Prayer and whether it is the right practice for you? Are you ready to begin a practice but need help getting started? Are you interested in deepening your current practice and would like a refresher and connection with other practitioners? Join us to learn more about consenting to the presence of God through the practice of Centering Prayer. Let praying without words\, in deep silence and openness\, bring you to a more complete awareness of the Divine Indwelling. \nThis retreats follows the international Contemplative Outreach Ltd. approach\, combining short presentations\, two Centering Prayer practice sessions\, and ample time for questions and discussion. It is open to anyone\, whether you have a longtime Centering Prayer practice or have never tried this form of prayer. There’s enrichment and insight for everyone. \nSeveral accessible parking spaces are designated in front of the church. Parking is also available in the West Patrick Street Garage\, 138 W Patrick St\, Frederick\, MD 21701. \nYour registration fee includes snacks and coffee\, tea\, and water. We’ll have vegan and gluten-free options.​​​ \nPlease see the link below to register.
URL:https://www.contemplativeoutreach.org/event/meeting-god-in-the-silence-an-introduction-to-centering-prayer/
LOCATION:All Saints Episcopal Church\, 106 West Church Street\, Frederick\, MD\, 21701\, United States
CATEGORIES:Retreat
ATTACH;FMTTYPE=image/jpeg:https://www.contemplativeoutreach.org/wp-content/uploads/2025/07/Copy-of-The-Holy-Trinity-Rublev-cropped-1-e1753720778297.jpg
ORGANIZER;CN="Contemplative Outreach of Maryland and Washington %EF%BB%BF(COMW)":MAILTO:info@ContemplativeOutreachofMarylandandWashington.org
END:VEVENT
BEGIN:VEVENT
DTSTART;TZID=Asia/Krasnoyarsk:20251115T100000
DTEND;TZID=Asia/Krasnoyarsk:20251115T140000
DTSTAMP:20260420T161627
CREATED:20251016T192909Z
LAST-MODIFIED:20251016T192909Z
UID:157714-1763200800-1763215200@www.contemplativeoutreach.org
SUMMARY:Centering Prayer Introductory Workshop
DESCRIPTION:Centering Prayer Introductory Workshop\nSaturday\, November 15\, 2025\nBethany Lutheran Church – Norco\, California
URL:https://www.contemplativeoutreach.org/event/centering-prayer-introductory-workshop-23/
LOCATION:Maryland
CATEGORIES:Workshop
ATTACH;FMTTYPE=image/jpeg:https://www.contemplativeoutreach.org/wp-content/uploads/2025/10/Darryls-Centering_Prayer_Workshop_Flyer-2.jpg
ORGANIZER;CN="Jill Yamada":MAILTO:jillprays@aol.com
END:VEVENT
BEGIN:VEVENT
DTSTART;TZID=America/New_York:20251121T150000
DTEND;TZID=America/New_York:20251123T130000
DTSTAMP:20260420T161627
CREATED:20250610T205845Z
LAST-MODIFIED:20250610T205845Z
UID:155882-1763737200-1763902800@www.contemplativeoutreach.org
SUMMARY:Reading the Bible like a Mystic
DESCRIPTION:Can the Bible still be used as a source of spiritual enrichment? Some consider the text as a sexist relic of the past or worse\, as something weaponized in service of religious fundamentalism. However\, mystics through the ages have read the Bible not as a “rule book” but as a love letter: inviting them into Divine Union. This retreat combines presentations with helpful exercises that explore the unique mystical approach to scripture so we can incorporate this wisdom into our spiritual practice today. \nThis event includes sessions of Centering Prayer and Lectio Divina. \nPlease see the link below for more information and to register.
URL:https://www.contemplativeoutreach.org/event/reading-the-bible-like-a-mystic/
LOCATION:Holy Family Passionist Retreat Center\, 303 Tunxis Road\, West Hartford\, CT\, 6107\, United States
CATEGORIES:Retreat
ATTACH;FMTTYPE=image/png:https://www.contemplativeoutreach.org/wp-content/uploads/2025/06/CCE-Luminous-Gospels.png
ORGANIZER;CN="Mike  Smoolca":MAILTO:msmoolca@hotmail.com
END:VEVENT
END:VCALENDAR