BEGIN:VCALENDAR
VERSION:2.0
PRODID:-//Contemplative Outreach, Ltd. - ECPv6.15.17.1//NONSGML v1.0//EN
CALSCALE:GREGORIAN
METHOD:PUBLISH
X-ORIGINAL-URL:https://www.contemplativeoutreach.org
X-WR-CALDESC:Events for Contemplative Outreach, Ltd.
REFRESH-INTERVAL;VALUE=DURATION:PT1H
X-Robots-Tag:noindex
X-PUBLISHED-TTL:PT1H
BEGIN:VTIMEZONE
TZID:UTC
BEGIN:STANDARD
TZOFFSETFROM:+0000
TZOFFSETTO:+0000
TZNAME:UTC
DTSTART:20250101T000000
END:STANDARD
END:VTIMEZONE
BEGIN:VTIMEZONE
TZID:America/Denver
BEGIN:DAYLIGHT
TZOFFSETFROM:-0700
TZOFFSETTO:-0600
TZNAME:MDT
DTSTART:20250309T090000
END:DAYLIGHT
BEGIN:STANDARD
TZOFFSETFROM:-0600
TZOFFSETTO:-0700
TZNAME:MST
DTSTART:20251102T080000
END:STANDARD
BEGIN:DAYLIGHT
TZOFFSETFROM:-0700
TZOFFSETTO:-0600
TZNAME:MDT
DTSTART:20260308T090000
END:DAYLIGHT
BEGIN:STANDARD
TZOFFSETFROM:-0600
TZOFFSETTO:-0700
TZNAME:MST
DTSTART:20261101T080000
END:STANDARD
BEGIN:DAYLIGHT
TZOFFSETFROM:-0700
TZOFFSETTO:-0600
TZNAME:MDT
DTSTART:20270314T090000
END:DAYLIGHT
BEGIN:STANDARD
TZOFFSETFROM:-0600
TZOFFSETTO:-0700
TZNAME:MST
DTSTART:20271107T080000
END:STANDARD
END:VTIMEZONE
BEGIN:VTIMEZONE
TZID:Europe/Paris
BEGIN:DAYLIGHT
TZOFFSETFROM:+0100
TZOFFSETTO:+0200
TZNAME:CEST
DTSTART:20250330T010000
END:DAYLIGHT
BEGIN:STANDARD
TZOFFSETFROM:+0200
TZOFFSETTO:+0100
TZNAME:CET
DTSTART:20251026T010000
END:STANDARD
BEGIN:DAYLIGHT
TZOFFSETFROM:+0100
TZOFFSETTO:+0200
TZNAME:CEST
DTSTART:20260329T010000
END:DAYLIGHT
BEGIN:STANDARD
TZOFFSETFROM:+0200
TZOFFSETTO:+0100
TZNAME:CET
DTSTART:20261025T010000
END:STANDARD
BEGIN:DAYLIGHT
TZOFFSETFROM:+0100
TZOFFSETTO:+0200
TZNAME:CEST
DTSTART:20270328T010000
END:DAYLIGHT
BEGIN:STANDARD
TZOFFSETFROM:+0200
TZOFFSETTO:+0100
TZNAME:CET
DTSTART:20271031T010000
END:STANDARD
END:VTIMEZONE
BEGIN:VTIMEZONE
TZID:America/New_York
BEGIN:DAYLIGHT
TZOFFSETFROM:-0500
TZOFFSETTO:-0400
TZNAME:EDT
DTSTART:20250309T070000
END:DAYLIGHT
BEGIN:STANDARD
TZOFFSETFROM:-0400
TZOFFSETTO:-0500
TZNAME:EST
DTSTART:20251102T060000
END:STANDARD
BEGIN:DAYLIGHT
TZOFFSETFROM:-0500
TZOFFSETTO:-0400
TZNAME:EDT
DTSTART:20260308T070000
END:DAYLIGHT
BEGIN:STANDARD
TZOFFSETFROM:-0400
TZOFFSETTO:-0500
TZNAME:EST
DTSTART:20261101T060000
END:STANDARD
BEGIN:DAYLIGHT
TZOFFSETFROM:-0500
TZOFFSETTO:-0400
TZNAME:EDT
DTSTART:20270314T070000
END:DAYLIGHT
BEGIN:STANDARD
TZOFFSETFROM:-0400
TZOFFSETTO:-0500
TZNAME:EST
DTSTART:20271107T060000
END:STANDARD
END:VTIMEZONE
BEGIN:VEVENT
DTSTART;TZID=UTC:20260207T090000
DTEND;TZID=UTC:20260207T113000
DTSTAMP:20260420T132409
CREATED:20230606T160520Z
LAST-MODIFIED:20251217T224105Z
UID:135577-1770454800-1770463800@www.contemplativeoutreach.org
SUMMARY:Love is Love is Love Visio Divina Online Half-Day Welcoming prayer – Centering Prayer: mini-retreat (1st Saturday of every month)
DESCRIPTION:Online Half Day Centering Prayer/Welcoming Prayer mini-retreat via Hawaiʻi (1st Saturday of every month)\n @ 9:00 am – 11:30 am UTC-10\nFREE \nFirst Saturdays online retreats are a special time where we explore our Centering Prayer practice. We are looking forward to sharing Physio-Divina (Moving) practices\, Visio-Divina (visual-Art) practices\, Terra-Divna (Nature) Lectio-Divina (Sacred Text) practices in addition to the Centering Prayer and Welcoming Prayer practice that are our foundation. Pulelehua\, Liedeke\, and Margie welcome who wish to join us. \nWe hope you will join us from wherever & whenever you are! Schedule in Hawai’i Time (UTC -10)\n8:45am Room open to for early connections\n9:00 Welcome and introductions\n9:15 Centering Prayer Focus on Love\n9:45 Welcoming Prayer Embodied Love\n10:05 Centering Prayer\n10:35 Break\n10:45 Centering Prayer  Love is love is Love Reflections\n11:15-11:30 Closing prayer\nhttps://us02web.zoom.us/j/92185854158?pwd=dDJxN0FkRkRvQWhrQURwN29SUTBFUT09\nZoom Meeting ID: 921 8585 4158 Passcode: 730086 \nWebsite: http://www.cohawaii.org\nPhone (628) 400-2644\nEmail: cohawaii@gmail.com \nAll session are freely offered\, donations are welcome\, no registration is needed.
URL:https://www.contemplativeoutreach.org/event/online-half-day-centering-prayer-reframing-our-views-of-god-mini-retreat-1st-saturday-of-every-month/
LOCATION:Internet – Online
CATEGORIES:Retreat,Webinar
ATTACH;FMTTYPE=image/jpeg:https://www.contemplativeoutreach.org/wp-content/uploads/2023/06/IMG_7321.jpeg
ORGANIZER;CN="Contemplative Outreach Hawai%CA%BBi":MAILTO:cohawaii@gmail.com
END:VEVENT
BEGIN:VEVENT
DTSTART;TZID=America/Denver:20260212T103000
DTEND;TZID=America/Denver:20260212T120000
DTSTAMP:20260420T132409
CREATED:20240823T213714Z
LAST-MODIFIED:20260102T023621Z
UID:147177-1770892200-1770897600@www.contemplativeoutreach.org
SUMMARY:Creating Self-Compassion Through Centering Prayer – via Zoom
DESCRIPTION:Presented by Blair Ashby over six Thursday sessions \nA foundational gift of practicing Centering Prayer is that we also begin caring for our mental and emotional well-being during our prayer sits. Fortunately\, this is also one definition of self-compassion. Frequently\, we start noticing this gift with a simple thought like\, “my days feel better since I began Centering Prayer.” Centering Prayer creates self-compassion because it requires us to learn and repeat the process of awareness (being present)\, acceptance\, and letting go while consenting to the presence and action of the Divine within us. \nWhat is happening in our brains biologically as we repeat this process of awareness\, acceptance\, and letting go? How does this process impact our mental and emotional well-being? The good news is when we do Centering Prayer\, the work of the Spirit is teaching us self-compassion\, and this class will help us understand some of the transformations enacted in this process. Finally\, by aiding our developing awareness\, acceptance\, and letting go\, the course will also offer us additional skills to increase compassion toward ourselves and others. \nOver the six weeks\, we will explore the physical changes Centering Prayer brings about in our brains. Then\, we will explore the corresponding mental\, emotional\, and spiritual transformations resulting from those changes. Most importantly\, in every class\, we will practice those tools for creating self-compassion by discussing what we experience; we will learn from each other. Through this weekly repetition\, participants will habituate new ways of caring for themselves. As we practice\, our lives will feel more meaningful\, grounded\, and empowered to share ourselves in the world through God-given grace. This class will include session of Centering Prayer. \nAbout Blair Ashby \nIn 1994\, Contemplative Outreach International asked Blair to transfer the Christian Contemplative Heritage video series to audio cassettes. In the first fifteen minutes of the introductory tape\, Fr. Thomas said so much about God and reality that Blair’s head exploded and unknowingly germinated a desire to experience and eventually teach this God-created reality. In 1997\, Contemplative Outreach of Colorado asked Blair to record Fr. Thomas live\, and Blair has been recording the annual conferences and fall retreats ever since. Through personal relationships with Fr. Thomas Keating and Fr. Tony D’Souza (Anthony DeMello’s apprentice)\, and the dozens of spiritual teachers he has recorded\, Blair has gained deep contemplative insights. He has practiced Centering Prayer and self-compassion for the past twenty-eight years. \nThis is a six-week class\, offered on Thursday mornings\, October 9 – November 13\, 2025\nTimes listed are mountain time (Denver\, CO) \nClick the website link below to learn more and register. Scholarships are available.
URL:https://www.contemplativeoutreach.org/event/creating-self-compassion-through-centering-prayer-via-zoom/
LOCATION:Internet – Online
CATEGORIES:Training,Webinar
ATTACH;FMTTYPE=image/jpeg:https://www.contemplativeoutreach.org/wp-content/uploads/2024/08/body_of_water_during_golden_hour-1.jpg
ORGANIZER;CN="Contemplative Outreach of Colorado":MAILTO:staff@centeringprayer.net
END:VEVENT
BEGIN:VEVENT
DTSTART;TZID=America/Denver:20260214T090000
DTEND;TZID=America/Denver:20260214T120000
DTSTAMP:20260420T132409
CREATED:20231211T205015Z
LAST-MODIFIED:20260102T024027Z
UID:139211-1771059600-1771070400@www.contemplativeoutreach.org
SUMMARY:Introduction to the Forgiveness Prayer
DESCRIPTION:Is there someone in your life whom you find difficult to forgive? The Prayer of Forgiveness is a powerful prayer that can help you forgive at the deepest level of your being. During this class\, you will receive instruction on this prayer\, developed by Contemplative Outreach founding member Mary Mrozowski. You will also have an opportunity for Centering Prayer as well as practice of the Prayer of Forgiveness. \nRecording note: This event will be recorded. All registrants will receive a copy of the Zoom recording within 2 weeks of the event. \nTime Listed is Mountain Time (Denver\, Colorado) \nClick the website link below to register.
URL:https://www.contemplativeoutreach.org/event/introduction-to-the-forgiveness-prayer/
LOCATION:Internet – Online
CATEGORIES:Workshop
ATTACH;FMTTYPE=image/jpeg:https://www.contemplativeoutreach.org/wp-content/uploads/2023/12/green_trees_near_snow_covered_mountain_during_daytime-1.jpg
ORGANIZER;CN="Contemplative Outreach of Colorado":MAILTO:staff@centeringprayer.net
END:VEVENT
BEGIN:VEVENT
DTSTART;TZID=Europe/Paris:20260219T170000
DTEND;TZID=Europe/Paris:20260222T140000
DTSTAMP:20260420T132409
CREATED:20250902T174645Z
LAST-MODIFIED:20250902T174645Z
UID:157075-1771520400-1771768800@www.contemplativeoutreach.org
SUMMARY:3-Day Contemplative Retreat
DESCRIPTION:“In silence\, God ceases to be an object and becomes an experience.”\n— Thomas Merton \nSharing silent prayer in the context of a retreat offers a profound experience of soul-to-soul connection — with fellow practitioners and with all living beings. \nThis 4-day retreat is designed to nourish the soul’s deep longing for intimacy with God\, inviting participants into a transformative journey through contemplation and the sacred practice of silence. \nHeld entirely in silence\, the retreat includes: \nTwo daily input sessions to deepen understanding of the Centering Prayer method and reflect on the contemplative path;\nMultiple periods of Centering Prayer each day;\nOpportunities for soul sharing with the guide (if desired);\nPersonal time for reflection and journaling. \nIt is recommended that: Participants have attended either a weekend Centering Prayer retreat or a one-day introductory workshop and maintain some level of ongoing practice. \nPlease see the link below for more information and to register.
URL:https://www.contemplativeoutreach.org/event/3-day-contemplative-retreat-2/
LOCATION:Sacred Heart Monastery\, Missiezusters Klooster\, 20\, Steyl\, Venlo\, 5935 BX\, Netherlands
CATEGORIES:Retreat
ATTACH;FMTTYPE=image/jpeg:https://www.contemplativeoutreach.org/wp-content/uploads/2025/09/Photo-1-e1756835071787.jpg
ORGANIZER;CN="Sr. Maria Jose Rebelo%2C SSpS":MAILTO:silence.contemplation.steyl@ssps.de
END:VEVENT
BEGIN:VEVENT
DTSTART;TZID=America/New_York:20260228T090000
DTEND;TZID=America/New_York:20260228T120000
DTSTAMP:20260420T132409
CREATED:20260129T191110Z
LAST-MODIFIED:20260129T191110Z
UID:160618-1772269200-1772280000@www.contemplativeoutreach.org
SUMMARY:Aging as a Spiritual Practice
DESCRIPTION:No doubt that aging is an emotional\, physical\, and psychological experience for many of us as we grow older. The journey is made more complex because our culture does not support us as we transition from the celebrated stage of youth to elderhood. It is\, therefore\, very important that we find another way—a more “excellent way” as St. Paul said—to traverse the path. \nThis retreat will offer spiritual practices from the disciplines of Centering Prayer and Buddhist meditation that will not only help us navigate the aging process but enable us to thrive in the process. \nMeet the Presenter\nThe Rev. Carlyle Gill has been an Episcopal priest for nearly 50 years and a practitioner of Centering Prayer for 25 years. She has led many Centering Prayer introductory retreats\, as well as longer retreats. \nTime listed is in Eastern Standard Time. Please see the link below to register.
URL:https://www.contemplativeoutreach.org/event/aging-as-a-spiritual-practice/
LOCATION:Internet – Online
CATEGORIES:Retreat
ATTACH;FMTTYPE=image/jpeg:https://www.contemplativeoutreach.org/wp-content/uploads/2026/01/Mountain-Sunrise-e1769713843332.jpeg
ORGANIZER;CN="Contemplative Outreach of Maryland and Washington %EF%BB%BF(COMW)":MAILTO:info@ContemplativeOutreachofMarylandandWashington.org
END:VEVENT
END:VCALENDAR