BEGIN:VCALENDAR
VERSION:2.0
PRODID:-//Contemplative Outreach, Ltd. - ECPv6.15.17.1//NONSGML v1.0//EN
CALSCALE:GREGORIAN
METHOD:PUBLISH
X-WR-CALNAME:Contemplative Outreach, Ltd.
X-ORIGINAL-URL:https://www.contemplativeoutreach.org
X-WR-CALDESC:Events for Contemplative Outreach, Ltd.
REFRESH-INTERVAL;VALUE=DURATION:PT1H
X-Robots-Tag:noindex
X-PUBLISHED-TTL:PT1H
BEGIN:VTIMEZONE
TZID:UTC
BEGIN:STANDARD
TZOFFSETFROM:+0000
TZOFFSETTO:+0000
TZNAME:UTC
DTSTART:20250101T000000
END:STANDARD
END:VTIMEZONE
BEGIN:VTIMEZONE
TZID:America/New_York
BEGIN:DAYLIGHT
TZOFFSETFROM:-0500
TZOFFSETTO:-0400
TZNAME:EDT
DTSTART:20250309T070000
END:DAYLIGHT
BEGIN:STANDARD
TZOFFSETFROM:-0400
TZOFFSETTO:-0500
TZNAME:EST
DTSTART:20251102T060000
END:STANDARD
BEGIN:DAYLIGHT
TZOFFSETFROM:-0500
TZOFFSETTO:-0400
TZNAME:EDT
DTSTART:20260308T070000
END:DAYLIGHT
BEGIN:STANDARD
TZOFFSETFROM:-0400
TZOFFSETTO:-0500
TZNAME:EST
DTSTART:20261101T060000
END:STANDARD
BEGIN:DAYLIGHT
TZOFFSETFROM:-0500
TZOFFSETTO:-0400
TZNAME:EDT
DTSTART:20270314T070000
END:DAYLIGHT
BEGIN:STANDARD
TZOFFSETFROM:-0400
TZOFFSETTO:-0500
TZNAME:EST
DTSTART:20271107T060000
END:STANDARD
END:VTIMEZONE
BEGIN:VTIMEZONE
TZID:Pacific/Honolulu
BEGIN:STANDARD
TZOFFSETFROM:-1000
TZOFFSETTO:-1000
TZNAME:HST
DTSTART:20250101T000000
END:STANDARD
END:VTIMEZONE
BEGIN:VTIMEZONE
TZID:America/New_York
BEGIN:DAYLIGHT
TZOFFSETFROM:-0500
TZOFFSETTO:-0400
TZNAME:EDT
DTSTART:20250309T070000
END:DAYLIGHT
BEGIN:STANDARD
TZOFFSETFROM:-0400
TZOFFSETTO:-0500
TZNAME:EST
DTSTART:20251102T060000
END:STANDARD
BEGIN:DAYLIGHT
TZOFFSETFROM:-0500
TZOFFSETTO:-0400
TZNAME:EDT
DTSTART:20260308T070000
END:DAYLIGHT
BEGIN:STANDARD
TZOFFSETFROM:-0400
TZOFFSETTO:-0500
TZNAME:EST
DTSTART:20261101T060000
END:STANDARD
BEGIN:DAYLIGHT
TZOFFSETFROM:-0500
TZOFFSETTO:-0400
TZNAME:EDT
DTSTART:20270314T070000
END:DAYLIGHT
BEGIN:STANDARD
TZOFFSETFROM:-0400
TZOFFSETTO:-0500
TZNAME:EST
DTSTART:20271107T060000
END:STANDARD
END:VTIMEZONE
BEGIN:VTIMEZONE
TZID:America/Los_Angeles
BEGIN:DAYLIGHT
TZOFFSETFROM:-0800
TZOFFSETTO:-0700
TZNAME:PDT
DTSTART:20250309T100000
END:DAYLIGHT
BEGIN:STANDARD
TZOFFSETFROM:-0700
TZOFFSETTO:-0800
TZNAME:PST
DTSTART:20251102T090000
END:STANDARD
BEGIN:DAYLIGHT
TZOFFSETFROM:-0800
TZOFFSETTO:-0700
TZNAME:PDT
DTSTART:20260308T100000
END:DAYLIGHT
BEGIN:STANDARD
TZOFFSETFROM:-0700
TZOFFSETTO:-0800
TZNAME:PST
DTSTART:20261101T090000
END:STANDARD
BEGIN:DAYLIGHT
TZOFFSETFROM:-0800
TZOFFSETTO:-0700
TZNAME:PDT
DTSTART:20270314T100000
END:DAYLIGHT
BEGIN:STANDARD
TZOFFSETFROM:-0700
TZOFFSETTO:-0800
TZNAME:PST
DTSTART:20271107T090000
END:STANDARD
END:VTIMEZONE
BEGIN:VEVENT
DTSTART;TZID=UTC:20260306T080000
DTEND;TZID=UTC:20260308T170000
DTSTAMP:20260420T120814
CREATED:20251119T173107Z
LAST-MODIFIED:20251119T173248Z
UID:158228-1772784000-1772989200@www.contemplativeoutreach.org
SUMMARY:Introduction to Centering Prayer
DESCRIPTION:  \nIntroduction to Centering Prayer in a retreat setting\nMarch 6\, 2026 – March 8\, 2026\n$310 overnight\n$100 commuter\nMore info at: https://holycrossmonastery.com/event/introduction-to-centering-prayer-3/ \nTo register\, please contact our Guesthouse Office by phone at +1-845-384-6660\, ext. 3002 or email guesthouse@hcmnet.org.
URL:https://www.contemplativeoutreach.org/event/introduction-to-centering-prayer-16/
LOCATION:Holy Cross Monastery – New York\, 1615 Route 9W\, West Park\, NY\, 12493\, United States
CATEGORIES:Retreat,Workshop
ORGANIZER;CN="Br Bernard Delcourt":MAILTO:bernardjeandelcourt@gmail.com
END:VEVENT
BEGIN:VEVENT
DTSTART;TZID=America/New_York:20260306T190000
DTEND;TZID=America/New_York:20260307T150000
DTSTAMP:20260420T120814
CREATED:20251106T205031Z
LAST-MODIFIED:20260304T185747Z
UID:158059-1772823600-1772895600@www.contemplativeoutreach.org
SUMMARY:2026 United in Prayer Global Zoom Vigil
DESCRIPTION:March 6-7\, 2026\n34th Annual United in Prayer Day\nA free\, globally-hosted 18-hour prayer vigil accessible via Zoom\nIn the global unity of silence as God’s first language and in honor of Thomas Keating’s birthday (March 7)\,\nwe hold vigil for the suffering of all creation\, for peace in our hearts and peace on Earth\,\nand we affirm the growing presence of Christ among us.\n  \nJoin in silence and community at any time\, as many times as you are able. Each hour will include at least 20 minutes of Centering Prayer and an offering from the hosting group. Some will prayer several or more consecutive hours to create an in-home retreat. \nAs we participate in this community prayer\, let us remember and hold in our hearts all the members of the worldwide Centering Prayer community who do not have access to Zoom/ internet technology\, including those who live in remote areas and those who are incarcerated. \n  \nNo registration necessary. The event begins on Friday March 6 at 9pm Eastern Time (UTC-5).  \nPlease use this Zoom link here to enter the chapel. \nor use may use meeting ID meeting ID is 811 0469 4536\npasscode: silence \nThe current schedule is:\n \n\n\n\n\n \n\n\nUTC -5/ Eastern Time\nHosting Group\nContent planned – all groups will include 20-25 minutes (or more) of Centering Prayer (CP).\n\n\n9 PM Friday March 6\nCO of Philippines\nCP and TBD\n\n\n10 PM Friday March 6\nCO Western Australia\nCP and TBD\n\n\n11 PM Friday March 6\nCO of Hawaiʻi\nEmbodied Welcoming Prayer and Centering Prayer at sunset\n\n\nMidnight\nCO Korea\n20 min. CP\, 20 min. Lectio and sharings\n\n\n1:00 AM\nCO Hawaii Kauai\nVisio Divina\n\n\n2:00 AM\nCO South Africa\nCP and The Gift of Lent\n\n\n3:00 AM\nCO Italian group\nCP and TBD\n\n\n4:00 AM\nCO Czechia Slovakia\n25 min CP and “A Life Surrendered to Love”\n\n\n5:00 AM\nCO of London\nCP and TBD\n\n\n6:00 AM\nCO Dublin\nCP and TBD\n\n\n7:00 AM\nCO Minnesota\nIntro\, 25 min CP\, Lectio\, prayers\n\n\n8:00 AM\nGerman-speaking groups\nCP and TBD\n\n\n9:00 AM\nCO Francophone group\nCP and TBD\n\n\n10:00 AM\nArmenian Centering Prayer Group\nCP and TBD\n\n\n11:00 AM\nFoundation For Human Development\nCP and TBD\n\n\n12:00 PM\nExtensión Contemplativa Internacional\nCP and TBD\n\n\n1:00 PM\nOutside the Walls\nCP and TBD\n\n\n2:00 PM\nAlberta\, Canada\, CP Network\nNature meditation & closing blessing
URL:https://www.contemplativeoutreach.org/event/2026-united-in-prayer-global-zoom-gathering/
LOCATION:Internet – Online
CATEGORIES:Webcast
ORGANIZER;CN="Contemplative Outreach Ltd":MAILTO:office@coutreach.org
END:VEVENT
BEGIN:VEVENT
DTSTART;TZID=Pacific/Honolulu:20260307T090000
DTEND;TZID=Pacific/Honolulu:20260307T113000
DTSTAMP:20260420T120814
CREATED:20240122T230320Z
LAST-MODIFIED:20251217T224134Z
UID:141180-1772874000-1772883000@www.contemplativeoutreach.org
SUMMARY:Blooming in Centering Prayer with Physio Divina ONLINE
DESCRIPTION:Blooming in Centering Prayer with Visio Divina Online (1st Saturday of every month)\nMay 4 @ 9:00 am – 11:30 am UTC-10\nFREE\na half day Centering Prayer/Welcoming Prayer mini-retreat via Hawaiʻi (1st Saturday of every month) \nFirst Saturdays online retreats are a special time where we explore our Centering Prayer practice. We are looking forward to sharing Physio-Divina (Moving) practices\, Visio-Divina (Visual-Art) practices\, Terra-Divina (Nature)\, Lectio-Divina (Sacred Text) practices in addition to the Centering Prayer and Welcoming Prayer practice that are our foundation. Pulelehua\, Liedeke\, and Margie welcome all who wish to join us. \nDates 2024 ( the zoom link is the same for all these dates): March 2\, April 6\, May 4\, June 1\, July 6\, August 3\, September 7\, October 5\, November 2\, December 7 \nWe hope you will join us from wherever & whenever you are! Schedule in Hawai’i Time (UTC -10)\n8:45am Room open to for early connections\n9:00 Welcome and introductions\n9:15 Centering Prayer\n9:40 Break\n9:45 Centering Prayer\n10:10 Break\n10:20 Visio Divina and Reflections\n11:15 Closing prayer\nhttps://us02web.zoom.us/j/92185854158?pwd=dDJxN0FkRkRvQWhrQURwN29SUTBFUT09\nZoom Meeting ID: 921 8585 4158 Passcode: 730086 \nWebsite: http://www.cohawaii.org\nPhone (628) 400-2644\nEmail: cohawaii@gmail.com \nAll session are freely offered\, donations are welcome\, no registration is needed. \n 
URL:https://www.contemplativeoutreach.org/event/blooming-in-centering-prayer-with-visio-divina-online/
LOCATION:Internet – Online
CATEGORIES:Retreat,Webcast
ATTACH;FMTTYPE=image/jpeg:https://www.contemplativeoutreach.org/wp-content/uploads/2024/01/IMG_5928-scaled-e1705964569252.jpeg
ORGANIZER;CN="Contemplative Outreach Hawai%CA%BBi":MAILTO:cohawaii@gmail.com
END:VEVENT
BEGIN:VEVENT
DTSTART;TZID=UTC:20260307T100000
DTEND;TZID=UTC:20260307T140000
DTSTAMP:20260420T120814
CREATED:20260209T174159Z
LAST-MODIFIED:20260209T174159Z
UID:160716-1772877600-1772892000@www.contemplativeoutreach.org
SUMMARY:Centering Prayer Introductory Workshop
DESCRIPTION:CENTERING PRAYER WORKSHOP\nSaturday\, March 7\, 10:00 am–2:00 pm Pacific Time \nJoin us for a time of stillness\, reflection\, and deepening in the practice of Centering Prayer. Whether you’re new to contemplative prayer or seeking to refresh your prayer life\, this workshop will offer guidance\, practice\, and fellowship. The workshop will be led by the Rev. Darryl W. Kozak\, a Commissioned Presenter of Centering Prayer for Contemplative Outreach and a Pastor of the Evangelical Lutheran Church in America (ELCA).
URL:https://www.contemplativeoutreach.org/event/centering-prayer-introductory-workshop-24/
LOCATION:Trinity Lutheran Church\, 16138 Molino Drive\, Victorville\, CA\, 92395\, United States
CATEGORIES:Workshop
ATTACH;FMTTYPE=image/jpeg:https://www.contemplativeoutreach.org/wp-content/uploads/2026/02/IMG_5102.jpeg
ORGANIZER;CN="Pastor Darryl W. Kozak":MAILTO:RevKozak@gmail.com
END:VEVENT
BEGIN:VEVENT
DTSTART;TZID=UTC:20260314T090000
DTEND;TZID=UTC:20260314T120000
DTSTAMP:20260420T120814
CREATED:20260216T194739Z
LAST-MODIFIED:20260216T194739Z
UID:160966-1773478800-1773489600@www.contemplativeoutreach.org
SUMMARY:Lent Silent Saturday
DESCRIPTION:During Lent\, this quiet morning\, free from daily activities\, gives participants time for a communal gathering in silence and Centering Prayer. Along with scheduled prayers with contemplative walks is unstructured time for private journaling or reflection\, and enjoyment of the beautiful grounds of Holy Spirit Retreat Center. The day is open to beginners as well as those experienced in contemplative prayer or silent meditation. All are welcome. A brief introduction to Centering Prayer will be offered for those new to the practice.\n(Arrival 8:45 am) \nRegistration online at hsrcenter.com is appreciated\, but not required.\nA free will offering is gratefully appreciated.\nFor more information contact Sr. Chris at centeringprayer@hsrcenter.com or 818-815-4480
URL:https://www.contemplativeoutreach.org/event/lent-silent-saturday-2/
LOCATION:Holy Spirit Retreat Center\, 4316 Lanai Road\, Encino\, CA\, 91436\, United States
CATEGORIES:Retreat
ORGANIZER;CN="Sr. Chris Machado SSS":MAILTO:centeringprayer@hsrcenter.com
END:VEVENT
BEGIN:VEVENT
DTSTART;TZID=UTC:20260314T090000
DTEND;TZID=UTC:20260314T120000
DTSTAMP:20260420T120814
CREATED:20260220T201548Z
LAST-MODIFIED:20260220T201548Z
UID:161136-1773478800-1773489600@www.contemplativeoutreach.org
SUMMARY:Introduction to Centering Prayer via Zoom
DESCRIPTION:Centering Prayer is a simple\, gentle method of silent prayer rooted in the Christian contemplative tradition. It invites us to move beyond words and thoughts into a deeper awareness of God’s loving presence within. \nDuring this introductory zoom session\, participants will: \n\nLearn the foundations and history of Centering Prayer\nExplore the theological and spiritual principles behind the practice\nReceive practical guidance on how to begin\nParticipate in brief periods of silent prayer\nHave time for reflection and questions\n\nThis session is ideal for those new to contemplative prayer as well as those seeking to renew or deepen their existing practice. \nThere is no cost to attend. We offer this session as a gift to those longing for stillness\, spiritual depth\, and a closer relationship with God.
URL:https://www.contemplativeoutreach.org/event/introduction-to-centering-prayer-via-zoom-6/
LOCATION:Internet – Online
CATEGORIES:Retreat,Workshop
ATTACH;FMTTYPE=image/jpeg:https://www.contemplativeoutreach.org/wp-content/uploads/2026/02/Flyer-for-Zoom-e1771618473533.jpg
END:VEVENT
BEGIN:VEVENT
DTSTART;TZID=America/New_York:20260314T090000
DTEND;TZID=America/New_York:20260314T130000
DTSTAMP:20260420T120814
CREATED:20260102T172845Z
LAST-MODIFIED:20260129T023150Z
UID:159435-1773478800-1773493200@www.contemplativeoutreach.org
SUMMARY:Meeting God in the Silence: An Introduction to Centering Prayer
DESCRIPTION:As the new year begins\, we invite you to join us to learn more about consenting to the presence of God through the practice of Centering Prayer. Let praying without words\, in deep silence and openness\, bring you to a more complete awareness of the Divine Indwelling. This introductory workshop will help new practitioners discern if Centering Prayer is the right practice for them and help them get started\, and experienced practitioners will benefit from a refresher and connection with other practitioners. \nAll of our introduction to centering prayer retreats follow the national Contemplative Outreach Ltd. approach\, combining short presentations\, two Centering Prayer practice sessions\, and ample time for questions and discussion. They are open to anyone\, whether you have a longtime Centering Prayer practice or have never tried this form of prayer. There’s enrichment and insight for everyone. \nPlease see the link below to register.
URL:https://www.contemplativeoutreach.org/event/meeting-god-in-the-silence-an-introduction-to-centering-prayer-3/
LOCATION:St. Andrew’s Episcopal Church\, 4512 College Ave\, College Park\, Maryland\, 20740\, United States
CATEGORIES:Retreat,Workshop
ATTACH;FMTTYPE=image/jpeg:https://www.contemplativeoutreach.org/wp-content/uploads/2026/01/The-Holy-Trinity-Rublev-cropped-e1767374911494.jpg
ORGANIZER;CN="Contemplative Outreach of Maryland and Washington %EF%BB%BF(COMW)":MAILTO:info@ContemplativeOutreachofMarylandandWashington.org
END:VEVENT
BEGIN:VEVENT
DTSTART;TZID=UTC:20260321T090000
DTEND;TZID=UTC:20260321T113000
DTSTAMP:20260420T120814
CREATED:20240812T170507Z
LAST-MODIFIED:20251217T224458Z
UID:146500-1774083600-1774092600@www.contemplativeoutreach.org
SUMMARY:Morning of Prayer Honolulu\, Hawaii  3rd Saturdays every Month
DESCRIPTION:  \nMorning of Prayer\nThird Saturdays In Person\n9:00 – 11:30 a.m. Hawai’i time (UTC -10)\nCentral Union Church • Women’s Building\n1660 S. Beretania St. Honolulu\, Hawaiʻi \nLet us join together to pause in the presence of the Divine in the sacred silence. An introduction to the method of Centering Prayer is provided. While Centering Prayer is the basis of our teaching\, all meditation paths are welcome. Books on the Spiritual Journey are available for purchase and loan. \nNo registration required\, donations welcome. \nSchedule\n9:00 Welcome\, sign-in\, refreshments\, book browsing\n9:20 Gather in the circle for Introductions\n9:30 Two 30-minute periods of Centering Prayer\nor An Introduction/review to The Method of Centering Prayer\n10:40 Silent break\n11:00 One 30-minutes period of Centering Prayer\n11:30 Depart in silence or stay and chat a bit \nDates 2025\nMarch 15\nApril 19\nMay 17\nJune 21\nJuly 19\nAugust 16\nSeptember 20\nOctober 18\nNovember 15\nDecember 20 \nCONTEMPLATIVE OUTREACH OF HAWAI’I\n(628) 400-2644 | cohawaii@gmail.com | www.cohawaii.org\n“Be still and know that I am God.” Psalm 46:10
URL:https://www.contemplativeoutreach.org/event/morning-of-prayer-honolulu-hawaii-3rd-saturdays-every-month-3/
LOCATION:Central Union Church\, 1660 S. Beretania St.\, Honolulu\, HI\, 96826\, United States
CATEGORIES:Workshop
ATTACH;FMTTYPE=image/jpeg:https://www.contemplativeoutreach.org/wp-content/uploads/2024/08/inperson-MOP-image.jpg
ORGANIZER;CN="Contemplative Outreach Hawai%CA%BBi":MAILTO:cohawaii@gmail.com
END:VEVENT
BEGIN:VEVENT
DTSTART;TZID=America/New_York:20260321T100000
DTEND;TZID=America/New_York:20260321T143000
DTSTAMP:20260420T120814
CREATED:20260204T193635Z
LAST-MODIFIED:20260204T193635Z
UID:160685-1774087200-1774103400@www.contemplativeoutreach.org
SUMMARY:Lectio Divina: Praying the Scriptures with the Four Senses of Scripture - via Zoom
DESCRIPTION:Please join Br. Bernard Delcourt of Holy Cross Monastery and Leslee Anne Terpay as they present an Introduction to Lectio Divina: Praying the Scriptures with the Four Senses of Scripture on Zoom Saturday\, March 21 10:00am to 2:30pm Eastern Time. (8:00am – 12:30pm MT). There will be a half hour break for sustenance. \nOur time together will include time to learn about prayer as relationship\, the simple method of Praying the Scriptures and how the fruits of this practice is manifest in your life. We will have ample time to experience the four moments — literal sense\, reflecting – allegorical sense\, responding – behavioral / moral Sense and resting – unitive sense of the prayer together. \nWe invite you to come along to focus on how God has called you to be and live out of the word that God has sent into the world. In the Silence of Love let us make a joyful sound of gratitude and appreciation for the gifts God has given us! \nTo register please go here: https://forms.gle/itGX7YzpvvHYnZcDA\nZoom meeting link information will be sent to the email address you provide the week of March 15\, 2026. \nThere is no cost for this enrichment event. If you would like to make a donation to Br. Bernard’s monastery here is a link to do that. https://holycrossmonastery.com/donate/ \nIf you have any questions\, please email Leslee at co-leslee@comcast.net
URL:https://www.contemplativeoutreach.org/event/lectio-divina-praying-the-scriptures-with-the-four-senses-of-scripture-via-zoom/
LOCATION:Internet – Online
CATEGORIES:Webinar,Workshop
ATTACH;FMTTYPE=image/jpeg:https://www.contemplativeoutreach.org/wp-content/uploads/2026/02/LD-alter-cropped.jpg
ORGANIZER;CN="Leslee Anne Terpay":MAILTO:co-leslee@comcast.net
END:VEVENT
BEGIN:VEVENT
DTSTART;TZID=America/Los_Angeles:20260328T100000
DTEND;TZID=America/Los_Angeles:20260328T140000
DTSTAMP:20260420T120814
CREATED:20260312T200635Z
LAST-MODIFIED:20260313T032144Z
UID:161400-1774692000-1774706400@www.contemplativeoutreach.org
SUMMARY:Silent Saturday: In the Way of the Cross
DESCRIPTION:A day of prayerful silence with Centering Prayer and the Biblical Stations of the Cross \nPlease join us on March 28 from 10:00am-2:00pm (Pacific) for a Silent Saturday Retreat as we prepare our hearts for Holy Week. It will be a gentle and spacious day devoted to quiet prayer and reflection. We will begin with a brief introduction to Centering Prayer (for those new to the practice)\, followed by a 20-minute Centering Prayer sit. The rest of the day will be held in silence\, with extended time for personal prayer\, journaling\, Scripture meditation\, and quiet walking and reflection on our church campus. \nParticipants will be provided with a self-guided devotional resource based on the Biblical Stations of the Cross\, offering Scripture readings and reflection prompts for personal use throughout the day. \nWe will also join in silence for a simple soup and salad lunch. \nWhether you are new to contemplative prayer or have practiced it for years\, you are warmly welcome. \nWhat to Bring: Bible\, journal and pen/pencil\, and an open heart. \nFree (donations welcome to offset cost of lunch and snacks)
URL:https://www.contemplativeoutreach.org/event/silent-saturday-in-the-way-of-the-cross/
LOCATION:Bethany Lutheran Church\, 1609 Hamner Avenue\, Norco\, CA\, 92860\, United States
CATEGORIES:Retreat
ATTACH;FMTTYPE=image/jpeg:https://www.contemplativeoutreach.org/wp-content/uploads/2026/03/IMG_3989-e1773346178439.jpeg
ORGANIZER;CN="Pastor Darryl W. Kozak":MAILTO:RevKozak@gmail.com
END:VEVENT
END:VCALENDAR