BEGIN:VCALENDAR
VERSION:2.0
PRODID:-//Contemplative Outreach, Ltd. - ECPv6.15.17.1//NONSGML v1.0//EN
CALSCALE:GREGORIAN
METHOD:PUBLISH
X-WR-CALNAME:Contemplative Outreach, Ltd.
X-ORIGINAL-URL:https://www.contemplativeoutreach.org
X-WR-CALDESC:Events for Contemplative Outreach, Ltd.
REFRESH-INTERVAL;VALUE=DURATION:PT1H
X-Robots-Tag:noindex
X-PUBLISHED-TTL:PT1H
BEGIN:VTIMEZONE
TZID:UTC
BEGIN:STANDARD
TZOFFSETFROM:+0000
TZOFFSETTO:+0000
TZNAME:UTC
DTSTART:20250101T000000
END:STANDARD
END:VTIMEZONE
BEGIN:VTIMEZONE
TZID:Europe/Helsinki
BEGIN:DAYLIGHT
TZOFFSETFROM:+0200
TZOFFSETTO:+0300
TZNAME:EEST
DTSTART:20250330T010000
END:DAYLIGHT
BEGIN:STANDARD
TZOFFSETFROM:+0300
TZOFFSETTO:+0200
TZNAME:EET
DTSTART:20251026T010000
END:STANDARD
BEGIN:DAYLIGHT
TZOFFSETFROM:+0200
TZOFFSETTO:+0300
TZNAME:EEST
DTSTART:20260329T010000
END:DAYLIGHT
BEGIN:STANDARD
TZOFFSETFROM:+0300
TZOFFSETTO:+0200
TZNAME:EET
DTSTART:20261025T010000
END:STANDARD
BEGIN:DAYLIGHT
TZOFFSETFROM:+0200
TZOFFSETTO:+0300
TZNAME:EEST
DTSTART:20270328T010000
END:DAYLIGHT
BEGIN:STANDARD
TZOFFSETFROM:+0300
TZOFFSETTO:+0200
TZNAME:EET
DTSTART:20271031T010000
END:STANDARD
END:VTIMEZONE
BEGIN:VTIMEZONE
TZID:Europe/Paris
BEGIN:DAYLIGHT
TZOFFSETFROM:+0100
TZOFFSETTO:+0200
TZNAME:CEST
DTSTART:20250330T010000
END:DAYLIGHT
BEGIN:STANDARD
TZOFFSETFROM:+0200
TZOFFSETTO:+0100
TZNAME:CET
DTSTART:20251026T010000
END:STANDARD
BEGIN:DAYLIGHT
TZOFFSETFROM:+0100
TZOFFSETTO:+0200
TZNAME:CEST
DTSTART:20260329T010000
END:DAYLIGHT
BEGIN:STANDARD
TZOFFSETFROM:+0200
TZOFFSETTO:+0100
TZNAME:CET
DTSTART:20261025T010000
END:STANDARD
BEGIN:DAYLIGHT
TZOFFSETFROM:+0100
TZOFFSETTO:+0200
TZNAME:CEST
DTSTART:20270328T010000
END:DAYLIGHT
BEGIN:STANDARD
TZOFFSETFROM:+0200
TZOFFSETTO:+0100
TZNAME:CET
DTSTART:20271031T010000
END:STANDARD
END:VTIMEZONE
BEGIN:VEVENT
DTSTART;TZID=UTC:20261028T110000
DTEND;TZID=UTC:20261101T130000
DTSTAMP:20260420T184703
CREATED:20260330T153607Z
LAST-MODIFIED:20260330T153607Z
UID:161729-1793185200-1793538000@www.contemplativeoutreach.org
SUMMARY:Five-Day Intensive/Post-Intensive Centering Prayer Retreat
DESCRIPTION:In Contemplative Outreach (CO) Centering Prayer retreats\, practitioners are given an opportunity to deepen their practice and relationship with God by joining with others in community for the experience of immersion in contemplative prayer apart from ordinary life. Retreats are a way to take one’s relationship with God and one’s practice deeper. They offer time and space away from the busyness and demands of daily life\, and allow the mind\, body\, and spirit to surrender to God’s presence and action within. \nThis retreat will offer two tracks — Intensive and Post-Intensive. The retreat will be held at the Benedictine Hospitality Center in Ferdinand\, Indiana. \nThe Benedictine Hospitality Center is operated by the Sisters of St. Benedict\, one of the largest Benedictine communities of women in the United States. Monastery Immaculate Conception was founded in 1867 by four young Benedictine sisters who came to Ferdinand to teach the children of area settlers. \nPlease see the link below for more information and to register.
URL:https://www.contemplativeoutreach.org/event/five-day-intensive-post-intensive-centering-prayer-retreat/
LOCATION:Benedictine Hospitality Center\, 802 E. 10th St\, Ferdinand\, IN\, 47532\, United States
CATEGORIES:Retreat
ORGANIZER;CN="Contemplative Outreach Indianapolis":MAILTO:mary.riner@gmail.com
END:VEVENT
BEGIN:VEVENT
DTSTART;TZID=Europe/Helsinki:20261028T170000
DTEND;TZID=Europe/Helsinki:20261101T140000
DTSTAMP:20260420T184703
CREATED:20250902T175121Z
LAST-MODIFIED:20260328T080028Z
UID:157085-1793206800-1793541600@www.contemplativeoutreach.org
SUMMARY:4-Day Contemplative Retreat
DESCRIPTION:“In the stillness of Centering Prayer\, we learn to rest in God\, not as an idea\, but as a living presence that transforms us from within.”\n– Cynthia Bourgeault \nSharing silent prayer in the context of a retreat offers a profound experience of soul-to-soul connection — with fellow practitioners and with all living beings. \nThis 4-day retreat is designed to nourish the soul’s deep longing for intimacy with God\, inviting participants into a transformative journey through contemplation and the sacred practice of silence. \nHeld entirely in silence\, the retreat includes: \nTwo daily input sessions to deepen understanding of the Centering Prayer method and reflect on the contemplative path;\nMultiple periods of Centering Prayer each day;\nOpportunities for soul sharing with the guide (if desired);\nPersonal time for reflection and journaling. \nIt is recommended that participants have attended either a weekend Centering Prayer retreat or a one-day introductory workshop and maintain some level of ongoing practice. \nPlease see the link below for more information and to register.
URL:https://www.contemplativeoutreach.org/event/4-day-contemplative-retreat-2/
LOCATION:Sacred Heart Monastery\, Missiezusters Klooster\, 20\, Steyl\, Venlo\, 5935 BX\, Netherlands
CATEGORIES:Retreat
ATTACH;FMTTYPE=image/jpeg:https://www.contemplativeoutreach.org/wp-content/uploads/2025/09/Photo-4-e1756835463629.jpg
ORGANIZER;CN="Sr. Maria Jose Rebelo%2C SSpS":MAILTO:silence.contemplation.steyl@ssps.de
END:VEVENT
BEGIN:VEVENT
DTSTART;VALUE=DATE:20261105
DTEND;VALUE=DATE:20261109
DTSTAMP:20260420T184703
CREATED:20260227T184723Z
LAST-MODIFIED:20260227T184723Z
UID:161243-1793836800-1794182399@www.contemplativeoutreach.org
SUMMARY:Centering Prayer Silent Retreat Weekend - Save the Date
DESCRIPTION:Join the Contemplative Outreach of Greater Cincinnati and Northern Kentucky Chapter for a four day Centering Prayer\, silent retreat. The retreat is being held at the scenic Sisters of Charity of Cincinnati Motherhouse\, which is located in Mt. St. Joseph\, OH\, 45051. More information will be coming soon!
URL:https://www.contemplativeoutreach.org/event/centering-prayer-silent-retreat-weekend-save-the-date/
LOCATION:Sisters of Charity Motherhouse\, 5900 Delhi Road\, Cincinnati\, OH\, 45233\, United States
CATEGORIES:Retreat
ATTACH;FMTTYPE=image/jpeg:https://www.contemplativeoutreach.org/wp-content/uploads/2026/02/Labryth-Cinti-e1772218030416.jpg
ORGANIZER;CN="Contemplative Outreach of Greater Cincinnati and Northern Kentucky":MAILTO:cogcnky@gmail.com
END:VEVENT
BEGIN:VEVENT
DTSTART;TZID=UTC:20261107T090000
DTEND;TZID=UTC:20261107T113000
DTSTAMP:20260420T184703
CREATED:20231212T221604Z
LAST-MODIFIED:20251217T224252Z
UID:139293-1794042000-1794051000@www.contemplativeoutreach.org
SUMMARY:All Saints-All Souls Visio Divina & Centering Prayer ONLINE
DESCRIPTION: All Saints-All Souls Visio Divina  is the focus for this online half day Centering Prayer/Welcoming Prayer mini-retreat via Hawaiʻi (1st Saturday of every month)\n @ 9:00 am – 11:30 am UTC-10\nFREE \nFirst Saturdays online retreats are a special time where we explore our Centering Prayer practice. We are looking forward to sharing Physio-Divina (Moving) practices\, Visio-Divina (Visual-Art) practices\, Terra-Divina (Nature)\, Lectio-Divina (Sacred Text) practices in addition to the Centering Prayer and Welcoming Prayer practice that are our foundation. Pulelehua\, Liedeke\, and Margie welcome all who wish to join us. \nDates 2025 ( the zoom link is the same for all these dates): Jan 4\, Feb. 1 March 1\, April 5\, May 3\, June 7 July 5\, August 2\, September 6\, October4\, November 1\, December 6 \nWe hope you will join us from wherever & whenever you are! Schedule in Hawai’i Time (UTC -10)\n8:45am Room open to for early connections\n9:00 Welcome and introductions\n9:15 Centering Prayer\n9:45 Break\n9:50 Centering Prayer\n10:20 Break\n10:30 Visio Divina and Reflections\n11:15 Closing prayer\nhttps://us02web.zoom.us/j/92185854158?pwd=dDJxN0FkRkRvQWhrQURwN29SUTBFUT09\nZoom Meeting ID: 921 8585 4158 Passcode: 730086 \nWebsite: http://www.cohawaii.org\nPhone (628) 400-2644\nEmail: cohawaii@gmail.com \nAll session are freely offered\, donations are welcome\, no registration is needed.
URL:https://www.contemplativeoutreach.org/event/gratitude-in-centering-prayer-visio-divina-online/
LOCATION:Internet – Online
CATEGORIES:Retreat,Webinar
ATTACH;FMTTYPE=image/jpeg:https://www.contemplativeoutreach.org/wp-content/uploads/2023/12/all-saints-modern.jpg
ORGANIZER;CN="Contemplative Outreach Hawai%CA%BBi":MAILTO:cohawaii@gmail.com
END:VEVENT
BEGIN:VEVENT
DTSTART;TZID=UTC:20261113T160000
DTEND;TZID=UTC:20261115T110000
DTSTAMP:20260420T184703
CREATED:20251211T190244Z
LAST-MODIFIED:20251211T190244Z
UID:158568-1794585600-1794740400@www.contemplativeoutreach.org
SUMMARY:Centering Prayer Weekend Retreat
DESCRIPTION:Join Sr. Ruth Ann for our new Centering Prayer Series\, offered every other month. This ongoing retreat invites you to broaden and deepen your Centering Prayer practice in a warm and welcoming environment. Come once or come to them all—each session stands on its own while also supporting a growing contemplative rhythm. \nTogether\, we’ll explore the foundations of Centering Prayer\, a gentle yet profound method of silent prayer that opens the heart and mind to the presence of God. \nPlease see the link below for more information and to register (scroll down for the desired event).
URL:https://www.contemplativeoutreach.org/event/centering-prayer-weekend-retreat-31/
LOCATION:Bethany Retreat Center\, 1031 Germania Rd\, Frenchville\, PA\, 16836\, United States
CATEGORIES:Retreat
ATTACH;FMTTYPE=image/jpeg:https://www.contemplativeoutreach.org/wp-content/uploads/2025/12/All-of-Bethany-Retreat-4.jpg
ORGANIZER;CN="Sr. Ruth Ann Madera":MAILTO:lisam@anawimministries.org
END:VEVENT
BEGIN:VEVENT
DTSTART;TZID=Europe/Paris:20261114T140000
DTEND;TZID=Europe/Paris:20261114T153000
DTSTAMP:20260420T184703
CREATED:20251219T183959Z
LAST-MODIFIED:20260209T152803Z
UID:158988-1794664800-1794670200@www.contemplativeoutreach.org
SUMMARY:Silence that Connects the World – Session 6 (via Zoom)
DESCRIPTION:Session 6. Healing Presence in the World \nTheme: Integrating contemplative practice with compassionate action in daily life. \n“Contemplation is life itself\, fully awake\, fully active\, and fully aware that it is alive. It is spiritual wonder. It is spontaneous awe at the sacredness of life\, of being. It is gratitude for life\, for awareness\, and for being.”\n— Thomas Merton \nStep into Stillness \nPause from the noise of daily life and reconnect with the divine presence within. Join us for an online gathering of Centering Prayer practitioners—a simple yet profound space for silence\, reflection\, and shared practice within a global community. Together\, we’ll explore stillness\, presence\, and the richness of the practice in community. \nWhat to Expect: \nShared silence and practice\nBrief teaching and reflection\nSmall-group sharing\nEncouragement in the contemplative path \n2-3:30pm UTC +1 (8am Eastern Time) \nPlease see the link below to obtain the Zoom link.
URL:https://www.contemplativeoutreach.org/event/silence-that-connects-the-world-session-6-via-zoom/
LOCATION:Internet – Online
CATEGORIES:Workshop
ATTACH;FMTTYPE=image/jpeg:https://www.contemplativeoutreach.org/wp-content/uploads/2025/12/Photo-1-e1766168355310.jpg
ORGANIZER;CN="Sr. Maria Jose Rebelo%2C SSpS":MAILTO:silence.contemplation.steyl@ssps.de
END:VEVENT
END:VCALENDAR