BEGIN:VCALENDAR
VERSION:2.0
PRODID:-//Contemplative Outreach, Ltd. - ECPv6.15.17.1//NONSGML v1.0//EN
CALSCALE:GREGORIAN
METHOD:PUBLISH
X-ORIGINAL-URL:https://www.contemplativeoutreach.org
X-WR-CALDESC:Events for Contemplative Outreach, Ltd.
REFRESH-INTERVAL;VALUE=DURATION:PT1H
X-Robots-Tag:noindex
X-PUBLISHED-TTL:PT1H
BEGIN:VTIMEZONE
TZID:UTC
BEGIN:STANDARD
TZOFFSETFROM:+0000
TZOFFSETTO:+0000
TZNAME:UTC
DTSTART:20250101T000000
END:STANDARD
END:VTIMEZONE
BEGIN:VTIMEZONE
TZID:America/Los_Angeles
BEGIN:DAYLIGHT
TZOFFSETFROM:-0800
TZOFFSETTO:-0700
TZNAME:PDT
DTSTART:20250309T100000
END:DAYLIGHT
BEGIN:STANDARD
TZOFFSETFROM:-0700
TZOFFSETTO:-0800
TZNAME:PST
DTSTART:20251102T090000
END:STANDARD
BEGIN:DAYLIGHT
TZOFFSETFROM:-0800
TZOFFSETTO:-0700
TZNAME:PDT
DTSTART:20260308T100000
END:DAYLIGHT
BEGIN:STANDARD
TZOFFSETFROM:-0700
TZOFFSETTO:-0800
TZNAME:PST
DTSTART:20261101T090000
END:STANDARD
BEGIN:DAYLIGHT
TZOFFSETFROM:-0800
TZOFFSETTO:-0700
TZNAME:PDT
DTSTART:20270314T100000
END:DAYLIGHT
BEGIN:STANDARD
TZOFFSETFROM:-0700
TZOFFSETTO:-0800
TZNAME:PST
DTSTART:20271107T090000
END:STANDARD
END:VTIMEZONE
BEGIN:VTIMEZONE
TZID:Europe/Paris
BEGIN:DAYLIGHT
TZOFFSETFROM:+0100
TZOFFSETTO:+0200
TZNAME:CEST
DTSTART:20250330T010000
END:DAYLIGHT
BEGIN:STANDARD
TZOFFSETFROM:+0200
TZOFFSETTO:+0100
TZNAME:CET
DTSTART:20251026T010000
END:STANDARD
BEGIN:DAYLIGHT
TZOFFSETFROM:+0100
TZOFFSETTO:+0200
TZNAME:CEST
DTSTART:20260329T010000
END:DAYLIGHT
BEGIN:STANDARD
TZOFFSETFROM:+0200
TZOFFSETTO:+0100
TZNAME:CET
DTSTART:20261025T010000
END:STANDARD
BEGIN:DAYLIGHT
TZOFFSETFROM:+0100
TZOFFSETTO:+0200
TZNAME:CEST
DTSTART:20270328T010000
END:DAYLIGHT
BEGIN:STANDARD
TZOFFSETFROM:+0200
TZOFFSETTO:+0100
TZNAME:CET
DTSTART:20271031T010000
END:STANDARD
END:VTIMEZONE
BEGIN:VEVENT
DTSTART;TZID=UTC:20260312T080000
DTEND;TZID=UTC:20260501T170000
DTSTAMP:20260420T094845
CREATED:20260312T200118Z
LAST-MODIFIED:20260312T200118Z
UID:161384-1773302400-1777654800@www.contemplativeoutreach.org
SUMMARY:Certificate in Contemplative Spiritual Direction
DESCRIPTION:This application is for Cohort 2026 of the Certificate in Contemplative Spiritual Direction program\, a two-year formation and training program for persons who discern a call to the ministry of spiritual direction. Applicants will be notified of the status of their application within two months of completing their submission. The application deadline is May 1\, 2026. \nPlease see the link below.
URL:https://www.contemplativeoutreach.org/event/certificate-in-contemplative-spiritual-direction-2/
LOCATION:Columbia Theological Seminary\, 701 South Columbia Drive\, Decatur\, GA\, 30031\, United States
CATEGORIES:Training
END:VEVENT
BEGIN:VEVENT
DTSTART;TZID=UTC:20260419T160000
DTEND;TZID=UTC:20260426T110000
DTSTAMP:20260420T094845
CREATED:20251211T185401Z
LAST-MODIFIED:20251211T185401Z
UID:158548-1776614400-1777201200@www.contemplativeoutreach.org
SUMMARY:Directed Silent Retreat
DESCRIPTION:Spiritual direction or spiritual companionship is a process guided by the Holy Spirit in which two people enter into a unique conversation. The spiritual director or guide is trained to listen in a particular way to hear where God is present and acting in the life of another. This “holy listening” approaches each person’s life and story as sacred. \nPlease see the link below for more information and to register (scroll down for the desired event).
URL:https://www.contemplativeoutreach.org/event/directed-silent-retreat-2/
LOCATION:Bethany Retreat Center\, 1031 Germania Rd\, Frenchville\, PA\, 16836\, United States
CATEGORIES:Retreat
ATTACH;FMTTYPE=image/jpeg:https://www.contemplativeoutreach.org/wp-content/uploads/2025/12/june-day.jpg
ORGANIZER;CN="Sr. Ruth Ann Madera":MAILTO:lisam@anawimministries.org
END:VEVENT
BEGIN:VEVENT
DTSTART;TZID=UTC:20260420T160000
DTEND;TZID=UTC:20260424T120000
DTSTAMP:20260420T094845
CREATED:20260305T221812Z
LAST-MODIFIED:20260305T221812Z
UID:161311-1776700800-1777032000@www.contemplativeoutreach.org
SUMMARY:Centering Prayer Retreat
DESCRIPTION:Give yourself the GIFT of a 5-day Silent Retreat April 20-24\, 2026\, at Subicaco Monastery\, Subiaco\, AR 72865. \nThis retreat is facilitated by Nick Cole (970) 275-1170\, or email ngcole42@gmail.com. There will be an abundance of Centering/meditation with some teaching by Thomas Keating and Michael Singer. To register call Lora at (479) 934-1290. Call Nick with any questions. Caution: this retreat may be life-changing! Cowabunga!
URL:https://www.contemplativeoutreach.org/event/centering-prayer-retreat-60/
LOCATION:Subiaco Monastery\, 405 N. Subiaco Ave.\, Subiaco\, AR\, 72865\, United States
CATEGORIES:Retreat
ORGANIZER;CN="Nicholas Cole":MAILTO:ngcole42@gmail.com
END:VEVENT
BEGIN:VEVENT
DTSTART;TZID=UTC:20260423T160000
DTEND;TZID=UTC:20260427T130000
DTSTAMP:20260420T094845
CREATED:20260204T194929Z
LAST-MODIFIED:20260204T194929Z
UID:160648-1776960000-1777294800@www.contemplativeoutreach.org
SUMMARY:4-day Centering Prayer Spring Retreat
DESCRIPTION:4-day Centering Prayer Silent Retreat – Spring 2026\nApril 23-26\, 2026\nYou are invited to join us for the CO of Nebraska spring retreat. Spring is a beautiful time to be at Saint Benedict Center and enjoy the earth’s renewal along with our silent community for time spent in solitude and being reminded of God’s unconditional love. \nWe begin Thursday with a welcome meeting at 5pm and conclude Sunday after the noon meal. \nRegistration includes three nights in a private room\, all meals and programing.\nCost $355.00 Registration closes Friday\, April 10th
URL:https://www.contemplativeoutreach.org/event/4-day-centering-prayer-spring-retreat/
LOCATION:Saint Benedict Center\, 1123 Road I\, Schuyler\, NE\, 68661\, United States
CATEGORIES:Retreat
ATTACH;FMTTYPE=image/jpeg:https://www.contemplativeoutreach.org/wp-content/uploads/2026/01/IMG_5207-e1770234475471.jpeg
ORGANIZER;CN="Nebraska Contemplative Outreach":MAILTO:Cathy.c@cox.net
END:VEVENT
BEGIN:VEVENT
DTSTART;TZID=America/Los_Angeles:20260425T130000
DTEND;TZID=America/Los_Angeles:20260425T170000
DTSTAMP:20260420T094845
CREATED:20260313T174709Z
LAST-MODIFIED:20260313T182244Z
UID:161425-1777122000-1777136400@www.contemplativeoutreach.org
SUMMARY:Introduction to Centering Prayer
DESCRIPTION:Join us on Saturday\, April 25 from 1:00pm-5:00pm (Pacific) for a time of stillness\, reflection\, and deepening in the practice of Centering Prayer. Whether you’re new to contemplative prayer or seeking to refresh your prayer life\, this workshop will offer guidance\, practice\, and fellowship. The workshop will be led by the Rev. Darryl W. Kozak\, Regional Assistant to the Bishop for the Inland Region\, and a Commissioned Presenter of Centering Prayer for Contemplative Outreach. \nWhat to Expect\nPresentations introducing the method of Centering Prayer\nGuided times of prayer and silence in community\nOpportunity for questions and reflection \nWhy Attend?\nCentering Prayer invites you to rest in God’s presence beyond thoughts\, words\, or images. This simple yet profound practice can deepen your prayer life\, nurture inner peace\, and ground your relationship with God in silence and stillness. \nSpace is limited to 25 participants\nRegistration deadline: Wednesday\, April 22
URL:https://www.contemplativeoutreach.org/event/introduction-to-centering-prayer-17/
LOCATION:Trinity Lutheran Church\, 16138 Molino Drive\, Victorville\, CA\, 92395\, United States
CATEGORIES:Workshop
ATTACH;FMTTYPE=image/jpeg:https://www.contemplativeoutreach.org/wp-content/uploads/2026/03/IMG_3989-e1773346178439.jpeg
ORGANIZER;CN="Pastor Darryl W. Kozak":MAILTO:RevKozak@gmail.com
END:VEVENT
BEGIN:VEVENT
DTSTART;VALUE=DATE:20260426
DTEND;VALUE=DATE:20260502
DTSTAMP:20260420T094845
CREATED:20250924T174519Z
LAST-MODIFIED:20250924T174519Z
UID:157519-1777161600-1777679999@www.contemplativeoutreach.org
SUMMARY:Contemplative Outreach of Northern Nevada - Centering Prayer Intensive Silent Retreat
DESCRIPTION:Contemplative Outreach of Northern Nevada (CONN) is hosting an Intensive silent retreat. The retreat begins Sunday April 26 and ends Friday May 1\, 2026. Check in begins at 4pm Sunday 4/26. The retreat concludes Friday at 12 Noon\, with a celebratory lunch. \nThe retreat will be held at Zephyr Point Presbyterian Conference Center. The web address is https://www.zephyrpoint.org if you would like additional information about the center. \nInformation is also available at the CONN website: https://www.contemplativeoutreachnv.org \nFor further information about the retreat or to reserve your place please contact:\nCathy Wayne\n925-586-3627\nsgtmom167@gmail.com
URL:https://www.contemplativeoutreach.org/event/contemplative-outreach-of-northern-nevada-centering-prayer-intensive-silent-retreat/
LOCATION:Zephyr Point Presbyterian Conference Center\, 660 Hwy. 50\, Zephyr Cove\, NV\, 89448\, United States
CATEGORIES:Retreat
ORGANIZER;CN="Contemplative Outreach of Northern Nevada":MAILTO:ms_miskulin@icloud.com
END:VEVENT
BEGIN:VEVENT
DTSTART;TZID=Europe/Paris:20260427T170000
DTEND;TZID=Europe/Paris:20260503T140000
DTSTAMP:20260420T094845
CREATED:20250902T174857Z
LAST-MODIFIED:20250902T174857Z
UID:157080-1777309200-1777816800@www.contemplativeoutreach.org
SUMMARY:6-Day Contemplative Retreat
DESCRIPTION:“Here\, in this unforeseen defencelessness\, is granted the contemplative experience… that the present moment\, just the way it is\, is already\, in its deepest actuality\, the fullness of union with God we seek.”\n– James Finley \nThrough the practice of Centering Prayer\, we open ourselves to the ongoing process of transformation—within ourselves and in our relationships with others and with all of Creation. \nAs we remain faithful to this practice\, a compassionate way of seeing and being begins to unfold. It creates space for the soul’s natural sense of awe and wonder to be rekindled\, allowing us to experience creation with renewed reverence. \nThis retreat offers a rhythm of deepening silence and spiritual nourishment\, including: \nTwo daily input sessions exploring themes of silence\, contemplation\, the Centering Prayer method\, and the transformative journey.\nMultiple guided Centering Prayer periods each day.\nOpportunities for soul companionship\, if desired.\nPersonal time for reflection\, journaling\, walking in nature\, and rest. \nIt is recommended that: Participants have attended at least one weekend retreat in silence and have a regular practice of Centering Prayer. \nPlease see the link below for more information and to register.
URL:https://www.contemplativeoutreach.org/event/6-day-contemplative-retreat-2/
LOCATION:Sacred Heart Monastery\, Missiezusters Klooster\, 20\, Steyl\, Venlo\, 5935 BX\, Netherlands
CATEGORIES:Retreat
ATTACH;FMTTYPE=image/jpeg:https://www.contemplativeoutreach.org/wp-content/uploads/2025/09/Photo-2-e1756835327108.jpg
ORGANIZER;CN="Sr. Maria Jose Rebelo%2C SSpS":MAILTO:silence.contemplation.steyl@ssps.de
END:VEVENT
END:VCALENDAR