BEGIN:VCALENDAR
VERSION:2.0
PRODID:-//Contemplative Outreach, Ltd. - ECPv6.15.17.1//NONSGML v1.0//EN
CALSCALE:GREGORIAN
METHOD:PUBLISH
X-WR-CALNAME:Contemplative Outreach, Ltd.
X-ORIGINAL-URL:https://www.contemplativeoutreach.org
X-WR-CALDESC:Events for Contemplative Outreach, Ltd.
REFRESH-INTERVAL;VALUE=DURATION:PT1H
X-Robots-Tag:noindex
X-PUBLISHED-TTL:PT1H
BEGIN:VTIMEZONE
TZID:UTC
BEGIN:STANDARD
TZOFFSETFROM:+0000
TZOFFSETTO:+0000
TZNAME:UTC
DTSTART:20240101T000000
END:STANDARD
END:VTIMEZONE
BEGIN:VEVENT
DTSTART;TZID=UTC:20250125T083000
DTEND;TZID=UTC:20250125T163000
DTSTAMP:20260422T162345
CREATED:20240612T170815Z
LAST-MODIFIED:20240612T170815Z
UID:145290-1737793800-1737822600@www.contemplativeoutreach.org
SUMMARY:The Body’s Bridge to the Experience of Living in God: Exploring BioSpiritual Focusing in Context of BioSpirituality - in person and online
DESCRIPTION:Two Jesuits\, Fr. Edwin McMahon and Fr. Peter Campbell\, incorporated the embodied practice of Focusing into the larger context of BioSpirituality. Their work opens us to know ourselves as living within the greater Whole\, the Body of Christ. During this day\, we’ll experience BioSpiritual Focusing and explore\, among other things\, the embodied experience of grace and becoming a living expression of love. We’ll learn to reconnect to ourselves\, one another\, and to God\, the Reality in whom we live and move and have our being. \nThis program will be offered both in-person and online via Zoom. Information on how to access the program on Zoom will be sent to participants in advance. \nThis program will include a morning and an afternoon session of Centering Prayer. \nPlease see the link below.
URL:https://www.contemplativeoutreach.org/event/the-bodys-bridge-to-the-experience-of-living-in-god-exploring-biospiritual-focusing-in-context-of-biospirituality-in-person-and-online/
LOCATION:Holy Family Passionist Retreat Center\, 303 Tunxis Road\, West Hartford\, CT\, 6107\, United States
CATEGORIES:Workshop
ATTACH;FMTTYPE=image/png:https://www.contemplativeoutreach.org/wp-content/uploads/2024/06/CCE-Bodys-Bridge.png
ORGANIZER;CN="Mike  Smoolca":MAILTO:msmoolca@hotmail.com
END:VEVENT
END:VCALENDAR