BEGIN:VCALENDAR
VERSION:2.0
PRODID:-//Contemplative Outreach, Ltd. - ECPv6.15.17.1//NONSGML v1.0//EN
CALSCALE:GREGORIAN
METHOD:PUBLISH
X-ORIGINAL-URL:https://www.contemplativeoutreach.org
X-WR-CALDESC:Events for Contemplative Outreach, Ltd.
REFRESH-INTERVAL;VALUE=DURATION:PT1H
X-Robots-Tag:noindex
X-PUBLISHED-TTL:PT1H
BEGIN:VTIMEZONE
TZID:America/Denver
BEGIN:DAYLIGHT
TZOFFSETFROM:-0700
TZOFFSETTO:-0600
TZNAME:MDT
DTSTART:20230312T090000
END:DAYLIGHT
BEGIN:STANDARD
TZOFFSETFROM:-0600
TZOFFSETTO:-0700
TZNAME:MST
DTSTART:20231105T080000
END:STANDARD
BEGIN:DAYLIGHT
TZOFFSETFROM:-0700
TZOFFSETTO:-0600
TZNAME:MDT
DTSTART:20240310T090000
END:DAYLIGHT
BEGIN:STANDARD
TZOFFSETFROM:-0600
TZOFFSETTO:-0700
TZNAME:MST
DTSTART:20241103T080000
END:STANDARD
BEGIN:DAYLIGHT
TZOFFSETFROM:-0700
TZOFFSETTO:-0600
TZNAME:MDT
DTSTART:20250309T090000
END:DAYLIGHT
BEGIN:STANDARD
TZOFFSETFROM:-0600
TZOFFSETTO:-0700
TZNAME:MST
DTSTART:20251102T080000
END:STANDARD
END:VTIMEZONE
BEGIN:VEVENT
DTSTART;TZID=America/Denver:20240203T090000
DTEND;TZID=America/Denver:20240203T120000
DTSTAMP:20260422T110946
CREATED:20231211T205327Z
LAST-MODIFIED:20231211T205327Z
UID:139214-1706950800-1706961600@www.contemplativeoutreach.org
SUMMARY:Rev. Dr. Barbara Holmes – Crisis Contemplation:  Healing the Wounds of the Village - via Zoom
DESCRIPTION:In Crisis Contemplation\, the Rev. Dr. Barbara Holmes will address two entry points into contemplation which have seldom been addressed: contemplation during crisis\, and how we contemplate as community. \nEngaging deeply with both history and current events\, Holmes will address the emergence of crisis contemplation\, especially through the lenses of BIPOC peoples. Dr Barbara will be exploring existing communal contemplative experiences. As she looks into types of crises (pandemics\, earthquakes\, and systemic abuses)\, she examines the resulting traumatic wounds which manifest across generations. \nIn the second half of the presentation\, she will shift toward a village response to crises\, addressing communal formation\, belonging\, resistance\, and resilience. A deeper look at healing through memory and story\, culture and ritual\, will lead to a final chapter on envisioning different futures through liminality and bio-spiritual resurrection. \nThis event will include 20 minutes of Centering Prayer \nRecording note: This event will be recorded. All registrants will receive a copy of the Zoom recording within 2 weeks of the event. \nAbout Rev. Dr. Barbara A. Holmes \nDr. Holmes is a spiritual teacher and writer focused on African American spirituality\, mysticism\, cosmology and culture. She is President Emerita of United Theological Seminary of the Twin Cities (2012-2016). She also served as Vice President of Academic Affairs and Dean of Memphis Theological Seminary (2005-2010). She holds the title of Professor Emerita of Ethics and African American Religious Studies at that seminary. Currently\, she is a core faculty member at the Center for Action and Contemplation founded by Fr. Richard Rohr. \nTime listed is Mountain Time (Denver\, Colorado) \nClick the website link below to register \nScholarships are available.
URL:https://www.contemplativeoutreach.org/event/rev-dr-barbara-holmes-crisis-contemplation-healing-the-wounds-of-the-village-via-zoom/
LOCATION:Internet – Online
CATEGORIES:Webinar
ATTACH;FMTTYPE=image/jpeg:https://www.contemplativeoutreach.org/wp-content/uploads/2023/12/photo--e1702327953603.jpg
ORGANIZER;CN="Contemplative Outreach of Colorado":MAILTO:staff@centeringprayer.net
END:VEVENT
END:VCALENDAR