BEGIN:VCALENDAR
VERSION:2.0
PRODID:-//Contemplative Outreach, Ltd. - ECPv6.15.17.1//NONSGML v1.0//EN
CALSCALE:GREGORIAN
METHOD:PUBLISH
X-WR-CALNAME:Contemplative Outreach, Ltd.
X-ORIGINAL-URL:https://www.contemplativeoutreach.org
X-WR-CALDESC:Events for Contemplative Outreach, Ltd.
REFRESH-INTERVAL;VALUE=DURATION:PT1H
X-Robots-Tag:noindex
X-PUBLISHED-TTL:PT1H
BEGIN:VTIMEZONE
TZID:UTC
BEGIN:STANDARD
TZOFFSETFROM:+0000
TZOFFSETTO:+0000
TZNAME:UTC
DTSTART:20230101T000000
END:STANDARD
END:VTIMEZONE
BEGIN:VTIMEZONE
TZID:Europe/Helsinki
BEGIN:DAYLIGHT
TZOFFSETFROM:+0200
TZOFFSETTO:+0300
TZNAME:EEST
DTSTART:20230326T010000
END:DAYLIGHT
BEGIN:STANDARD
TZOFFSETFROM:+0300
TZOFFSETTO:+0200
TZNAME:EET
DTSTART:20231029T010000
END:STANDARD
BEGIN:DAYLIGHT
TZOFFSETFROM:+0200
TZOFFSETTO:+0300
TZNAME:EEST
DTSTART:20240331T010000
END:DAYLIGHT
BEGIN:STANDARD
TZOFFSETFROM:+0300
TZOFFSETTO:+0200
TZNAME:EET
DTSTART:20241027T010000
END:STANDARD
BEGIN:DAYLIGHT
TZOFFSETFROM:+0200
TZOFFSETTO:+0300
TZNAME:EEST
DTSTART:20250330T010000
END:DAYLIGHT
BEGIN:STANDARD
TZOFFSETFROM:+0300
TZOFFSETTO:+0200
TZNAME:EET
DTSTART:20251026T010000
END:STANDARD
END:VTIMEZONE
BEGIN:VEVENT
DTSTART;TZID=UTC:20240217T080000
DTEND;TZID=UTC:20240511T170000
DTSTAMP:20260422T092500
CREATED:20240125T175422Z
LAST-MODIFIED:20240125T175422Z
UID:141410-1708156800-1715446800@www.contemplativeoutreach.org
SUMMARY:Contemplative Living II - ONLINE
DESCRIPTION:I will give you a new heart\, and a new spirit I will put within you.\n– Ezekiel 36:26 \n“Contemplative life begins when when take the first step into the silence of our heart. It’s a pilgrimage—a journey that takes us first to the inner reaches of who we really are\, and from there\, into the life we were meant to live.” — Julie Saad\, Contemplative Life: Discovering Our Path into the Heart of God \nThis four-month long online course is the second part of the Contemplative Living concentration for the Certificate in Spiritual Formation. This study is an experiential course that guides participants to deepen their experience of the abiding presence of God by cultivating their contemplative capacities. Participants will discover their daily life as prayer as they deepen their contemplative spiritual practices within a community of seekers. Contemplative practices are the doorway into the gift of contemplative prayer where the journey that begins in the silence of our hearts leads us into the heart of God. As we cultivate contemplative practices amid ordinary life\, we begin to experience oneness with God and all creation. \nThe Design of Contemplative Living II: Daily Life as Prayer \nGaining contemplative attitudes and dispositions through: \n\nContemplative Discernment – a method for making decisions based on our interior spiritual life\, relying on God.\nContemplative Awareness related to Addictions\, Attachments and Aversion – using the discernment process to surface habit patterns that have become compulsions we no longer freely choose.\nThe Forgiveness Prayer – a prayer that guides us to follow Jesus’s example to live with hearts open to love.\nContemplative Service – a vocation\, a calling\, or a way of life that’s rooted in living a contemplative life.\nCommitment to a Contemplative Rule of Life – looking at the rhythm of life you’ve created in this course\, what has worked for you that you will continue to be committed to in the ordinary activities of your life.\nContemplative Living Communities – the support we receive from community enhances our spiritual journey and is helpful to continue in some form at the end of the course.\n\nObjectives \n\nTo establish a daily practice of Centering Prayer;\nTo integrate contemplative practices into daily life;\nTo cultivate contemplative attitudes and disposition.\n\nLocation: Online \nWith: Julie Saad.\nJulie Saad is a spiritual director\, author\, teacher\, and retreat leader. Since 1994 she has been a student of Thomas Keating (1923-2018)\, a Trappist monk who was a founding member and spiritual guide for Contemplative Outreach. Julie has also served Contemplative Outreach as a coordinator of the Denver Chapter\, facilitator of spiritual journey courses and retreats\, member of the Governing Board\, and coordinator of the Contemplative Living Experience Program. She has been practicing and teaching Centering Prayer and other contemplative practices for over 25 years. She recently published the book Contemplative Life: Discovering Our Path into the Heart of God\, a guidebook to spiritual formation in the Christian contemplative tradition\, based on the teaching of Thomas Keating. \nSchedule: Contemplative Living II consists of four monthly\, synchronous teachings and practices with individual study and devotion between the monthly sessions: \n6 hour monthly synchronous sessions\n1 hour weekly virtual prayer chapel\nThe synchronous monthly session meets from 9:00 AM – 3:00 PM Eastern Time on the following Saturdays in 2024: February 17\, March 16\, April 13\, May 11\, 2024. \nProgram Fee: $700 \nContact: lifelonglearning@ctsnet.edu
URL:https://www.contemplativeoutreach.org/event/contemplative-living-ii-online/
LOCATION:Internet – Online
END:VEVENT
BEGIN:VEVENT
DTSTART;VALUE=DATE:20240426
DTEND;VALUE=DATE:20240501
DTSTAMP:20260422T092500
CREATED:20231205T193102Z
LAST-MODIFIED:20231205T193102Z
UID:139155-1714089600-1714521599@www.contemplativeoutreach.org
SUMMARY:Contemplative Outreach South Africa National Conference
DESCRIPTION:All are welcome! \nVENUE: PADRE PIO RETREAT CENTRE\, PRETORIA\nDATE: 26 APRIL – 30 APRIL 2024\nwith Mary Dwyer \nRegistration fee options: \n1. Entire conference\, full board\, single room including banquet: R3000.00\n2. Entire conference\, full board\, shared room including banquet: R2600.00\n3. Entire conference\, non-residential\, meals and banquet included: R1500.00\n4. Day Visitors\, 09:00 – 17.00\, tea/coffee included\, bring own lunch: R450 per day\n5. Day visitors\, 09.00 – 17.00\, tea/coffee included and banquet included: R700 \nNON- REFUNDABLE DEPOSIT WITH REGISTRATION REQUIRED: 50% OF INDICATED FEE\, EXCLUDING DAY VISITORS. \nFor enquiries: Wendy Maree 012 993 3525/0823399969/ wndmaree@gmail.com \nPlease send the following information: \nNAME:\nEmail address:\nContact number: \nDietary preferences \nOption 1 2 3 4 5 Total: R ___ Deposit: R____ \nPayment method: EFT Payable to:\nCONTEMPLATIVE OUTREACH PRETORIA\nNEDBANK\, MENLYN\nACCOUNT NUMBER: 1697057969\nBRANCH CODE: 169745\nPOP TO: Wendy Maree\, email: wndmaree@gmail.com
URL:https://www.contemplativeoutreach.org/event/contemplative-outreach-south-africa-national-conference/
LOCATION:Padre Pio Retreat Center\, 25 Kort Street\, Pretoria\, Rietvalleirand\, 0181\, South Africa
CATEGORIES:Retreat
ATTACH;FMTTYPE=image/png:https://www.contemplativeoutreach.org/wp-content/uploads/2023/12/2024_South-Africa-conference.png
ORGANIZER;CN="Contemplative Outreach South Africa":MAILTO:bja2885@gmail.com
END:VEVENT
END:VCALENDAR