BEGIN:VCALENDAR
VERSION:2.0
PRODID:-//Contemplative Outreach, Ltd. - ECPv6.15.17.1//NONSGML v1.0//EN
CALSCALE:GREGORIAN
METHOD:PUBLISH
X-WR-CALNAME:Contemplative Outreach, Ltd.
X-ORIGINAL-URL:https://www.contemplativeoutreach.org
X-WR-CALDESC:Events for Contemplative Outreach, Ltd.
REFRESH-INTERVAL;VALUE=DURATION:PT1H
X-Robots-Tag:noindex
X-PUBLISHED-TTL:PT1H
BEGIN:VTIMEZONE
TZID:Europe/Paris
BEGIN:DAYLIGHT
TZOFFSETFROM:+0100
TZOFFSETTO:+0200
TZNAME:CEST
DTSTART:20250330T010000
END:DAYLIGHT
BEGIN:STANDARD
TZOFFSETFROM:+0200
TZOFFSETTO:+0100
TZNAME:CET
DTSTART:20251026T010000
END:STANDARD
BEGIN:DAYLIGHT
TZOFFSETFROM:+0100
TZOFFSETTO:+0200
TZNAME:CEST
DTSTART:20260329T010000
END:DAYLIGHT
BEGIN:STANDARD
TZOFFSETFROM:+0200
TZOFFSETTO:+0100
TZNAME:CET
DTSTART:20261025T010000
END:STANDARD
BEGIN:DAYLIGHT
TZOFFSETFROM:+0100
TZOFFSETTO:+0200
TZNAME:CEST
DTSTART:20270328T010000
END:DAYLIGHT
BEGIN:STANDARD
TZOFFSETFROM:+0200
TZOFFSETTO:+0100
TZNAME:CET
DTSTART:20271031T010000
END:STANDARD
END:VTIMEZONE
BEGIN:VEVENT
DTSTART;TZID=Europe/Paris:20260207T140000
DTEND;TZID=Europe/Paris:20260207T153000
DTSTAMP:20260420T145907
CREATED:20251219T181936Z
LAST-MODIFIED:20260209T143605Z
UID:158958-1770472800-1770478200@www.contemplativeoutreach.org
SUMMARY:Silence that Connects the World – Session 1 (via Zoom)
DESCRIPTION:Session 1. Consent to God’s Presence \nTheme: The heart of Centering Prayer is consent — letting go and allowing God’s presence and action within. \n“Centering prayer is not so much an exercise of attention as intention. Our intention is to be present to God’s presence and actions in our lives.”\n— Thomas Keating \nStep into Stillness \nPause from the noise of daily life and reconnect with the divine presence within. Join us for an online gathering of centering prayer practitioners—a simple yet profound space for silence\, reflection\, and shared practice within a global community. Together\, we’ll explore stillness\, presence\, and the richness of the practice in community. \nWhat to Expect \nShared silence and practice\nBrief teaching and reflection\nSmall-group sharing\nEncouragement in the contemplative path \n2:00-3:30pm UTC +1 (8am Eastern Time).  \nPlease see the link below to register and obtain the Zoom link. \nThis is the first of six sessions: \n1.    Consent to God’s Presence – 7 Feb 2026\n2.    The Fruits of Silence – 11 Apr 2026\n3.    Letting Go of Thoughts – 6 Jun 2026\n4.    Living the Contemplative Path – 18 Jul 2026\n5.    Embracing Vulnerability – 5 Sep 2026\n6.    Healing Presence in the World – 14 Nov 2026
URL:https://www.contemplativeoutreach.org/event/silence-that-connects-the-world-session-1/
LOCATION:Internet – Online
CATEGORIES:Retreat
ATTACH;FMTTYPE=image/jpeg:https://www.contemplativeoutreach.org/wp-content/uploads/2025/12/Photo-1-e1766168355310.jpg
ORGANIZER;CN="Sr. Maria Jose Rebelo%2C SSpS":MAILTO:silence.contemplation.steyl@ssps.de
END:VEVENT
END:VCALENDAR