BEGIN:VCALENDAR
VERSION:2.0
PRODID:-//Contemplative Outreach, Ltd. - ECPv6.15.17.1//NONSGML v1.0//EN
CALSCALE:GREGORIAN
METHOD:PUBLISH
X-ORIGINAL-URL:https://www.contemplativeoutreach.org
X-WR-CALDESC:Events for Contemplative Outreach, Ltd.
REFRESH-INTERVAL;VALUE=DURATION:PT1H
X-Robots-Tag:noindex
X-PUBLISHED-TTL:PT1H
BEGIN:VTIMEZONE
TZID:America/New_York
BEGIN:DAYLIGHT
TZOFFSETFROM:-0500
TZOFFSETTO:-0400
TZNAME:EDT
DTSTART:20250309T070000
END:DAYLIGHT
BEGIN:STANDARD
TZOFFSETFROM:-0400
TZOFFSETTO:-0500
TZNAME:EST
DTSTART:20251102T060000
END:STANDARD
BEGIN:DAYLIGHT
TZOFFSETFROM:-0500
TZOFFSETTO:-0400
TZNAME:EDT
DTSTART:20260308T070000
END:DAYLIGHT
BEGIN:STANDARD
TZOFFSETFROM:-0400
TZOFFSETTO:-0500
TZNAME:EST
DTSTART:20261101T060000
END:STANDARD
BEGIN:DAYLIGHT
TZOFFSETFROM:-0500
TZOFFSETTO:-0400
TZNAME:EDT
DTSTART:20270314T070000
END:DAYLIGHT
BEGIN:STANDARD
TZOFFSETFROM:-0400
TZOFFSETTO:-0500
TZNAME:EST
DTSTART:20271107T060000
END:STANDARD
END:VTIMEZONE
BEGIN:VEVENT
DTSTART;TZID=America/New_York:20260221T083000
DTEND;TZID=America/New_York:20260221T163000
DTSTAMP:20260420T145750
CREATED:20250610T210155Z
LAST-MODIFIED:20250610T210155Z
UID:155897-1771662600-1771691400@www.contemplativeoutreach.org
SUMMARY:Anam Cara: Thomas Merton\, and Pursuing Relationships That Enlighten Our Lives
DESCRIPTION:Though Thomas Merton craved the solitude of a hermitage and the silence in which “God shines there and is immediately found\,” his mysticism and writing life were deeply fed and influenced by special friendships that he developed both in person and through a prolific correspondence that connected him to writers and spiritual thinkers all over the world. Sophfronia Scott will discuss how we can find and nurture similar bonds today to the great benefit of our lives and work. \nThis event includes sessions of Centering Prayer. \nFor more information and to register\, please see the link below.
URL:https://www.contemplativeoutreach.org/event/anam-cara-thomas-merton-and-pursuing-relationships-that-enlighten-our-lives/
LOCATION:Holy Family Passionist Retreat Center\, 303 Tunxis Road\, West Hartford\, CT\, 6107\, United States
CATEGORIES:Workshop
ATTACH;FMTTYPE=image/png:https://www.contemplativeoutreach.org/wp-content/uploads/2025/06/CCE-Merton.png
ORGANIZER;CN="Mike Smoolca":MAILTO:msmoolca@hotmail.com
END:VEVENT
END:VCALENDAR