BEGIN:VCALENDAR
VERSION:2.0
PRODID:-//Contemplative Outreach, Ltd. - ECPv6.15.17.1//NONSGML v1.0//EN
CALSCALE:GREGORIAN
METHOD:PUBLISH
X-ORIGINAL-URL:https://www.contemplativeoutreach.org
X-WR-CALDESC:Events for Contemplative Outreach, Ltd.
REFRESH-INTERVAL;VALUE=DURATION:PT1H
X-Robots-Tag:noindex
X-PUBLISHED-TTL:PT1H
BEGIN:VTIMEZONE
TZID:America/New_York
BEGIN:DAYLIGHT
TZOFFSETFROM:-0500
TZOFFSETTO:-0400
TZNAME:EDT
DTSTART:20220313T070000
END:DAYLIGHT
BEGIN:STANDARD
TZOFFSETFROM:-0400
TZOFFSETTO:-0500
TZNAME:EST
DTSTART:20221106T060000
END:STANDARD
BEGIN:DAYLIGHT
TZOFFSETFROM:-0500
TZOFFSETTO:-0400
TZNAME:EDT
DTSTART:20230312T070000
END:DAYLIGHT
BEGIN:STANDARD
TZOFFSETFROM:-0400
TZOFFSETTO:-0500
TZNAME:EST
DTSTART:20231105T060000
END:STANDARD
BEGIN:DAYLIGHT
TZOFFSETFROM:-0500
TZOFFSETTO:-0400
TZNAME:EDT
DTSTART:20240310T070000
END:DAYLIGHT
BEGIN:STANDARD
TZOFFSETFROM:-0400
TZOFFSETTO:-0500
TZNAME:EST
DTSTART:20241103T060000
END:STANDARD
END:VTIMEZONE
BEGIN:VTIMEZONE
TZID:UTC
BEGIN:STANDARD
TZOFFSETFROM:+0000
TZOFFSETTO:+0000
TZNAME:UTC
DTSTART:20220101T000000
END:STANDARD
END:VTIMEZONE
BEGIN:VTIMEZONE
TZID:Europe/London
BEGIN:DAYLIGHT
TZOFFSETFROM:+0000
TZOFFSETTO:+0100
TZNAME:BST
DTSTART:20220327T010000
END:DAYLIGHT
BEGIN:STANDARD
TZOFFSETFROM:+0100
TZOFFSETTO:+0000
TZNAME:GMT
DTSTART:20221030T010000
END:STANDARD
BEGIN:DAYLIGHT
TZOFFSETFROM:+0000
TZOFFSETTO:+0100
TZNAME:BST
DTSTART:20230326T010000
END:DAYLIGHT
BEGIN:STANDARD
TZOFFSETFROM:+0100
TZOFFSETTO:+0000
TZNAME:GMT
DTSTART:20231029T010000
END:STANDARD
BEGIN:DAYLIGHT
TZOFFSETFROM:+0000
TZOFFSETTO:+0100
TZNAME:BST
DTSTART:20240331T010000
END:DAYLIGHT
BEGIN:STANDARD
TZOFFSETFROM:+0100
TZOFFSETTO:+0000
TZNAME:GMT
DTSTART:20241027T010000
END:STANDARD
END:VTIMEZONE
BEGIN:VEVENT
DTSTART;TZID=America/New_York:20230707T150000
DTEND;TZID=America/New_York:20230709T150000
DTSTAMP:20260423T021744
CREATED:20220712T204721Z
LAST-MODIFIED:20220712T204721Z
UID:126151-1688742000-1688914800@www.contemplativeoutreach.org
SUMMARY:Prayer Without Ceasing: Contemplation in Work\, Body\, and Creation
DESCRIPTION:Contemplative Immersion Retreat with Mark Kutolowski \n‘Pray without ceasing.’ (I Thessalonians 5:17) How can we experience ceaseless prayer and conscious union of our hearts with God? This retreat will explore the integration of silent contemplation with prayerful engagement with our bodies\, creative manual work\, and interaction with the natural world. We’ll engage with the Benedictine vision of work as prayer and learn prayer disciplines that support intimacy with God through engagement with Creation. Participants will have the option to camp on-site\, or stay in the regular Holy Family accommodations. \nMark Kutolowski is an Oblate of Saint Benedict\, a contemplative retreat leader\, Centering Prayer teacher\, wilderness guide\, and instructor in the Slavic martial art and health practice\, Systema. He has spent the past 20 years exploring the integration of Christian contemplation with physical transformation and our relationship with the natural world. Mark and his wife Lisa live a lay contemplative life and offer hospitality at their homestead\, Metanoia of Vermont (http://www.metanoiavt.com).
URL:https://www.contemplativeoutreach.org/event/prayer-without-ceasing-contemplation-in-work-body-and-creation/
LOCATION:Holy Family Passionist Retreat Center\, 303 Tunxis Road\, West Hartford\, CT\, 6107\, United States
CATEGORIES:Retreat
ATTACH;FMTTYPE=image/png:https://www.contemplativeoutreach.org/wp-content/uploads/2022/07/CCE-Prayer-Without-Ceasing.png
ORGANIZER;CN="Mike  Smoolca":MAILTO:msmoolca@hotmail.com
END:VEVENT
BEGIN:VEVENT
DTSTART;TZID=UTC:20230718T160000
DTEND;TZID=UTC:20230720T160000
DTSTAMP:20260423T021744
CREATED:20230524T200815Z
LAST-MODIFIED:20230524T200815Z
UID:135354-1689696000-1689868800@www.contemplativeoutreach.org
SUMMARY:Presence\, Prayer and Writing from the Heart
DESCRIPTION:All of us have myriad stories to tell. Some involve our family history\, spiritual journey\, experiences in Nature\, or a life-changing situation. Stories can take many forms\, but the most compelling are the ones written from the heart\, those that move us and sometimes transform both the writer and reader. Writing from the heart demands attentiveness\, honesty\, courage\, and a commitment to engage with a creative process that pulls us into the unknown where we are often surprised at what surfaces. It’s a journey of discovery. And presence and prayer can help us along that journey. \nThis writing retreat is structured for those currently working on a project\, those who want to start one\, or those who simply desire to spend time in beautiful surroundings playing with words. In addition to Centering Prayer sessions—silence can be a portal to the Source of creativity and truth-telling—there will be ample opportunities to write\, walk\, think\, and just be. \nPlease register using the link below.
URL:https://www.contemplativeoutreach.org/event/presence-prayer-and-writing-from-the-heart/
LOCATION:Trinity Retreat Center\, 79 Lower River Road\, West Cornwall\, CT\, 06796\, United States
CATEGORIES:Retreat
ORGANIZER;CN="Anne A. Simpkinson":MAILTO:asimpkinson@gmail.com
END:VEVENT
BEGIN:VEVENT
DTSTART;TZID=Europe/London:20230729T100000
DTEND;TZID=Europe/London:20230729T153000
DTSTAMP:20260423T021744
CREATED:20230627T190757Z
LAST-MODIFIED:20230627T190757Z
UID:136075-1690624800-1690644600@www.contemplativeoutreach.org
SUMMARY:One-day Introductory Workshop
DESCRIPTION:We are excited to invite you to join us for a powerful workshop on Centering Prayer. This workshop will take place on July 29th from 10am to 4pm (GMT) at The Abbey Sutton Courtenay UK\, and promises to be a transformative experience. \nDuring the workshop\, you will be guided you through the process of Centering Prayer\, a method of contemplative prayer that connects with the divine element within yourself\, and cultivate a deeper sense of peace and stillness in your daily life. Whether you are new to Centering Prayer or have been practicing for years\, this workshop offers a unique opportunity to deepen your understanding and experience of this powerful spiritual practice. \nThe Abbey Sutton Courtenay is a beautiful and tranquil setting\, perfect for diving into the spiritual practice of Centering Prayer. You will have the opportunity to connect with like-minded individuals and learn from one of the most respected teachers of Centering Prayer in the country.
URL:https://www.contemplativeoutreach.org/event/one-day-introductory-workshop/
LOCATION:The Abbey\, Sutton Courtenay\, UK\, The Abbey\, Sutton Courtenay The Green Abingdon\, Oxon\, OX14 4AF\, United Kingdom
CATEGORIES:Training,Workshop
ORGANIZER;CN="The Abbey%2C Sutton Courtenay%2C UK":MAILTO:welcome@theabbey.uk.com
END:VEVENT
END:VCALENDAR