BEGIN:VCALENDAR
VERSION:2.0
PRODID:-//Contemplative Outreach, Ltd. - ECPv6.15.17.1//NONSGML v1.0//EN
CALSCALE:GREGORIAN
METHOD:PUBLISH
X-WR-CALNAME:Contemplative Outreach, Ltd.
X-ORIGINAL-URL:https://www.contemplativeoutreach.org
X-WR-CALDESC:Events for Contemplative Outreach, Ltd.
REFRESH-INTERVAL;VALUE=DURATION:PT1H
X-Robots-Tag:noindex
X-PUBLISHED-TTL:PT1H
BEGIN:VTIMEZONE
TZID:America/New_York
BEGIN:DAYLIGHT
TZOFFSETFROM:-0500
TZOFFSETTO:-0400
TZNAME:EDT
DTSTART:20220313T070000
END:DAYLIGHT
BEGIN:STANDARD
TZOFFSETFROM:-0400
TZOFFSETTO:-0500
TZNAME:EST
DTSTART:20221106T060000
END:STANDARD
BEGIN:DAYLIGHT
TZOFFSETFROM:-0500
TZOFFSETTO:-0400
TZNAME:EDT
DTSTART:20230312T070000
END:DAYLIGHT
BEGIN:STANDARD
TZOFFSETFROM:-0400
TZOFFSETTO:-0500
TZNAME:EST
DTSTART:20231105T060000
END:STANDARD
BEGIN:DAYLIGHT
TZOFFSETFROM:-0500
TZOFFSETTO:-0400
TZNAME:EDT
DTSTART:20240310T070000
END:DAYLIGHT
BEGIN:STANDARD
TZOFFSETFROM:-0400
TZOFFSETTO:-0500
TZNAME:EST
DTSTART:20241103T060000
END:STANDARD
END:VTIMEZONE
BEGIN:VTIMEZONE
TZID:UTC
BEGIN:STANDARD
TZOFFSETFROM:+0000
TZOFFSETTO:+0000
TZNAME:UTC
DTSTART:20220101T000000
END:STANDARD
END:VTIMEZONE
BEGIN:VEVENT
DTSTART;TZID=America/New_York:20231209T083000
DTEND;TZID=America/New_York:20231209T163000
DTSTAMP:20260422T145200
CREATED:20230803T192850Z
LAST-MODIFIED:20230803T192850Z
UID:136850-1702110600-1702139400@www.contemplativeoutreach.org
SUMMARY:Finding Fullness Through Simplicity
DESCRIPTION:Contemplative Enrichment Day with Mark Kutolowski \nThis day is an opportunity to rediscover simplicity of life as a path to finding fullness and contentment in God. Drawing from his long experience living in an off-grid intentional community\, Mark will invite us into an audit of three fundamental areas of human life: our relationships with time and activity\, possessions and space\, and word and technology. In each\, we will seek practical ways to empty out\, to grow in simplicity\, and to make room for God to be born anew in our midst. \nThis program will be offered both in-person and online via Zoom. Information on how to access the program on Zoom will be sent to participants in advance. \nThis program will include a morning and an afternoon session of Centering Prayer. \nMark Kutolowski is the co-director of Metanoia of Vermont\, a lay contemplative community where residents and guests seek to follow the Way of Christ through work\, prayer\, and study in relationship with the land. Mark is an Oblate of Saint Benedict and a Centering Prayer teacher and has spent the past 25 years exploring the intersection of Christian faith\, embodiment\, and relationship with the natural world. \nPlease use the link below to register.
URL:https://www.contemplativeoutreach.org/event/finding-fullness-through-simplicity/
LOCATION:Holy Family Passionist Retreat Center\, 303 Tunxis Road\, West Hartford\, CT\, 6107\, United States
CATEGORIES:Workshop
ATTACH;FMTTYPE=image/png:https://www.contemplativeoutreach.org/wp-content/uploads/2023/08/CCE-Finding-Fullness.png
ORGANIZER;CN="Mike  Smoolca":MAILTO:msmoolca@hotmail.com
END:VEVENT
BEGIN:VEVENT
DTSTART;TZID=UTC:20231221T140000
DTEND;TZID=UTC:20231221T150000
DTSTAMP:20260422T145200
CREATED:20231219T181313Z
LAST-MODIFIED:20231219T181410Z
UID:139377-1703167200-1703170800@www.contemplativeoutreach.org
SUMMARY:Blue Christmas Service - via Zoom
DESCRIPTION:Blessed are those who mourn …\n– Matthew 5:4 \nSometimes Christmas doesn’t feel so ‘Merry and Bright’\, and you just don’t have the energy to ‘Deck the Halls’. This may be a difficult season for you and you’d rather skip over the month and go straight to the new year. If this resonates with you\, I’d like to invite you to join our BLUE CHRISTMAS SERVICE. \nThis service is designed for those who are mourning\, experiencing sickness\, loss\, grief or sadness. We will listen to songs\, prayers and laments recognizing that sometimes Christmas is a struggle.\nYou are welcome to join us for a ZOOM gathering on the longest night of the year… \nDecember 21st at 2pm and 7pm Central Standard Time\nBoth services are the same and last one hour.\nHosted by Nebraska Contemplative Outreach.\nPlease RSVP to Cathy.c@cox.net. You will receive a Zoom link one day prior to the service. \nAll are welcome\, please share this information. \n 
URL:https://www.contemplativeoutreach.org/event/blue-christmas-service-via-zoom/
LOCATION:Internet – Online
CATEGORIES:Webcast
ATTACH;FMTTYPE=image/jpeg:https://www.contemplativeoutreach.org/wp-content/uploads/2023/12/IMG_3438-scaled-e1703009635421.jpeg
END:VEVENT
END:VCALENDAR