BEGIN:VCALENDAR
VERSION:2.0
PRODID:-//Contemplative Outreach, Ltd. - ECPv6.15.17.1//NONSGML v1.0//EN
CALSCALE:GREGORIAN
METHOD:PUBLISH
X-ORIGINAL-URL:https://www.contemplativeoutreach.org
X-WR-CALDESC:Events for Contemplative Outreach, Ltd.
REFRESH-INTERVAL;VALUE=DURATION:PT1H
X-Robots-Tag:noindex
X-PUBLISHED-TTL:PT1H
BEGIN:VTIMEZONE
TZID:UTC
BEGIN:STANDARD
TZOFFSETFROM:+0000
TZOFFSETTO:+0000
TZNAME:UTC
DTSTART:20230101T000000
END:STANDARD
END:VTIMEZONE
BEGIN:VEVENT
DTSTART;TZID=UTC:20240601T083000
DTEND;TZID=UTC:20240601T163000
DTSTAMP:20260422T002548
CREATED:20230803T191848Z
LAST-MODIFIED:20230803T191848Z
UID:136865-1717230600-1717259400@www.contemplativeoutreach.org
SUMMARY:Contemplative Christianity at the Dawning of the Second Axial Age
DESCRIPTION:Annual Day of Reflection with The Rev. Matthew Wright \nMany thinkers today believe we are entering a “Second Axial Age” — a great shift in consciousness and spirituality equal to that which produced the headwaters of our great religious traditions between roughly 800-200 BCE. This next shift is related closely to the process of globalization\, and our emerging sense and planetary need for oneness. Profound Interspiritual permeability will characterize this next phase. We will examine the insights modern Christian Mystics such as Teilhard de Chardin\, Bede Griffiths\, and Raimon Panikkar offer us. \nThis program will be offered both in-person and online via Zoom. Information on how to access the program on Zoom will be sent to participants in advance. \nThis program will include a morning and an afternoon session of Centering Prayer. \nThe Rev. Matthew Wright is an Episcopal priest\, writer\, and retreat leader working to renew the Christian Wisdom tradition within a wider interspiritual framework. He has been a student of Cynthia Bourgeault since 2010. Alongside his practice of Christianity\, Matthew draws deeply from the sacred worlds of Islamic Sufism and Vedanta Hinduism. \nPlease register using the link below.
URL:https://www.contemplativeoutreach.org/event/contemplative-christianity-at-the-dawning-of-the-second-axial-age/
LOCATION:Holy Family Passionist Retreat Center\, 303 Tunxis Road\, West Hartford\, CT\, 6107\, United States
CATEGORIES:Workshop
ATTACH;FMTTYPE=image/png:https://www.contemplativeoutreach.org/wp-content/uploads/2023/08/CCE-Annual-Reflection.png
ORGANIZER;CN="Mike  Smoolca":MAILTO:msmoolca@hotmail.com
END:VEVENT
END:VCALENDAR