BEGIN:VCALENDAR
VERSION:2.0
PRODID:-//Contemplative Outreach, Ltd. - ECPv6.15.17.1//NONSGML v1.0//EN
CALSCALE:GREGORIAN
METHOD:PUBLISH
X-WR-CALNAME:Contemplative Outreach, Ltd.
X-ORIGINAL-URL:https://www.contemplativeoutreach.org
X-WR-CALDESC:Events for Contemplative Outreach, Ltd.
REFRESH-INTERVAL;VALUE=DURATION:PT1H
X-Robots-Tag:noindex
X-PUBLISHED-TTL:PT1H
BEGIN:VTIMEZONE
TZID:UTC
BEGIN:STANDARD
TZOFFSETFROM:+0000
TZOFFSETTO:+0000
TZNAME:UTC
DTSTART:20220101T000000
END:STANDARD
END:VTIMEZONE
BEGIN:VEVENT
DTSTART;VALUE=DATE:20230804
DTEND;VALUE=DATE:20230806
DTSTAMP:20260423T004154
CREATED:20230703T170106Z
LAST-MODIFIED:20230703T170213Z
UID:136185-1691107200-1691279999@www.contemplativeoutreach.org
SUMMARY:The Mystical Path to a Joyful Life: Centering Prayer Retreat
DESCRIPTION:Carl McColman will present on our topic interspersed with periods of group Centering Prayer and a few breakout discussions for those interested. We will gather 7-8:30 pm Central Time on 8/4/23 and 9 am – 3 pm Central Time on 8/5/23. We will record the presentation sessions in case you have to miss one. \nContact us with any questions. \nEventbrite registration link for the retreat is below.
URL:https://www.contemplativeoutreach.org/event/the-mystical-path-to-a-joyful-life-centering-prayer-retreat/
LOCATION:Internet – Online
CATEGORIES:Retreat
ATTACH;FMTTYPE=image/png:https://www.contemplativeoutreach.org/wp-content/uploads/2023/07/Retreat-flier.png
ORGANIZER;CN="The School for Contemplative Living":MAILTO:livingschool12@gmail.com
END:VEVENT
END:VCALENDAR