BEGIN:VCALENDAR
VERSION:2.0
PRODID:-//Contemplative Outreach, Ltd. - ECPv6.15.17.1//NONSGML v1.0//EN
CALSCALE:GREGORIAN
METHOD:PUBLISH
X-WR-CALNAME:Contemplative Outreach, Ltd.
X-ORIGINAL-URL:https://www.contemplativeoutreach.org
X-WR-CALDESC:Events for Contemplative Outreach, Ltd.
REFRESH-INTERVAL;VALUE=DURATION:PT1H
X-Robots-Tag:noindex
X-PUBLISHED-TTL:PT1H
BEGIN:VTIMEZONE
TZID:America/New_York
BEGIN:DAYLIGHT
TZOFFSETFROM:-0500
TZOFFSETTO:-0400
TZNAME:EDT
DTSTART:20220313T070000
END:DAYLIGHT
BEGIN:STANDARD
TZOFFSETFROM:-0400
TZOFFSETTO:-0500
TZNAME:EST
DTSTART:20221106T060000
END:STANDARD
BEGIN:DAYLIGHT
TZOFFSETFROM:-0500
TZOFFSETTO:-0400
TZNAME:EDT
DTSTART:20230312T070000
END:DAYLIGHT
BEGIN:STANDARD
TZOFFSETFROM:-0400
TZOFFSETTO:-0500
TZNAME:EST
DTSTART:20231105T060000
END:STANDARD
BEGIN:DAYLIGHT
TZOFFSETFROM:-0500
TZOFFSETTO:-0400
TZNAME:EDT
DTSTART:20240310T070000
END:DAYLIGHT
BEGIN:STANDARD
TZOFFSETFROM:-0400
TZOFFSETTO:-0500
TZNAME:EST
DTSTART:20241103T060000
END:STANDARD
END:VTIMEZONE
BEGIN:VEVENT
DTSTART;TZID=America/New_York:20231014T083000
DTEND;TZID=America/New_York:20231014T163000
DTSTAMP:20260422T231010
CREATED:20230804T170059Z
LAST-MODIFIED:20230804T170059Z
UID:136843-1697272200-1697301000@www.contemplativeoutreach.org
SUMMARY:The Power of Story: Exploring Hasidic Tales as a Path to Blessing
DESCRIPTION:Contemplative Enrichment Day of Interfaith Understanding with Rabbi Rami Shapiro \nHumans are by nature storytellers\, and we often become the stories we tell. One of the greatest and most liberating stories we tell is God calling Avram and Sarai to leave the conditioning of country\, kin\, and family to be a blessing to all the families of the earth (Genesis 12:1-3). In this highly interactive exploration of liberating story\, Rabbi Rami uses Hasidic song and Hasidic stories and chevruta (small group conversation) on a journey toward being a blessing. \nThis program will be offered both in-person and online via Zoom. Information on how to access the program on Zoom will be sent to participants in advance. \nThis program will include a morning and an afternoon session of Centering Prayer. \nRabbi Rami Shapiro is a Jewish practitioner of perennial wisdom. He is a storyteller and essayist\, an award-winning poet\, and author of over 36 books on religion and spirituality. He is a noted mystic and a comparative religion scholar and has engaged with Zen Buddhism\, the Hindu Bhagavad Gita\, and Goddess spirituality in his quest to hear the common heart of all religions. He is a sought-after leader of workshops and retreats nationally and internationally. \nPlease register using the link below.
URL:https://www.contemplativeoutreach.org/event/the-power-of-story-exploring-hasidic-tales-as-a-path-to-blessing/
LOCATION:Holy Family Passionist Retreat Center\, 303 Tunxis Road\, West Hartford\, CT\, 6107\, United States
CATEGORIES:Workshop
ATTACH;FMTTYPE=image/png:https://www.contemplativeoutreach.org/wp-content/uploads/2023/08/CCE-Power-of-Story.png
ORGANIZER;CN="Mike  Smoolca":MAILTO:msmoolca@hotmail.com
END:VEVENT
END:VCALENDAR