BEGIN:VCALENDAR
VERSION:2.0
PRODID:-//Contemplative Outreach, Ltd. - ECPv6.15.17.1//NONSGML v1.0//EN
CALSCALE:GREGORIAN
METHOD:PUBLISH
X-ORIGINAL-URL:https://www.contemplativeoutreach.org
X-WR-CALDESC:Events for Contemplative Outreach, Ltd.
REFRESH-INTERVAL;VALUE=DURATION:PT1H
X-Robots-Tag:noindex
X-PUBLISHED-TTL:PT1H
BEGIN:VTIMEZONE
TZID:UTC
BEGIN:STANDARD
TZOFFSETFROM:+0000
TZOFFSETTO:+0000
TZNAME:UTC
DTSTART:20230101T000000
END:STANDARD
END:VTIMEZONE
BEGIN:VTIMEZONE
TZID:America/Vancouver
BEGIN:DAYLIGHT
TZOFFSETFROM:-0800
TZOFFSETTO:-0700
TZNAME:PDT
DTSTART:20230312T100000
END:DAYLIGHT
BEGIN:STANDARD
TZOFFSETFROM:-0700
TZOFFSETTO:-0800
TZNAME:PST
DTSTART:20231105T090000
END:STANDARD
BEGIN:DAYLIGHT
TZOFFSETFROM:-0800
TZOFFSETTO:-0700
TZNAME:PDT
DTSTART:20240310T100000
END:DAYLIGHT
BEGIN:STANDARD
TZOFFSETFROM:-0700
TZOFFSETTO:-0800
TZNAME:PST
DTSTART:20241103T090000
END:STANDARD
BEGIN:DAYLIGHT
TZOFFSETFROM:-0800
TZOFFSETTO:-0700
TZNAME:PDT
DTSTART:20250309T100000
END:DAYLIGHT
BEGIN:STANDARD
TZOFFSETFROM:-0700
TZOFFSETTO:-0800
TZNAME:PST
DTSTART:20251102T090000
END:STANDARD
END:VTIMEZONE
BEGIN:VEVENT
DTSTART;TZID=UTC:20240906T160000
DTEND;TZID=UTC:20240908T140000
DTSTAMP:20260421T192606
CREATED:20240129T204923Z
LAST-MODIFIED:20240129T204923Z
UID:141553-1725638400-1725804000@www.contemplativeoutreach.org
SUMMARY:Create Your Life. Write From Your Soul: A Contemplative Writing Retreat
DESCRIPTION:“Stories have to be told or they die\, and when they die\, we can’t remember who we are or why we’re here.”\n— Sue Monk Kidd \nAll of us have stories to tell. They can take many forms but the most compelling are the ones written from the heart\, those that move us and sometimes transform both the writer and reader. Writing from the heart demands attentiveness\, honesty\, courage\, and a commitment to engage with a creative process that pulls you into the unknown where you are often surprised by what surfaces. It’s a journey of discovery. This retreat\, through prayer\, writing prompts\, story sharing\, walks along the river or on woodland trails\, and time to simply rest\, will provide a quiet environment to work on a current writing project\, begin stories long thought about\, or immerse yourself in silence to discover what needs to be voiced. \nThe retreat is facilitated by Anne Simpkinson\, an award-winning journalist\, editor\, story midwife\, and writing coach. She has co-edited two anthologies – Sacred Stories and Nourishing the Soul – and co-wrote Soul Work: A Field Guide for Spiritual Seekers. When living in New York City\, she rode the wave of media transformations – from websites to digital communications – in her positions with Beliefnet.com\, Prevention magazine\, WeightWatchers.com\, and Guideposts. She also served as Communications Director for Mercy by the Sea Retreat and Conference Center for several years. Anne has been practicing Centering Prayer (CP) since 1996. She facilitates contemplative prayer and themed retreats in New York\, Massachusetts\, and Connecticut. \nPlease register using the link below.
URL:https://www.contemplativeoutreach.org/event/create-your-life-write-from-your-soul-a-contemplative-writing-retreat/
LOCATION:Trinity Retreat Center\, 79 Lower River Road\, West Cornwall\, CT\, 06796\, United States
CATEGORIES:Retreat
ORGANIZER;CN="Trinity Retreat Center%2C West Cornwall%2C CT":MAILTO:retreat@trinitywallstreet.org
END:VEVENT
BEGIN:VEVENT
DTSTART;TZID=America/Vancouver:20240908T170000
DTEND;TZID=America/Vancouver:20240912T120000
DTSTAMP:20260421T192606
CREATED:20240718T030920Z
LAST-MODIFIED:20240718T030920Z
UID:146149-1725814800-1726142400@www.contemplativeoutreach.org
SUMMARY:Three-Centered Presence and Transformation of Consciousness: A Wisdom School with Heather Ruce
DESCRIPTION:“From time immemorial Wisdom Schools have emerged in times of global crisis or on the cusp of great leaps in human consciousness in order to help shepherd our planet through the transition. While there is academic teaching that goes on here\, that is not the primary business of a Wisdom school; the primary business is to help anchor human wholeness and to work with the core practices that sustain the transformation of consciousness.”\n— Wisdom Waypoints \nWe are indeed in a time of global crisis and amidst a shift in our current structures of consciousness. Drawing on the work of Cynthia Bourgeault\, G.I. Gurdjieff\, Gebser\, and others\, this Wisdom School led by Heather Ruce will focus on deepening presence in our three centers – intellectual\, emotional\, body – and how awakening in them can support us in the transformation of consciousness. We will also explore the practices of self-observation\, self-remembering\, conscious labor\, and intentional suffering as a way of participating in what is needed for the whole right now. \nPlease join us in person at the Sorrento Retreat & Conference Centre in the beautiful Shuswap region of British Columbia\, Canada. A ZOOM option will also be available for those who prefer on-line attendance. All participants will be invited to deepen your experience of the ‘wisdom way of knowing’ through a daily rhythm with periods of silence\, Centering Prayer\, teaching\, conscious conversation\, Gurdjieff exercises and Movements\, chanting\, mindful work\, lectio divina\, and contemplative free time. \nWhen: Sunday – Thursday\, 5pm of September 08 – 12 noon of September 12\, 2024\nWhere: Sorrento Retreat and Conference Centre\nDeadline for Registration: August 25\, 2024 \n\nEarly Bird Rate is $395.00 CDN and will be in effect until August 1\, 2024. This rate does not include meals and accommodations.\nRegular Rate of $475 CDN will be in effect from August 2 – September 7\, 2024. This rate does not include meals and accommodations.\nZoom Rate is $250.00 CDN.\n\nPlease see the link below to register.
URL:https://www.contemplativeoutreach.org/event/three-centered-presence-and-transformation-of-consciousness-a-wisdom-school-with-heather-ruce/
LOCATION:Sorrento Retreat and Conference Centre\, 1159 Passchendaele Road\, Sorrento\, British Columbia\, V0E 2W0\, Canada
CATEGORIES:Retreat
END:VEVENT
END:VCALENDAR