BEGIN:VCALENDAR
VERSION:2.0
PRODID:-//Contemplative Outreach, Ltd. - ECPv6.15.17.1//NONSGML v1.0//EN
CALSCALE:GREGORIAN
METHOD:PUBLISH
X-ORIGINAL-URL:https://www.contemplativeoutreach.org
X-WR-CALDESC:Events for Contemplative Outreach, Ltd.
REFRESH-INTERVAL;VALUE=DURATION:PT1H
X-Robots-Tag:noindex
X-PUBLISHED-TTL:PT1H
BEGIN:VTIMEZONE
TZID:UTC
BEGIN:STANDARD
TZOFFSETFROM:+0000
TZOFFSETTO:+0000
TZNAME:UTC
DTSTART:20230101T000000
END:STANDARD
END:VTIMEZONE
BEGIN:VEVENT
DTSTART;TZID=UTC:20241011T170000
DTEND;TZID=UTC:20241019T130000
DTSTAMP:20260421T175813
CREATED:20240306T203825Z
LAST-MODIFIED:20240425T163054Z
UID:142803-1728666000-1729342800@www.contemplativeoutreach.org
SUMMARY:Core Values of Sts. Francis and Clare: An 8-Day Dual-Track Silent Retreat
DESCRIPTION:Friday\, October 11\, 5:00 pm – Friday\, October 18\, 1:00 pm\nShalom Spirituality Center\nFacilitators: Jeannine Kosman\, Kathy Reardon\, Kathleen Schiltz\, and Mary Jo Pfeifer Wulf \nThis silent Centering Prayer (Intensive/Post Intensive) retreat provides an opportunity to deepen your established Centering Prayer practice in an atmosphere of silence and community\, away from the busyness of daily life\, with a focus on Franciscan values. It will allow your mind\, body\, and spirit to surrender to God’s presence and action. Before attending the retreat\, you should have an established daily practice of Centering Prayer for at least six months. For those new to an 8-day retreat\, there will be videos from the Thomas Keating “Spiritual Journey” video series. Except for opening and closing times\, silence will be observed throughout the retreat\, including at meals. All the readings used during the retreat will be from St. Francis\, St. Clare\, and other Franciscan sources. \nNo commuters. \nOvernight Cost: $900; register on or before July 1\, 2024\, and receive a 5% discount on the full price.** A $75 non-refundable deposit is required. \nDATE AND TIME DETAILS:\nFriday\, October 11-Friday\, October 18\nArrive between 3:00-4:30 pm.\nSupper is served at 5:00 pm.\nThe final session will conclude with a communal lunch at noon on Friday\, October 18. Depart at 1:00 pm\, following the meal. \nPlease register online using the link below\, or at shalomretreats.org or by calling +1-563.582.3592 by Friday\, September 20. \nJeannine Kosman has been a practitioner of Centering Prayer for over twenty years and a Dubuque Franciscan Associate since 2018. Before retirement\, she served as a training professional and executive coach. She completed the PrairieFire Spiritual Director training program in 2015. Jeannine now serves as a spiritual director and retreat facilitator. She resides in Bondurant\, IA. \nKathy Reardon retired in 2020 from the Des Moines Pastoral Counseling Center\, where she worked as a spiritual director\, holistic nurse\, and Healing Touch Practitioner for twenty years. Kathy participated in creating and implementing PrairieFire\, a two-year spiritual formation program with an optional practicum year for training as a spiritual director. She received a certificate in spiritual direction in 1999 and has been commissioned to teach the Christian practice of silence\, known as Centering Prayer\, since 2004. Kathy continues to provide spiritual direction and supervise persons training to become spiritual directors. She became a Dubuque Franciscan Associate in 2023. She resides in Des Moines\, IA. \nKathleen Schiltz has been a practitioner of Centering Prayer since 2009 and a Dubuque Franciscan Associate since 1991. She was a teacher\, director of religious education\, and a school counselor. After she retired\, she completed the PrairieFire spiritual direction training program in 2017. Besides hosting day-long or weekend retreats\, she also loves participating in them. She resides in Des Moines\, IA. \nMary Jo Pfeifer Wulf retired from her career in Mental Health Counseling with Catholic Charities in 2018. Mary Jo has been practicing Centering Prayer since 2007. She is a spiritual director and retreat facilitator. She has been a Franciscan Associate with the Dubuque Franciscans since 2014. She completed the PrairieFire spiritual director training program in 2015. Mary Jo loves to host Center Prayer Silent Saturdays\, Silent Weekends\, and now an 8-day retreat through Contemplative Outreach of Central Iowa. She resides in Ames\, IA.
URL:https://www.contemplativeoutreach.org/event/core-values-of-sts-francis-and-clare-an-8-day-dual-track-silent-retreat/
LOCATION:Shalom Spirituality Center\, 1001 Davis Street\, Dubuque\, IA\, IA\, 52001\, United States
CATEGORIES:Retreat
ATTACH;FMTTYPE=image/png:https://www.contemplativeoutreach.org/wp-content/uploads/2024/03/Silent-Contemplative-Outreach-Retreat-e1709757458213.png
END:VEVENT
BEGIN:VEVENT
DTSTART;TZID=UTC:20241012T090000
DTEND;TZID=UTC:20241012T130000
DTSTAMP:20260421T175813
CREATED:20240922T221537Z
LAST-MODIFIED:20240922T221537Z
UID:147782-1728723600-1728738000@www.contemplativeoutreach.org
SUMMARY:A Journey into Contemplation
DESCRIPTION:Presented by Suzanne Farnham\, founder of Listening Hearts Ministries \nNationally known retreat leader and author Suzanne Farnham will share her own experience of contemplation. By reflecting on her years-long path to contemplative practice\, she hopes to awaken reflections in others of how God is at work in their lives. Suzanne emphasizes that she speaks not as a scholar but as a person who has strong spiritual yearnings. In other words\, she is one of us. \nSession 1: “The Jesus Prayer and Sacred Words” \nSession 2: “From Jung’s Understanding of Consciousness to Cosmic Spirituality” \nPlease see the link below to register.
URL:https://www.contemplativeoutreach.org/event/a-journey-into-contemplation/
LOCATION:Church of the Redeemer\, 5603 N. Charles St.\, Baltimore\, MD\, 21210
CATEGORIES:Workshop
ATTACH;FMTTYPE=image/jpeg:https://www.contemplativeoutreach.org/wp-content/uploads/2024/09/northern-lights-1197755_1920-e1727043293563.jpg
ORGANIZER;CN="Contemplative Outreach of Maryland and Washington %EF%BB%BF(COMW)":MAILTO:info@ContemplativeOutreachofMarylandandWashington.org
END:VEVENT
END:VCALENDAR