BEGIN:VCALENDAR
VERSION:2.0
PRODID:-//Contemplative Outreach, Ltd. - ECPv6.15.17.1//NONSGML v1.0//EN
CALSCALE:GREGORIAN
METHOD:PUBLISH
X-ORIGINAL-URL:https://www.contemplativeoutreach.org
X-WR-CALDESC:Events for Contemplative Outreach, Ltd.
REFRESH-INTERVAL;VALUE=DURATION:PT1H
X-Robots-Tag:noindex
X-PUBLISHED-TTL:PT1H
BEGIN:VTIMEZONE
TZID:UTC
BEGIN:STANDARD
TZOFFSETFROM:+0000
TZOFFSETTO:+0000
TZNAME:UTC
DTSTART:20240101T000000
END:STANDARD
END:VTIMEZONE
BEGIN:VEVENT
DTSTART;TZID=UTC:20250405T083000
DTEND;TZID=UTC:20250405T163000
DTSTAMP:20260421T092522
CREATED:20240612T170417Z
LAST-MODIFIED:20240612T170417Z
UID:145310-1743841800-1743870600@www.contemplativeoutreach.org
SUMMARY:The Wisdom Way of Christian Spirituality - in person and online
DESCRIPTION:Wisdom is at the contemplative headwaters of every major religious tradition\, including Christianity. Wisdom takes many shapes and focuses on human transformation more than on a set of beliefs. The Christian Wisdom path is about learning to listen to the Divine within – attending to our interconnectedness with a larger whole. This kind of listening requires that we know ourselves deeply. This retreat will explore the core tenets of the Christian Wisdom Tradition and Jesus as our Wisdom Teacher through the lineage of Cynthia Bourgeault. \nThis program will be offered both in-person and online via Zoom. Information on how to access the program on Zoom will be sent to participants in advance. \nThis program will include a morning and an afternoon session of Centering Prayer. \nPlease see the link below.
URL:https://www.contemplativeoutreach.org/event/the-wisdom-way-of-christian-spirituality-in-person-and-online/
LOCATION:Holy Family Passionist Retreat Center\, 303 Tunxis Road\, West Hartford\, CT\, 6107\, United States
CATEGORIES:Workshop
ATTACH;FMTTYPE=image/png:https://www.contemplativeoutreach.org/wp-content/uploads/2024/06/CCE-Wisdom-Way.png
ORGANIZER;CN="Mike  Smoolca":MAILTO:msmoolca@hotmail.com
END:VEVENT
END:VCALENDAR