BEGIN:VCALENDAR
VERSION:2.0
PRODID:-//Contemplative Outreach, Ltd. - ECPv6.15.17.1//NONSGML v1.0//EN
CALSCALE:GREGORIAN
METHOD:PUBLISH
X-WR-CALNAME:Contemplative Outreach, Ltd.
X-ORIGINAL-URL:https://www.contemplativeoutreach.org
X-WR-CALDESC:Events for Contemplative Outreach, Ltd.
REFRESH-INTERVAL;VALUE=DURATION:PT1H
X-Robots-Tag:noindex
X-PUBLISHED-TTL:PT1H
BEGIN:VTIMEZONE
TZID:UTC
BEGIN:STANDARD
TZOFFSETFROM:+0000
TZOFFSETTO:+0000
TZNAME:UTC
DTSTART:20250101T000000
END:STANDARD
END:VTIMEZONE
BEGIN:VEVENT
DTSTART;TZID=UTC:20260124T083000
DTEND;TZID=UTC:20260124T163000
DTSTAMP:20260420T161752
CREATED:20250610T210026Z
LAST-MODIFIED:20250610T210026Z
UID:155892-1769243400-1769272200@www.contemplativeoutreach.org
SUMMARY:God in the Cosmos: How Hildegard of Bingen and Teilhard de Chardin Invite Us into the Sacred
DESCRIPTION:In order to expand our vision of God\, we explore the lives and spirituality of two extraordinary mystical scientists\, Hildegard of Bingen and Teilhard de Chardin. These mystics radically lived their experience of Divine Presence in and through creation. Born centuries apart\, they were mystics with a cosmic vision as well as scientists who seamlessly wove together their faith with the science of their time\, creating powerful visions of the universe. This day includes “Eco-Divina”\, a practice contemplating the deep interconnection of all being. \nThis event also includes sessions of Centering Prayer. \nPlease see the link below for more information and to register.
URL:https://www.contemplativeoutreach.org/event/god-in-the-cosmos-how-hildegard-of-bingen-and-teilhard-de-chardin-invite-us-into-the-sacred/
LOCATION:Holy Family Passionist Retreat Center\, 303 Tunxis Road\, West Hartford\, CT\, 6107\, United States
CATEGORIES:Workshop
ATTACH;FMTTYPE=image/png:https://www.contemplativeoutreach.org/wp-content/uploads/2025/06/CCE-Mystical-Experience.png
ORGANIZER;CN="Mike  Smoolca":MAILTO:msmoolca@hotmail.com
END:VEVENT
END:VCALENDAR