BEGIN:VCALENDAR
VERSION:2.0
PRODID:-//Contemplative Outreach, Ltd. - ECPv6.15.17.1//NONSGML v1.0//EN
CALSCALE:GREGORIAN
METHOD:PUBLISH
X-WR-CALNAME:Contemplative Outreach, Ltd.
X-ORIGINAL-URL:https://www.contemplativeoutreach.org
X-WR-CALDESC:Events for Contemplative Outreach, Ltd.
REFRESH-INTERVAL;VALUE=DURATION:PT1H
X-Robots-Tag:noindex
X-PUBLISHED-TTL:PT1H
BEGIN:VTIMEZONE
TZID:America/New_York
BEGIN:DAYLIGHT
TZOFFSETFROM:-0500
TZOFFSETTO:-0400
TZNAME:EDT
DTSTART:20250309T070000
END:DAYLIGHT
BEGIN:STANDARD
TZOFFSETFROM:-0400
TZOFFSETTO:-0500
TZNAME:EST
DTSTART:20251102T060000
END:STANDARD
BEGIN:DAYLIGHT
TZOFFSETFROM:-0500
TZOFFSETTO:-0400
TZNAME:EDT
DTSTART:20260308T070000
END:DAYLIGHT
BEGIN:STANDARD
TZOFFSETFROM:-0400
TZOFFSETTO:-0500
TZNAME:EST
DTSTART:20261101T060000
END:STANDARD
BEGIN:DAYLIGHT
TZOFFSETFROM:-0500
TZOFFSETTO:-0400
TZNAME:EDT
DTSTART:20270314T070000
END:DAYLIGHT
BEGIN:STANDARD
TZOFFSETFROM:-0400
TZOFFSETTO:-0500
TZNAME:EST
DTSTART:20271107T060000
END:STANDARD
END:VTIMEZONE
BEGIN:VTIMEZONE
TZID:America/Chicago
BEGIN:DAYLIGHT
TZOFFSETFROM:-0600
TZOFFSETTO:-0500
TZNAME:CDT
DTSTART:20250309T080000
END:DAYLIGHT
BEGIN:STANDARD
TZOFFSETFROM:-0500
TZOFFSETTO:-0600
TZNAME:CST
DTSTART:20251102T070000
END:STANDARD
BEGIN:DAYLIGHT
TZOFFSETFROM:-0600
TZOFFSETTO:-0500
TZNAME:CDT
DTSTART:20260308T080000
END:DAYLIGHT
BEGIN:STANDARD
TZOFFSETFROM:-0500
TZOFFSETTO:-0600
TZNAME:CST
DTSTART:20261101T070000
END:STANDARD
BEGIN:DAYLIGHT
TZOFFSETFROM:-0600
TZOFFSETTO:-0500
TZNAME:CDT
DTSTART:20270314T080000
END:DAYLIGHT
BEGIN:STANDARD
TZOFFSETFROM:-0500
TZOFFSETTO:-0600
TZNAME:CST
DTSTART:20271107T070000
END:STANDARD
END:VTIMEZONE
BEGIN:VTIMEZONE
TZID:UTC
BEGIN:STANDARD
TZOFFSETFROM:+0000
TZOFFSETTO:+0000
TZNAME:UTC
DTSTART:20250101T000000
END:STANDARD
END:VTIMEZONE
BEGIN:VEVENT
DTSTART;TZID=America/New_York:20260515T140000
DTEND;TZID=America/New_York:20260522T090000
DTSTAMP:20260421T143854
CREATED:20251230T225728Z
LAST-MODIFIED:20251230T225728Z
UID:159334-1778853600-1779440400@www.contemplativeoutreach.org
SUMMARY:Eight Day Centering Prayer Dual Track Intensive/Post Intensive Retreat
DESCRIPTION:The eight-day Centering Prayer dual track intensive/post intensive retreat offered from Friday\, May 15 to Friday\, May 22\, 2026\, provides an opportunity to deepen the practice of Centering Prayer in an atmosphere of profound silence and community support. The intensive track will follow the Contemplative Outreach guidelines for an intensive retreat including six 30-minute Centering Prayer periods daily plus viewing and faith sharing on Thomas Keating’s Human Condition teachings. The post intensive track provides an additional 30 minutes of Centering Prayer with time for daily solitude. \nRetreat leaders: Leslee Anne Terpay and Br. Bernard Delcourt are available for soul-friending. During the retreat\, one will experience integrating as one wishes contemplation and action through silence\, solitude\, community and the rhythm of this Episcopal Benedictine monastic community’s worship and prayer life including daily Holy Eucharist. An established practice of Centering Prayer for at least 6-months is highly recommended. \nMonday check-in is from 2:00 to 5:00 p.m. Supper is at 5:40 pm. Orientation begins at 6:45 pm. The retreat concludes with breakfast on the last day with optional attendance at Holy Eucharist. \nCost for the retreat is $1135. The retreat fee includes a single room and all meals. Shared single occupancy bathrooms in the hallways.\nTo register\, please contact our Guesthouse Office by phone at +1-845-384-6660\, ext. 3002 or email guesthouse@hcmnet.org. The guesthouse office is open Tuesday through Friday. \nIf you have questions about the retreat content or which track is best for you\, please contact retreat leader: Leslee Terpay at co-leslee@comcast.net. \nLeslee Anne Terpay: As a Contemplative Outreach commissioned presenter of Centering Prayer and Lectio Divina\, Leslee shares Fr. Thomas Keating’s teachings on the Christian Spiritual Journey in workshop and retreat settings. She is part of the service team that stewards Fr. Thomas’s teaching for serving Centering Prayer retreats. She is a spiritual director in Lone Tree\, Colorado and a graduate of The Center for Action and Contemplation Living School. \nBr. Bernard Delcourt is the Director of Associates of the monastery. Br. Bernard is a Contemplative Outreach commissioned presenter. He has been a monk since 2004. Before becoming a monk\, he was an investment banker and then a life and business skills coach. He is also a spiritual director and regularly visits seminarians in New Haven to offer them spiritual direction.
URL:https://www.contemplativeoutreach.org/event/eight-day-centering-prayer-dual-track-intensive-post-intensive-retreat-2/
LOCATION:Holy Cross Monastery – New York\, 1615 Route 9W\, West Park\, NY\, 12493\, United States
CATEGORIES:Retreat
ATTACH;FMTTYPE=image/jpeg:https://www.contemplativeoutreach.org/wp-content/uploads/2025/12/IMG_3349-e1767135439412.jpg
ORGANIZER;CN="Leslee Anne Terpay":MAILTO:co-leslee@comcast.net
END:VEVENT
BEGIN:VEVENT
DTSTART;TZID=America/Chicago:20260706T150000
DTEND;TZID=America/Chicago:20260713T123000
DTSTAMP:20260421T143854
CREATED:20260210T162908Z
LAST-MODIFIED:20260210T162908Z
UID:160673-1783350000-1783945800@www.contemplativeoutreach.org
SUMMARY:8 Day Silent Intensive and Post-Intensive Retreat with Father Bill Sheehan
DESCRIPTION:Come rest in silence with other contemplative companions\, away from the busyness of daily life\, and allow the mind\, body\, and spirit to surrender to God’s presence and action within. \nThis 8 day retreat offers a more in-depth experience of silent prayer for those who already have an established practice of Centering Prayer of 6 months or more. It is an opportunity for deeper union with God through a communal sharing of silence and stillness. For those making their first weeklong silent retreat\, the Intensive\, we will be using the video series by Thomas Keating\, The Spiritual Journey. The simultaneous Post Intensive track includes additional time in silent prayer instead of video presentations for those who have previously made an Eight Day Intensive Retreat. \nThis retreat offers a double track simultaneously: Intensive I and Post Intensive. If this is your first Centering Prayer retreat of this length the Spiritual Journey Videos are shown in Intensive I. They lay a necessary foundation for the practice for life and especially intensive retreats. \nIntensive I: There will be 3 sets of two 30-minute periods of Centering Prayer daily and 2 sessions of watching video talks from Fr. Thomas Keating’s Spiritual Journey series with optional discussion. \nPost-Intensive: There will be 3 sets of two 30-minute periods plus two additional 30-minute periods of Centering Prayer daily. \nLectio Divina and a optional contemplative Eucharist will be offered daily for everyone\, as well as optional soul-friending with staff. \nThe retreat will be facilitated by Contemplative Outreach staff: Father Bill Sheehan\, OMI\, Marty Badgett\, Mary Beth Rhiner\, Jim McElroy\, Kristina Frank and Susie Brent. \nTo Support Your Retreat Experience: A daily practice of Centering Prayer for 6 months or longer is recommended. \nPlease see the link below for more information and to register.
URL:https://www.contemplativeoutreach.org/event/8-day-silent-intensive-and-post-intensive-retreat-with-father-bill-sheehan/
LOCATION:Mercy Conference and Retreat Center\, 2039 N. Geyer Road\, St. Louis\, MO\, 63131\, United States
CATEGORIES:Retreat
ATTACH;FMTTYPE=image/jpeg:https://www.contemplativeoutreach.org/wp-content/uploads/2026/02/IMG_6985-Mercy-Circle.jpeg
ORGANIZER;CN="Contemplative Outreach of St. Louis.":MAILTO:cost.louisinformation@gmail.com
END:VEVENT
BEGIN:VEVENT
DTSTART;TZID=UTC:20260911T140000
DTEND;TZID=UTC:20260918T090000
DTSTAMP:20260421T143854
CREATED:20260102T174138Z
LAST-MODIFIED:20260102T174138Z
UID:159339-1789135200-1789722000@www.contemplativeoutreach.org
SUMMARY:Eight Day Centering Prayer Dual Track Intensive/Post Intensive Retreat
DESCRIPTION:The Eight-Day Centering Prayer Dual Track Intensive / Post Intensive Retreat offered from Friday\, September 11 – Friday\, September 18\, 2026\, provides an opportunity to deepen the practice of Centering Prayer in an atmosphere of profound silence and community support. The Intensive track will follow the Contemplative Outreach guidelines for an Intensive Retreat including six 30-minute Centering Prayer periods daily plus viewing and faith sharing on Thomas Keating’s Human Condition teachings. The Post Intensive track provides an additional 30 minutes of Centering Prayer with time for daily solitude. \nRetreat leaders: Leslee Anne Terpay and Br. Bernard Delcourt are available for soul-friending. During the retreat\, one will experience integrating as one wishes contemplation and action through silence\, solitude\, community and the rhythm of this Episcopal Benedictine monastic community’s worship and prayer life including daily Holy Eucharist. An established practice of Centering Prayer for at least 6-months is highly recommended. \nMonday check-in is from 2:00 to 5:00 p.m. Supper is at 5:40 pm. Orientation begins at 6:45 pm. The retreat concludes with breakfast on the last day with optional attendance at Holy Eucharist. \nCost for the retreat is $1135. The retreat fee includes a single room and all meals. Shared single occupancy bathrooms in the hallways. To register\, please contact our Guesthouse Office by phone at +1-845-384-6660\, ext. 3002 or email guesthouse@hcmnet.org. The guesthouse office is open Tuesdays to Friday. \nIf you have questions about the retreat content or which track is best for you\, please contact retreat leader: Leslee Terpay at co-leslee@comcast.net. \nLeslee Anne Terpay: As a Contemplative Outreach Commissioned Presenter of Centering Prayer and Lectio Divina\, Leslee shares Fr. Thomas Keating’s teachings on the Christian Spiritual Journey in workshop and retreat settings. She is part of the Service Team that stewards Fr. Thomas’s teaching for serving Centering Prayer Retreats. She is a spiritual director in Lone Tree\, Colorado and a graduate of The Center for Action and Contemplation Living School. \nBr. Bernard Delcourt is the Director of Associates of the monastery. Br. Bernard is a Contemplative Outreach commissioned presenter. He has been a monk since 2004. Before becoming a monk\, he was an investment banker and then a life and business skills coach. He is also a spiritual director and regularly visits seminarians in New Haven to offer them spiritual direction.
URL:https://www.contemplativeoutreach.org/event/eight-day-centering-prayer-dual-track-intensive-post-intensive-retreat-3/
LOCATION:Holy Cross Monastery – New York\, 1615 Route 9W\, West Park\, NY\, 12493\, United States
CATEGORIES:Retreat
ATTACH;FMTTYPE=image/jpeg:https://www.contemplativeoutreach.org/wp-content/uploads/2025/12/IMG_3751-PANO-e1767375686227.jpg
ORGANIZER;CN="Leslee Anne Terpay":MAILTO:co-leslee@comcast.net
END:VEVENT
END:VCALENDAR