BEGIN:VCALENDAR
VERSION:2.0
PRODID:-//Contemplative Outreach, Ltd. - ECPv6.15.17.1//NONSGML v1.0//EN
CALSCALE:GREGORIAN
METHOD:PUBLISH
X-WR-CALNAME:Contemplative Outreach, Ltd.
X-ORIGINAL-URL:https://www.contemplativeoutreach.org
X-WR-CALDESC:Events for Contemplative Outreach, Ltd.
REFRESH-INTERVAL;VALUE=DURATION:PT1H
X-Robots-Tag:noindex
X-PUBLISHED-TTL:PT1H
BEGIN:VTIMEZONE
TZID:America/Indiana/Indianapolis
BEGIN:DAYLIGHT
TZOFFSETFROM:-0500
TZOFFSETTO:-0400
TZNAME:EDT
DTSTART:20240310T070000
END:DAYLIGHT
BEGIN:STANDARD
TZOFFSETFROM:-0400
TZOFFSETTO:-0500
TZNAME:EST
DTSTART:20241103T060000
END:STANDARD
BEGIN:DAYLIGHT
TZOFFSETFROM:-0500
TZOFFSETTO:-0400
TZNAME:EDT
DTSTART:20250309T070000
END:DAYLIGHT
BEGIN:STANDARD
TZOFFSETFROM:-0400
TZOFFSETTO:-0500
TZNAME:EST
DTSTART:20251102T060000
END:STANDARD
BEGIN:DAYLIGHT
TZOFFSETFROM:-0500
TZOFFSETTO:-0400
TZNAME:EDT
DTSTART:20260308T070000
END:DAYLIGHT
BEGIN:STANDARD
TZOFFSETFROM:-0400
TZOFFSETTO:-0500
TZNAME:EST
DTSTART:20261101T060000
END:STANDARD
END:VTIMEZONE
BEGIN:VTIMEZONE
TZID:UTC
BEGIN:STANDARD
TZOFFSETFROM:+0000
TZOFFSETTO:+0000
TZNAME:UTC
DTSTART:20240101T000000
END:STANDARD
END:VTIMEZONE
BEGIN:VEVENT
DTSTART;TZID=America/Indiana/Indianapolis:20251017T120000
DTEND;TZID=America/Indiana/Indianapolis:20251019T130000
DTSTAMP:20260422T211704
CREATED:20250421T190537Z
LAST-MODIFIED:20250421T190537Z
UID:154819-1760702400-1760878800@www.contemplativeoutreach.org
SUMMARY:A Weekend Centering Prayer Retreat
DESCRIPTION:Centering Prayer is a receptive method of silent prayer in which we experience God’s presence within us\, closer than breathing\, closer than thinking\, closer than\nconsciousness itself. This method of prayer is both a relationship with God and a discipline to foster that relationship. As one practices Centering Prayer with devotional sincerity and tries to respond to all situations within God’s will rather than through our own inclinations\, we find ourselves being called on a journey of transformation. How does one respond to this call? What does this transformation involve? What does it look like in everyday life? These and related questions will be the theme of this weekend retreat. \nThere will be time for silence\, lectio divina\, videos with short discussions\, and exploring the beauty of nature\, all in the comfort and serenity of Seton Cove Spirituality Center. \nPlease see the link below to register.
URL:https://www.contemplativeoutreach.org/event/a-weekend-centering-prayer-retreat/
LOCATION:St. Vincent Seton Cove Spirituality Center\, 2025 Dugan Drive\, Indianapolis\, 46260\, United States
CATEGORIES:Retreat
ORGANIZER;CN="Contemplative Outreach Indianapolis":MAILTO:mary.riner@gmail.com
END:VEVENT
BEGIN:VEVENT
DTSTART;TZID=UTC:20251024T163000
DTEND;TZID=UTC:20251026T113000
DTSTAMP:20260422T211704
CREATED:20250904T161330Z
LAST-MODIFIED:20250904T161330Z
UID:157110-1761323400-1761478200@www.contemplativeoutreach.org
SUMMARY:Beauty: A Fall Retreat
DESCRIPTION:Beauty ~ A Fall Retreat \nBeauty is everywhere:\n~ In the petals of a flower and the vista over fall foliage at a distance;\n~ In the dance of a honey bee and the sway of an African elephant;\n~ In waves on the seashore and the ripples on a brook;\n~ In the face of a friend and the muscle of an Olympic athlete;\n~ In a view through a microscope or a telescope;\n~ All around and within us. \nThe “Beauty” retreat is an opportunity to spend time away in the company of other pilgrims. This event\, October 24-26 (Friday\, 4:30 pm through Sunday 11:30 am) will include structured opportunities for\n* Quiet prayer in the Presence;\n* Sacred Reading of Scripture;\n* Communal Sung Prayer;\n* Communal meals; plus \nThere will be ample free time for\n– Yoga\,\n– a Nature walk on the Prairiewood trails\,\n– walking an outdoor labyrinth\,\n– hand massage\,\n– journaling; and more \nRegistration: To register online\, visit our Eventbrite listing for this event (on that site search for Beauty – Hiawatha); OR send an email to coneiowa@gmail.com with your intent\, and we will send you a form to return with a check for the registration fee.\nFees:\nFull Retreat with shared room: $175\nFull Retreat with individual room: $215\nCommuter: $145 (meals\, no overnight room);\nOne day only (Saturday) $75 (with no overnight) \nPrairiewoods is at 120 Boyson Rd\, Hiawatha\, IA. To view more photos and read more about Prairiewoods\, visit https://prairiewoods.org/. \nFAQs – Frequently Asked Questions \nQ1: Will there be food provided?\nA: Yes\, there will be fruit\, drinks (coffee\, tea and water) and other snacks available throughout the event. Meals will be served by Prairiewoods staff\, with the option to accommodate people with special dietary needs. \nQ2: Will silence be a part of the event?\nA: Yes\, much of the retreat will include internal and external silence. However\, there will some time for conversation with other retreatants. \nQ3: Can I attend only part of the retreat?\nA: Yes. We encourage people to attend the whole event; however\, if you can only come for one day\, you are welcome to do so. The related costs are listed above \nQ4: Will I be expected to share many details of my life?\nA: No. There will be time for introductions with other group members\, but not extensive sharing. If extended sharing is desired\, there will be opportunities to meet one-on-one with one of the leaders. \nQ5: Is Prairiewoods handicap accessible?\nA: Yes. The Center has all facilities on one level. While there are two levels withing the building for sleeping rooms\, you may request a room on the floor level. Retreatants will need to assess whether the outdoor grounds are safe for them. \nQ6: Is there anything else I might want to know about Prairiewoods?\nA: Yes. Indoors\, there is an onsite bookstore\, an area for meals and snacks\, a quiet prayer room\, our meeting room\, etc. Outdoors\, the wooded grounds provide a space to commune in nature; with an outdoor labyrinth available. \nQ7: If I cannot attend this event\, can my registration be refunded?\nA: Refunds are possible until 9 am October 10 for paid registrations that have been received. However\, thereafter we cannot provide refunds because of our contract with Prairiewoods. With this contract we guarantee the number of participants and associated fees. Refunds will be the full amount minus the Eventbrite processing fee if payment is made online. \nQ8: Can I register for a half day on Saturday?\nA: Yes. This is an option with the mail-in registration that you can request via Email to coneiowa@gmail.com. The fee for morning or afternoon\, both including lunch\, is $45 \nQ9: What if my personal finances are tight?\nA: Scholarships are available upon request. To learn more\, contact coneiowa@gmail.com \nSponsored by Contemplative Outreach Northeast Iowa Chapter
URL:https://www.contemplativeoutreach.org/event/beauty-a-fall-retreat/
LOCATION:Prairiewoods Franciscan Spirituality Center\, 120 Boyson Rd\, Hiawatha\, IA\, 52233\, United States
CATEGORIES:Retreat
ATTACH;FMTTYPE=image/jpeg:https://www.contemplativeoutreach.org/wp-content/uploads/2025/09/Beauty-Fall-Retreat-at-Prairiewoods-October-24-26-2025.jpg
ORGANIZER;CN="Contemplative Outreach of Northeast Iowa":MAILTO:CONEiowa@gmail.com
END:VEVENT
END:VCALENDAR