BEGIN:VCALENDAR
VERSION:2.0
PRODID:-//Contemplative Outreach, Ltd. - ECPv6.15.17.1//NONSGML v1.0//EN
CALSCALE:GREGORIAN
METHOD:PUBLISH
X-WR-CALNAME:Contemplative Outreach, Ltd.
X-ORIGINAL-URL:https://www.contemplativeoutreach.org
X-WR-CALDESC:Events for Contemplative Outreach, Ltd.
REFRESH-INTERVAL;VALUE=DURATION:PT1H
X-Robots-Tag:noindex
X-PUBLISHED-TTL:PT1H
BEGIN:VTIMEZONE
TZID:Asia/Karachi
BEGIN:STANDARD
TZOFFSETFROM:+0500
TZOFFSETTO:+0500
TZNAME:PKT
DTSTART:20250101T000000
END:STANDARD
END:VTIMEZONE
BEGIN:VEVENT
DTSTART;TZID=Asia/Karachi:20260221T083000
DTEND;TZID=Asia/Karachi:20260221T143000
DTSTAMP:20260422T141627
CREATED:20260119T190635Z
LAST-MODIFIED:20260119T190658Z
UID:160436-1771662600-1771684200@www.contemplativeoutreach.org
SUMMARY:Virtual Silent Saturday with Fr. William Sheehan - via Zoom
DESCRIPTION:Virtual Silent Saturday with Fr. William Sheehan\nExperience the Goodness of Our Life And Being through Our Consents to God\nSaturday February 21 8:30am-2:30pm Eastern Standard Time \nContemplative Outreach of Columbus is offering a Silent Saturday. A Silent Saturday provides a few hours that are set aside for Centering Prayer\, Lectio Divina\, spiritual teaching and reflection. “Come rest awhile with the Lord” this Lent. \nFr. Bill will be discussing the ongoing process of our integration in relation to Four Consents. These consents serve as a framework for understanding the spiritual journey and correspond to the stages of our life. The four consents include accepting the goodness of our being\, accepting the goodness of our creative energy while developing our talents\, experiencing God as we face and consent to the diminishment of aging\, and ultimately\, saying yes to our transformation. \nFr. Bill is a priest and member of the Missionary Oblates of Mary Immaculate. He was present at the Lama retreat convened by Fr. Thomas Keating OCSO which founded Contemplative Outreach. He has led countless centering prayer workshops and retreats. \nExpect that the day will begin at 8:30am and last until 2:30pm. EST \nRegister by sending an email to Bob Gorman at rbrtgorman@protonmail.com and a zoom link will be sent to you a few days in advance. The event is free.
URL:https://www.contemplativeoutreach.org/event/virtual-silent-saturday-with-fr-william-sheehan-via-zoom/
LOCATION:Zoom!\, Select a Country:
CATEGORIES:Retreat
ORGANIZER;CN="Bob Gorman":MAILTO:rbrtgorman@protonmail.com
END:VEVENT
END:VCALENDAR