BEGIN:VCALENDAR
VERSION:2.0
PRODID:-//Contemplative Outreach, Ltd. - ECPv6.15.17.1//NONSGML v1.0//EN
CALSCALE:GREGORIAN
METHOD:PUBLISH
X-WR-CALNAME:Contemplative Outreach, Ltd.
X-ORIGINAL-URL:https://www.contemplativeoutreach.org
X-WR-CALDESC:Events for Contemplative Outreach, Ltd.
REFRESH-INTERVAL;VALUE=DURATION:PT1H
X-Robots-Tag:noindex
X-PUBLISHED-TTL:PT1H
BEGIN:VTIMEZONE
TZID:America/New_York
BEGIN:DAYLIGHT
TZOFFSETFROM:-0500
TZOFFSETTO:-0400
TZNAME:EDT
DTSTART:20250309T070000
END:DAYLIGHT
BEGIN:STANDARD
TZOFFSETFROM:-0400
TZOFFSETTO:-0500
TZNAME:EST
DTSTART:20251102T060000
END:STANDARD
BEGIN:DAYLIGHT
TZOFFSETFROM:-0500
TZOFFSETTO:-0400
TZNAME:EDT
DTSTART:20260308T070000
END:DAYLIGHT
BEGIN:STANDARD
TZOFFSETFROM:-0400
TZOFFSETTO:-0500
TZNAME:EST
DTSTART:20261101T060000
END:STANDARD
BEGIN:DAYLIGHT
TZOFFSETFROM:-0500
TZOFFSETTO:-0400
TZNAME:EDT
DTSTART:20270314T070000
END:DAYLIGHT
BEGIN:STANDARD
TZOFFSETFROM:-0400
TZOFFSETTO:-0500
TZNAME:EST
DTSTART:20271107T060000
END:STANDARD
END:VTIMEZONE
BEGIN:VEVENT
DTSTART;TZID=America/New_York:20260110T110000
DTEND;TZID=America/New_York:20260110T160000
DTSTAMP:20260420T232732
CREATED:20250915T143208Z
LAST-MODIFIED:20250922T151116Z
UID:157305-1768042800-1768060800@www.contemplativeoutreach.org
SUMMARY:Living Flame 1 Program – via Zoom
DESCRIPTION:REGISTRATION IS NOW OPEN FOR LIVING FLAME 1 PROGRAM HAPPENING IN 2026 \nThe first retreat day: January 10 @ 11:00 am – 4:00 pm and then each month on the dates shown below for the next six months. \nDates: 2026 – Jan. 10\, Feb. 14\, Mar. 14\, Apr. 11\, May 9\, June 13\, July 11\nTime: 11:00 AM – 4:00 PM EST (-5 UTC) \nThe Living Flame 1 Program is offered on Zoom for individuals\, and small groups of six people or fewer who gather in-person. This program is hosted by Contemplative Outreach’s Living Flame Service Team. \nLF 1 is open to everyone who has had a consistent daily Centering Prayer practice for a year or more and who has reflectively read Open Mind\, Open Heart by Thomas Keating. This will support a more engaged participation and assimilation of the program content. Additional suggested resources are Keating’s Invitation to Love and Intimacy With God. \nLiving Flame is a seven-day in-depth spiritual formation program presented over seven months by commissioned presenters of Contemplative Outreach\, Ltd. It’s designed to heighten the awareness of the dynamics of Centering Prayer in the context of the spiritual journey. Registration and participation in the program is a commitment to all seven sessions. Topics for the Living Flame Program are noted in the Living Flame brochure \nEach retreat-like day is facilitated in a five-hour scheduled format which includes: two periods of Centering Prayer; two presentations with Q&A; small group sharing; silent breaks and time for a meal.
URL:https://www.contemplativeoutreach.org/event/living-flame-1-program-via-zoom/
LOCATION:Internet – Online
CATEGORIES:Retreat
ORGANIZER;CN="Matt Scrimgeour":MAILTO:matt@coutreach.org
END:VEVENT
END:VCALENDAR