BEGIN:VCALENDAR
VERSION:2.0
PRODID:-//Contemplative Outreach, Ltd. - ECPv6.15.17.1//NONSGML v1.0//EN
CALSCALE:GREGORIAN
METHOD:PUBLISH
X-ORIGINAL-URL:https://www.contemplativeoutreach.org
X-WR-CALDESC:Events for Contemplative Outreach, Ltd.
REFRESH-INTERVAL;VALUE=DURATION:PT1H
X-Robots-Tag:noindex
X-PUBLISHED-TTL:PT1H
BEGIN:VTIMEZONE
TZID:America/New_York
BEGIN:DAYLIGHT
TZOFFSETFROM:-0500
TZOFFSETTO:-0400
TZNAME:EDT
DTSTART:20230312T070000
END:DAYLIGHT
BEGIN:STANDARD
TZOFFSETFROM:-0400
TZOFFSETTO:-0500
TZNAME:EST
DTSTART:20231105T060000
END:STANDARD
BEGIN:DAYLIGHT
TZOFFSETFROM:-0500
TZOFFSETTO:-0400
TZNAME:EDT
DTSTART:20240310T070000
END:DAYLIGHT
BEGIN:STANDARD
TZOFFSETFROM:-0400
TZOFFSETTO:-0500
TZNAME:EST
DTSTART:20241103T060000
END:STANDARD
BEGIN:DAYLIGHT
TZOFFSETFROM:-0500
TZOFFSETTO:-0400
TZNAME:EDT
DTSTART:20250309T070000
END:DAYLIGHT
BEGIN:STANDARD
TZOFFSETFROM:-0400
TZOFFSETTO:-0500
TZNAME:EST
DTSTART:20251102T060000
END:STANDARD
END:VTIMEZONE
BEGIN:VEVENT
DTSTART;VALUE=DATE:20240907
DTEND;VALUE=DATE:20240908
DTSTAMP:20260422T074720
CREATED:20230130T164237Z
LAST-MODIFIED:20240518T194133Z
UID:131926-1725667200-1725753599@www.contemplativeoutreach.org
SUMMARY:Living Flame 2 Program
DESCRIPTION:September 7\, 2024 @ 11:00 am – 4:00 pm  \nThe Living Flame 2 Program (LF2) offers seven additional topics and is being offered globally on Zoom. Individuals and small in-person groups of five people or fewer are invited to participate. This program is hosted by Contemplative Outreach’s Living Flame Service Team. \nLF 2 is open to everyone who has participated in LF 1 as well as to those who have had a daily Centering Prayer practice for a year or more and who have reflectively read Open Mind\, Open Heart by Thomas Keating. This will support a more engaged participation and assimilation of the program content.  Additional suggested resources are Keating’s Invitation to Love and Intimacy With God. \nLiving Flame is a seven-day in-depth spiritual formation program presented over seven months by commissioned presenters of Contemplative Outreach\, Ltd. It’s designed to heighten the awareness of the dynamics of Centering Prayer in the context of the spiritual journey. Registration and participation in the program is a commitment to all seven sessions. Topics for the Living Flame Program are noted in the Living Flame brochure \nEach retreat-like day is facilitated in a five-hour scheduled format which includes: two periods of Centering Prayer; two presentations with Q&A; small group sharing; silent breaks and time for a meal. \nDates:  2024 – Sept. 7\,  Oct. 5\,  Nov. 2   2025 – Jan. 11\,  Feb. 1\,  Mar. 1\,  Apr. 5\nTime:  11:00 AM – 4:00 PM EST (-5 UTC) \nFee:  $70 USD \nClick here to register. Fee is due with registration. Scholarships are available. \nContact for the Living Flame Service Team:  Judy Sharer jsharer@bbtel.com
URL:https://www.contemplativeoutreach.org/event/living-flame-program/
LOCATION:Internet – Online
CATEGORIES:Retreat,Workshop
ORGANIZER;CN="Judy Sharer":MAILTO:jsharer@bbtel.com
END:VEVENT
END:VCALENDAR