BEGIN:VCALENDAR
VERSION:2.0
PRODID:-//Contemplative Outreach, Ltd. - ECPv6.15.17.1//NONSGML v1.0//EN
CALSCALE:GREGORIAN
METHOD:PUBLISH
X-ORIGINAL-URL:https://www.contemplativeoutreach.org
X-WR-CALDESC:Events for Contemplative Outreach, Ltd.
REFRESH-INTERVAL;VALUE=DURATION:PT1H
X-Robots-Tag:noindex
X-PUBLISHED-TTL:PT1H
BEGIN:VTIMEZONE
TZID:America/Halifax
BEGIN:DAYLIGHT
TZOFFSETFROM:-0400
TZOFFSETTO:-0300
TZNAME:ADT
DTSTART:20230312T060000
END:DAYLIGHT
BEGIN:STANDARD
TZOFFSETFROM:-0300
TZOFFSETTO:-0400
TZNAME:AST
DTSTART:20231105T050000
END:STANDARD
BEGIN:DAYLIGHT
TZOFFSETFROM:-0400
TZOFFSETTO:-0300
TZNAME:ADT
DTSTART:20240310T060000
END:DAYLIGHT
BEGIN:STANDARD
TZOFFSETFROM:-0300
TZOFFSETTO:-0400
TZNAME:AST
DTSTART:20241103T050000
END:STANDARD
BEGIN:DAYLIGHT
TZOFFSETFROM:-0400
TZOFFSETTO:-0300
TZNAME:ADT
DTSTART:20250309T060000
END:DAYLIGHT
BEGIN:STANDARD
TZOFFSETFROM:-0300
TZOFFSETTO:-0400
TZNAME:AST
DTSTART:20251102T050000
END:STANDARD
END:VTIMEZONE
BEGIN:VTIMEZONE
TZID:America/Los_Angeles
BEGIN:DAYLIGHT
TZOFFSETFROM:-0800
TZOFFSETTO:-0700
TZNAME:PDT
DTSTART:20230312T100000
END:DAYLIGHT
BEGIN:STANDARD
TZOFFSETFROM:-0700
TZOFFSETTO:-0800
TZNAME:PST
DTSTART:20231105T090000
END:STANDARD
BEGIN:DAYLIGHT
TZOFFSETFROM:-0800
TZOFFSETTO:-0700
TZNAME:PDT
DTSTART:20240310T100000
END:DAYLIGHT
BEGIN:STANDARD
TZOFFSETFROM:-0700
TZOFFSETTO:-0800
TZNAME:PST
DTSTART:20241103T090000
END:STANDARD
BEGIN:DAYLIGHT
TZOFFSETFROM:-0800
TZOFFSETTO:-0700
TZNAME:PDT
DTSTART:20250309T100000
END:DAYLIGHT
BEGIN:STANDARD
TZOFFSETFROM:-0700
TZOFFSETTO:-0800
TZNAME:PST
DTSTART:20251102T090000
END:STANDARD
END:VTIMEZONE
BEGIN:VEVENT
DTSTART;TZID=America/Halifax:20240302T083000
DTEND;TZID=America/Halifax:20240302T143000
DTSTAMP:20260422T092611
CREATED:20240118T182231Z
LAST-MODIFIED:20240118T182247Z
UID:141085-1709368200-1709389800@www.contemplativeoutreach.org
SUMMARY:Virtual Silent Saturday with Fr Bill Sheehan - via Zoom
DESCRIPTION:A Silent Saturday provides a few hours that are set aside for Centering Prayer\, Lectio Divina\, spiritual teaching and reflection. “Come rest awhile with the Lord” in preparation for Holy Week. \nFr Bill will discuss “Finding the Place of the Heart … Encouragement to go Deeper” so that we may listen to the Spirit praying in us\, enlivening\, enlightening and guiding us. God has pitched a tent on the fertile soil of our hearts. \nFr. Bill is a priest and member of the Missionary Oblates of Mary Immaculate. He was present at the Lama retreat convened by Fr. Thomas Keating OCSO which founded Contemplative Outreach. He has led countless Centering Prayer workshops and retreats for Contemplative Outreach. \nRegister by sending an email to rbrtgorman@protonmail.com and a Zoom link will be sent to you a few days in advance.\nProgram begins at 8:30 am Eastern Standard Time (EST).
URL:https://www.contemplativeoutreach.org/event/virtual-silent-saturday-with-fr-bill-sheehan-via-zoom/
LOCATION:Internet – Online
CATEGORIES:Retreat
ORGANIZER;CN="Contemplative Outreach of Columbus":MAILTO:rbrtgorman@gmail.com
END:VEVENT
BEGIN:VEVENT
DTSTART;TZID=America/Los_Angeles:20240306T150000
DTEND;TZID=America/Los_Angeles:20240314T110000
DTSTAMP:20260422T092611
CREATED:20230418T194751Z
LAST-MODIFIED:20230928T205102Z
UID:134402-1709737200-1710414000@www.contemplativeoutreach.org
SUMMARY:9-Day Intensive\, Post Intensive Retreat
DESCRIPTION:This retreat offers three tracks simultaneously: Intensive I\, Intensive II and Post Intensive. For everyone\, there will be 3 sets of two 30 minute periods of Centering Prayer daily. Intensive I and Intensive II will watch video talks from Fr. Thomas Keating’s Spiritual Journey. Intensive I focuses on “The Human Condition and the Spiritual Journey”. Intensive II focuses on “Divine Love: The Heart of the Christian Spiritual Journey”. The Post Intensive has no videos and an additional hour of Centering Prayer each day. You choose the track that works best for you. Any of the tracks may be repeated multiple times. If this is your first Intensive retreat of this length\, we suggest you choose Intensive I. We recommend Intensive I before Intensive II. \nLectio Divina and a contemplative Eucharist will be offered daily\, as well as optional soul-friending with the staff. Throughout the retreat\, we will be in silence. \nPre-requisite: A daily practice of Centering Prayer for 6 months or longer. \nThe retreat will be facilitated by Susan Turpin\, Fr. Bill Sheehan\, OMI\, and Marty Badgett. Susan\, Marty\, and Fr. Bill have served within the Contemplative Outreach community for many years and led many Centering Prayer retreats and workshops. \nThe retreat begins Wednesday\, March 6 with registration from 3:00 to 5:00\, an opening session at 5:00pm\, and dinner at 6:00pm. We end on Thursday\, March 14 at 11:00am (lunch optional). \nThe fee includes all meals and lodging. Rooms are single with a sink in the room; bathrooms are shared. \nIf you are traveling by air\, the Contemplative Outreach staff can arrange transportation from the Sacramento airport to the Mercy Center.  Please book your arrival on the beginning day for 1:30pm or earlier and your departure on the ending day for 1:30pm or later.  Let us know your flight information.  A $25/one way\, $50 round trip cash or Venmo contribution is appreciated.
URL:https://www.contemplativeoutreach.org/event/9-day-intensive-post-intensive-retreat/
LOCATION:Mercy Center Auburn\, 535 Sacramento Street\, Auburn\, CA\, 95603\, United States
CATEGORIES:Retreat
ATTACH;FMTTYPE=image/jpeg:https://www.contemplativeoutreach.org/wp-content/uploads/2023/04/CenteringPrayerIntensiveMarch2024.jpg
ORGANIZER;CN="Susan Turpin1":MAILTO:slturpin@me.com
END:VEVENT
END:VCALENDAR