BEGIN:VCALENDAR
VERSION:2.0
PRODID:-//Contemplative Outreach, Ltd. - ECPv6.15.17.1//NONSGML v1.0//EN
CALSCALE:GREGORIAN
METHOD:PUBLISH
X-ORIGINAL-URL:https://www.contemplativeoutreach.org
X-WR-CALDESC:Events for Contemplative Outreach, Ltd.
REFRESH-INTERVAL;VALUE=DURATION:PT1H
X-Robots-Tag:noindex
X-PUBLISHED-TTL:PT1H
BEGIN:VTIMEZONE
TZID:UTC
BEGIN:STANDARD
TZOFFSETFROM:+0000
TZOFFSETTO:+0000
TZNAME:UTC
DTSTART:20230101T000000
END:STANDARD
END:VTIMEZONE
BEGIN:VEVENT
DTSTART;VALUE=DATE:20240602
DTEND;VALUE=DATE:20240610
DTSTAMP:20260422T021521
CREATED:20240113T221230Z
LAST-MODIFIED:20240113T221856Z
UID:140898-1717286400-1717977599@www.contemplativeoutreach.org
SUMMARY:Forming Future Keepers of the Tradition: Young Contemplatives Retreat
DESCRIPTION:All young contemplatives and professionals 50 and under are welcome to this Centering Prayer retreat. \nGenerous scholarships are available. \nPlease email snowmasscoc@gmail.com with questions and interest.
URL:https://www.contemplativeoutreach.org/event/forming-future-keepers-of-the-tradition-young-contemplatives-retreat/
LOCATION:The Lama Foundation\, PO Box 240\, San Christobal\, NM\, 87564\, United States
CATEGORIES:Retreat
ATTACH;FMTTYPE=application/pdf:https://www.contemplativeoutreach.org/wp-content/uploads/2024/01/Centering-Prayer-YPR.jpg.pdf
END:VEVENT
END:VCALENDAR