BEGIN:VCALENDAR
VERSION:2.0
PRODID:-//Contemplative Outreach, Ltd. - ECPv6.15.17.1//NONSGML v1.0//EN
CALSCALE:GREGORIAN
METHOD:PUBLISH
X-WR-CALNAME:Contemplative Outreach, Ltd.
X-ORIGINAL-URL:https://www.contemplativeoutreach.org
X-WR-CALDESC:Events for Contemplative Outreach, Ltd.
REFRESH-INTERVAL;VALUE=DURATION:PT1H
X-Robots-Tag:noindex
X-PUBLISHED-TTL:PT1H
BEGIN:VTIMEZONE
TZID:UTC
BEGIN:STANDARD
TZOFFSETFROM:+0000
TZOFFSETTO:+0000
TZNAME:UTC
DTSTART:20240101T000000
END:STANDARD
END:VTIMEZONE
BEGIN:VEVENT
DTSTART;TZID=UTC:20250810T173000
DTEND;TZID=UTC:20250817T110000
DTSTAMP:20260421T005933
CREATED:20241217T194749Z
LAST-MODIFIED:20241217T194749Z
UID:151201-1754847000-1755428400@www.contemplativeoutreach.org
SUMMARY:Centering Prayer
DESCRIPTION:An in-depth retreat for those experienced in Centering Prayer. The retreat will facilitate entrance into a more profound level of spiritual practice in an atmosphere of silence\, solitude and community. \nPlease see the link below to register.
URL:https://www.contemplativeoutreach.org/event/centering-prayer-2/
LOCATION:Bethany Retreat Center\, 1031 Germania Rd\, Frenchville\, PA\, 16836\, United States
CATEGORIES:Retreat
ORGANIZER;CN="Sister Ruth Ann Madera":MAILTO:bethanyretreatcenter@gmail.com
END:VEVENT
END:VCALENDAR