BEGIN:VCALENDAR
VERSION:2.0
PRODID:-//Contemplative Outreach, Ltd. - ECPv6.15.17.1//NONSGML v1.0//EN
CALSCALE:GREGORIAN
METHOD:PUBLISH
X-WR-CALNAME:Contemplative Outreach, Ltd.
X-ORIGINAL-URL:https://www.contemplativeoutreach.org
X-WR-CALDESC:Events for Contemplative Outreach, Ltd.
REFRESH-INTERVAL;VALUE=DURATION:PT1H
X-Robots-Tag:noindex
X-PUBLISHED-TTL:PT1H
BEGIN:VTIMEZONE
TZID:America/New_York
BEGIN:DAYLIGHT
TZOFFSETFROM:-0500
TZOFFSETTO:-0400
TZNAME:EDT
DTSTART:20250309T070000
END:DAYLIGHT
BEGIN:STANDARD
TZOFFSETFROM:-0400
TZOFFSETTO:-0500
TZNAME:EST
DTSTART:20251102T060000
END:STANDARD
BEGIN:DAYLIGHT
TZOFFSETFROM:-0500
TZOFFSETTO:-0400
TZNAME:EDT
DTSTART:20260308T070000
END:DAYLIGHT
BEGIN:STANDARD
TZOFFSETFROM:-0400
TZOFFSETTO:-0500
TZNAME:EST
DTSTART:20261101T060000
END:STANDARD
BEGIN:DAYLIGHT
TZOFFSETFROM:-0500
TZOFFSETTO:-0400
TZNAME:EDT
DTSTART:20270314T070000
END:DAYLIGHT
BEGIN:STANDARD
TZOFFSETFROM:-0400
TZOFFSETTO:-0500
TZNAME:EST
DTSTART:20271107T060000
END:STANDARD
END:VTIMEZONE
BEGIN:VEVENT
DTSTART;TZID=America/New_York:20260210T140000
DTEND;TZID=America/New_York:20260214T133000
DTSTAMP:20260420T175310
CREATED:20251230T225344Z
LAST-MODIFIED:20251230T225344Z
UID:159326-1770732000-1771075800@www.contemplativeoutreach.org
SUMMARY:Centering Prayer Retreat
DESCRIPTION:This retreat\, offered from Tuesday\, February 10 till Friday\, February 13\, 2026\, at Holy Cross Monastery on the Hudson River in New York State\, offers opportunities for both those new to the Centering Prayer and those who have an established practice. During the retreat\, one will experience integrating contemplation and action through silence\, solitude\, community and the rhythm of this Episcopal Benedictine monastic community’s worship and prayer life. \nThe retreat offers two tracks. For those new to Centering Prayer\, the basic essentials of the method and conceptual background of Centering Prayer will be presented. To those who have an established prayer practice\, more time will be available to foster an ever-deepening level of interior silence and awareness of the presence of God in everyday life. This contemplative retreat welcomes both those new to and those comfortable with silence that have a yearning to rediscover this ancient prayer that prepares us to receive the gift of contemplation. \nCheck-in is from 2:00 to 5:00 p.m. Tuesday. Vespers begin at 5:00. Supper then follows. Orientation begins at 6:45. The retreat concludes with lunch on Friday. (Daily Holy Eucharist is available at 9:00 a.m.). The retreat concludes with noon meal on Friday. \nCost for the retreat is $445. The retreat fee includes a single room and all meals. Shared single occupancy bathrooms in the hallways. \nTo register\, please contact our Guesthouse Office by phone at +1-845-384-6660\, ext. 3002 or email guesthouse@hcmnet.org. The guesthouse office is open Tuesday through Friday. \nIf you have questions about the retreat content please contact retreat leader: Leslee Terpay at co-leslee@comcast.net. \nAs a Contemplative Outreach commissioned presenter of Centering Prayer and Lectio Divina\, Leslee shares Fr. Thomas Keating’s teachings on the Christian Spiritual Journey in workshop and retreat settings. She is part of the service team that stewards Fr. Thomas’s teaching for serving Centering Prayer retreats. She is a spiritual director in Lone Tree\, Colorado and a graduate of The Center for Action and Contemplation Living School.
URL:https://www.contemplativeoutreach.org/event/centering-prayer-retreat-59/
LOCATION:Holy Cross Monastery – New York\, 1615 Route 9W\, West Park\, NY\, 12493\, United States
CATEGORIES:Retreat
ATTACH;FMTTYPE=image/jpeg:https://www.contemplativeoutreach.org/wp-content/uploads/2025/12/IMG_3274-e1767135192993.jpg
ORGANIZER;CN="Leslee Anne Terpay":MAILTO:co-leslee@comcast.net
END:VEVENT
END:VCALENDAR