BEGIN:VCALENDAR
VERSION:2.0
PRODID:-//Contemplative Outreach, Ltd. - ECPv6.15.17.1//NONSGML v1.0//EN
CALSCALE:GREGORIAN
METHOD:PUBLISH
X-ORIGINAL-URL:https://www.contemplativeoutreach.org
X-WR-CALDESC:Events for Contemplative Outreach, Ltd.
REFRESH-INTERVAL;VALUE=DURATION:PT1H
X-Robots-Tag:noindex
X-PUBLISHED-TTL:PT1H
BEGIN:VTIMEZONE
TZID:America/New_York
BEGIN:DAYLIGHT
TZOFFSETFROM:-0500
TZOFFSETTO:-0400
TZNAME:EDT
DTSTART:20250309T070000
END:DAYLIGHT
BEGIN:STANDARD
TZOFFSETFROM:-0400
TZOFFSETTO:-0500
TZNAME:EST
DTSTART:20251102T060000
END:STANDARD
BEGIN:DAYLIGHT
TZOFFSETFROM:-0500
TZOFFSETTO:-0400
TZNAME:EDT
DTSTART:20260308T070000
END:DAYLIGHT
BEGIN:STANDARD
TZOFFSETFROM:-0400
TZOFFSETTO:-0500
TZNAME:EST
DTSTART:20261101T060000
END:STANDARD
BEGIN:DAYLIGHT
TZOFFSETFROM:-0500
TZOFFSETTO:-0400
TZNAME:EDT
DTSTART:20270314T070000
END:DAYLIGHT
BEGIN:STANDARD
TZOFFSETFROM:-0400
TZOFFSETTO:-0500
TZNAME:EST
DTSTART:20271107T060000
END:STANDARD
END:VTIMEZONE
BEGIN:VEVENT
DTSTART;TZID=America/New_York:20261208T140000
DTEND;TZID=America/New_York:20261211T133000
DTSTAMP:20260421T010124
CREATED:20260102T174324Z
LAST-MODIFIED:20260102T174324Z
UID:159344-1796738400-1796995800@www.contemplativeoutreach.org
SUMMARY:Centering Prayer: Lectio Divina and the Four Senses of Scripture
DESCRIPTION:This “Praying Holy Scripture” retreat offers Centering Prayer periods plus presentations based upon Fr. Thomas Keating’s teachings on the deepening levels of faith: the Four Senses of Scripture – literal\, allegorical\, behavioral/moral\, and unitive senses. The presentations teach a contemplative way of listening to and reading Scripture known as the ancient monastic practice of Lectio Divina. During the retreat\, one will experience the interplay of the silence of Centering Prayer and Praying Holy Scripture combined with the rhythm of this Episcopal Benedictine monastic community’s worship and prayer life including Holy Eucharist. This contemplative retreat welcomes those comfortable with silence and yearning to learn this ancient way of praying rather than studying Holy Scripture. \nCheck-in is from 2:00 to 5:00 pm Tuesday. Vespers begins at 5:00. Supper then follows. Orientation begins at 6:45 pm. The retreat concludes with noon meal on Friday. (Daily Holy Eucharist is available at 9:00 a.m.). \nThe suggested donation for the retreat is $445. The retreat fee includes a single room and all meals. Shared single occupancy bathrooms in the hallways. To register\, please contact our Guesthouse Office by phone at +1-845-384-6660\, ext. 3002 or email guesthouse@hcmnet.org. The guesthouse office is open from Tuesday till Friday. \nLeslee Anne Terpay: As a Contemplative Outreach Commissioned Presenter of Centering Prayer and Lectio Divina\, Leslee shares Fr. Thomas Keating’s teachings on the Christian Spiritual Journey to Love in workshop and retreat settings. She is part of the Service Teams that steward Fr. Thomas’s teaching for serving Intensive Retreats and Lectio Divina. She is a spiritual director in Lone Tree\, Colorado and a graduate of The Center for Action and Contemplation Living School.
URL:https://www.contemplativeoutreach.org/event/centering-prayer-lectio-divina-and-the-four-senses-of-scripture-4/
LOCATION:Holy Cross Monastery – New York\, 1615 Route 9W\, West Park\, NY\, 12493\, United States
CATEGORIES:Retreat
ATTACH;FMTTYPE=image/jpeg:https://www.contemplativeoutreach.org/wp-content/uploads/2025/12/Lectio-Divina-altar-e1767375791421.jpg
ORGANIZER;CN="Leslee Anne Terpay":MAILTO:co-leslee@comcast.net
END:VEVENT
END:VCALENDAR