BEGIN:VCALENDAR
VERSION:2.0
PRODID:-//Contemplative Outreach, Ltd. - ECPv6.15.17.1//NONSGML v1.0//EN
CALSCALE:GREGORIAN
METHOD:PUBLISH
X-ORIGINAL-URL:https://www.contemplativeoutreach.org
X-WR-CALDESC:Events for Contemplative Outreach, Ltd.
REFRESH-INTERVAL;VALUE=DURATION:PT1H
X-Robots-Tag:noindex
X-PUBLISHED-TTL:PT1H
BEGIN:VTIMEZONE
TZID:UTC
BEGIN:STANDARD
TZOFFSETFROM:+0000
TZOFFSETTO:+0000
TZNAME:UTC
DTSTART:20230101T000000
END:STANDARD
END:VTIMEZONE
BEGIN:VTIMEZONE
TZID:America/New_York
BEGIN:DAYLIGHT
TZOFFSETFROM:-0500
TZOFFSETTO:-0400
TZNAME:EDT
DTSTART:20230312T070000
END:DAYLIGHT
BEGIN:STANDARD
TZOFFSETFROM:-0400
TZOFFSETTO:-0500
TZNAME:EST
DTSTART:20231105T060000
END:STANDARD
BEGIN:DAYLIGHT
TZOFFSETFROM:-0500
TZOFFSETTO:-0400
TZNAME:EDT
DTSTART:20240310T070000
END:DAYLIGHT
BEGIN:STANDARD
TZOFFSETFROM:-0400
TZOFFSETTO:-0500
TZNAME:EST
DTSTART:20241103T060000
END:STANDARD
BEGIN:DAYLIGHT
TZOFFSETFROM:-0500
TZOFFSETTO:-0400
TZNAME:EDT
DTSTART:20250309T070000
END:DAYLIGHT
BEGIN:STANDARD
TZOFFSETFROM:-0400
TZOFFSETTO:-0500
TZNAME:EST
DTSTART:20251102T060000
END:STANDARD
END:VTIMEZONE
BEGIN:VEVENT
DTSTART;TZID=UTC:20240505T160000
DTEND;TZID=UTC:20240508T120000
DTSTAMP:20260422T111118
CREATED:20240125T171421Z
LAST-MODIFIED:20240125T171421Z
UID:141391-1714924800-1715169600@www.contemplativeoutreach.org
SUMMARY:I AM That I AM: The Invitation at the Center of Contemplative Prayer
DESCRIPTION:Contemplative prayer draws us to the center of our being where Silence opens us to God’s dynamic\, spacious\, ever-evolving reality — the God Who is\, not the God we expect. In this silent retreat\, through periods of Centering Prayer; contemplative practices; simple body exercises; contemplative conversation; and quiet time for reflection\, reading\, and walking the grounds\, we will heed the call to meet the God of unsettling mystery and grace\, sometimes unfamiliar and unpredictable\, sometimes wonderfully surprising and bountiful. \nThis silent retreat\, intended for those with a Centering Prayer or other contemplative prayer practice\, will draw on the writings of Thomas Keating\, Ilia Delio\, Teilhard de Chardin\, Meister Eckhart\, and others. It will offer the opportunity to explore your experiences with the Sacred and reflect on how and whether your image and relationship with the divine have changed over the years. Where is God calling to you? How are you responding? \nPlease see the link below to register.
URL:https://www.contemplativeoutreach.org/event/i-am-that-i-am-the-invitation-at-the-center-of-contemplative-prayer/
LOCATION:Mercy by the Sea Retreat and Conference Center\, 167 Neck Road\, Madison\, CT\, 06443-0191\, United States
CATEGORIES:Retreat
ORGANIZER;CN="Anne A. Simpkinson":MAILTO:asimpkinson@gmail.com
END:VEVENT
BEGIN:VEVENT
DTSTART;TZID=America/New_York:20240513T140000
DTEND;TZID=America/New_York:20240519T103000
DTSTAMP:20260422T111118
CREATED:20231027T201048Z
LAST-MODIFIED:20231027T201048Z
UID:138447-1715608800-1716114600@www.contemplativeoutreach.org
SUMMARY:7-Day Centering Prayer Dual Track Intensive / Post Intensive
DESCRIPTION:The seven-day Centering Prayer Dual Track Intensive / Post Intensive Retreat offered from Monday\, May 13 to Sunday\, May 19\, 2024\, provides an opportunity to deepen the practice of Centering Prayer in an atmosphere of profound silence and community support. The Intensive track will follow the Contemplative Outreach guidelines for an Intensive Retreat including six 30-minute Centering Prayer periods daily plus viewing and faith sharing on Thomas Keating’s Human Condition teachings. The Post Intensive track provides an additional 30 minutes of Centering Prayer with time for daily solitude. Retreat leaders: Leslee Anne Terpay and Br. Bernard Delcourt are available for soul-friending. During the retreat\, one will experience integrating as one wishes contemplation and action through silence\, solitude\, community and the rhythm of this Episcopal Benedictine monastic community’s worship and prayer life including daily Holy Eucharist. An established practice of Centering Prayer for at least 6-months is highly recommended. \nMonday check-in is from 2:00 to 5:00 p.m. Dinner then follows. Orientation begins at 6:45pm. The retreat concludes with breakfast on the last day with optional attendance at Holy Eucharist. \nCost for the retreat is $990. The retreat fee includes a single room and all meals. Shared single occupancy bathrooms in the hallways. Register by e-mail or phone with our Guesthouse Manager\, Donna Mallory at 845-384-6660 ext 1 or at guesthouse@hcmnet.org. \nIf you have questions about the retreat content or which track is best for you\, please contact retreat leader: Leslee Terpay at co-leslee@comcast.net. \nTo find out more about Holy Cross Monastery\, visit their website at: www.holycrossmonastery.com \nRetreat Leaders \nLeslee Anne Terpay As a Contemplative Outreach Commissioned Presenter of Centering Prayer and Lectio Divina\, Leslee shares Fr. Thomas Keating’s teachings on the Christian Spiritual Journey in workshop and retreat settings. She is part of the Service Team that stewards Fr. Thomas’s teaching for serving Centering Prayer Retreats. She is a spiritual director in Lone Tree\, CO and a graduate of The Center for Action and Contemplation Living School. \nBr. Bernard Delcourt is the US Director of Associates for the Order of the Holy Cross. Bernard is a Contemplative Outreach commissioned presenter. Bernard has been a monk since 2004. Before becoming a monk\, he was an investment banker and then a life and business skills coach. He is a spiritual director and regularly visits General Theological Seminary in New York to offer spiritual direction to students and staff.
URL:https://www.contemplativeoutreach.org/event/7-day-centering-prayer-dual-track-intensive-post-intensive/
LOCATION:Holy Cross Monastery – New York\, 1615 Route 9W\, West Park\, NY\, 12493\, United States
CATEGORIES:Retreat
ATTACH;FMTTYPE=image/jpeg:https://www.contemplativeoutreach.org/wp-content/uploads/2023/10/IMG_3349.jpg
ORGANIZER;CN="Leslee Anne Terpay":MAILTO:co-leslee@comcast.net
END:VEVENT
END:VCALENDAR