BEGIN:VCALENDAR
VERSION:2.0
PRODID:-//Contemplative Outreach, Ltd. - ECPv6.15.17.1//NONSGML v1.0//EN
CALSCALE:GREGORIAN
METHOD:PUBLISH
X-WR-CALNAME:Contemplative Outreach, Ltd.
X-ORIGINAL-URL:https://www.contemplativeoutreach.org
X-WR-CALDESC:Events for Contemplative Outreach, Ltd.
REFRESH-INTERVAL;VALUE=DURATION:PT1H
X-Robots-Tag:noindex
X-PUBLISHED-TTL:PT1H
BEGIN:VTIMEZONE
TZID:UTC
BEGIN:STANDARD
TZOFFSETFROM:+0000
TZOFFSETTO:+0000
TZNAME:UTC
DTSTART:20230101T000000
END:STANDARD
END:VTIMEZONE
BEGIN:VEVENT
DTSTART;TZID=UTC:20240408T180000
DTEND;TZID=UTC:20240414T133000
DTSTAMP:20260422T195710
CREATED:20240201T205346Z
LAST-MODIFIED:20240201T205545Z
UID:141687-1712599200-1713101400@www.contemplativeoutreach.org
SUMMARY:Centering Prayer Intensive Retreat
DESCRIPTION:This 7 days / 6 night Centering Prayer retreat provides an opportunity to deepen one’s established Centering Prayer practice by building to 4 1/2 hours of prayer time at mid week. During the retreat \, one is held in prayer by the sisters of St. Gertrude’s Center for Benedictine Life community located on the Camas Prairie in Central Idaho. The Spirit Center offers a quiet setting to support your retreat; including private rooms with baths\, meals\, daily prayer with the sisters and / or Eucharist\, hiking trails\, museum and gift shop. \nPlease see the link below.
URL:https://www.contemplativeoutreach.org/event/centering-prayer-intensive-retreat-10/
LOCATION:Monastery of St. Gertrude\, 465 Keuterville Road\, Cottonwood\, ID\, 83522\, United States
CATEGORIES:Retreat
END:VEVENT
END:VCALENDAR