BEGIN:VCALENDAR
VERSION:2.0
PRODID:-//Contemplative Outreach, Ltd. - ECPv6.15.17.1//NONSGML v1.0//EN
CALSCALE:GREGORIAN
METHOD:PUBLISH
X-WR-CALNAME:Contemplative Outreach, Ltd.
X-ORIGINAL-URL:https://www.contemplativeoutreach.org
X-WR-CALDESC:Events for Contemplative Outreach, Ltd.
REFRESH-INTERVAL;VALUE=DURATION:PT1H
X-Robots-Tag:noindex
X-PUBLISHED-TTL:PT1H
BEGIN:VTIMEZONE
TZID:America/New_York
BEGIN:DAYLIGHT
TZOFFSETFROM:-0500
TZOFFSETTO:-0400
TZNAME:EDT
DTSTART:20230312T070000
END:DAYLIGHT
BEGIN:STANDARD
TZOFFSETFROM:-0400
TZOFFSETTO:-0500
TZNAME:EST
DTSTART:20231105T060000
END:STANDARD
BEGIN:DAYLIGHT
TZOFFSETFROM:-0500
TZOFFSETTO:-0400
TZNAME:EDT
DTSTART:20240310T070000
END:DAYLIGHT
BEGIN:STANDARD
TZOFFSETFROM:-0400
TZOFFSETTO:-0500
TZNAME:EST
DTSTART:20241103T060000
END:STANDARD
BEGIN:DAYLIGHT
TZOFFSETFROM:-0500
TZOFFSETTO:-0400
TZNAME:EDT
DTSTART:20250309T070000
END:DAYLIGHT
BEGIN:STANDARD
TZOFFSETFROM:-0400
TZOFFSETTO:-0500
TZNAME:EST
DTSTART:20251102T060000
END:STANDARD
END:VTIMEZONE
BEGIN:VEVENT
DTSTART;TZID=America/New_York:20240907T140000
DTEND;TZID=America/New_York:20240914T103000
DTSTAMP:20260422T021947
CREATED:20231027T200849Z
LAST-MODIFIED:20240625T181416Z
UID:138452-1725717600-1726309800@www.contemplativeoutreach.org
SUMMARY:8-Day Centering Prayer Dual Track Intensive / Post Intensive
DESCRIPTION:The Eight-Day Centering Prayer Dual Track Intensive / Post Intensive Retreat offered from Saturday September 7 to Saturday September 14\, 2024\, provides an opportunity to deepen the practice of Centering Prayer in an atmosphere of profound silence and community support. The Intensive track will follow the Contemplative Outreach guidelines for an Intensive Retreat including six 30-minute Centering Prayer periods daily plus viewing and faith sharing on Thomas Keating’s Human Condition teachings. The Post Intensive track provides an additional 30 minutes of Centering Prayer with time for daily solitude. Retreat leaders: Leslee Anne Terpay and Br. Bernard Delcourt are available for soul-friending. During the retreat\, one will experience integrating as one wishes contemplation and action through silence\, solitude\, community and the rhythm of this Episcopal Benedictine monastic community’s worship and prayer life including daily Holy Eucharist. An established practice of Centering Prayer for at least 6-months is highly recommended. \nCheck-in is from 2:00 to 5:00 p.m. Tuesday. Vespers begin at 5:00. Dinner then follows. Orientation begins at 6:45. The retreat concludes with lunch on Friday. (Daily Holy Eucharist is available at 9:00 a.m.). \nCost for the retreat is $900. The price has been lowered by a $200 grant per retreatant from the Contemplative Outreach Divine Economy. The retreat fee includes a single room and all meals. Shared single occupancy bathrooms in the hallways. Register by e-mail or phone with our Guesthouse Manager\, Donna Mallory at 845-384-6660 ext 1 or at guesthouse@hcmnet.org. \nIf you have questions about the retreat content or which track is best for you\, please contact retreat leader: Leslee Terpay at co-leslee@comcast.net.\nTo find out more about Holy Cross Monastery\, visit their website at: www.holycrossmonastery.com
URL:https://www.contemplativeoutreach.org/event/8-day-centering-prayer-dual-track-intensive-post-intensive/
LOCATION:Holy Cross Monastery – New York\, 1615 Route 9W\, West Park\, NY\, 12493\, United States
CATEGORIES:Retreat
ATTACH;FMTTYPE=image/jpeg:https://www.contemplativeoutreach.org/wp-content/uploads/2023/10/IMG_3751-PANO.jpg
ORGANIZER;CN="Leslee Anne Terpay":MAILTO:co-leslee@comcast.net
END:VEVENT
END:VCALENDAR