BEGIN:VCALENDAR
VERSION:2.0
PRODID:-//Contemplative Outreach, Ltd. - ECPv6.15.17.1//NONSGML v1.0//EN
CALSCALE:GREGORIAN
METHOD:PUBLISH
X-ORIGINAL-URL:https://www.contemplativeoutreach.org
X-WR-CALDESC:Events for Contemplative Outreach, Ltd.
REFRESH-INTERVAL;VALUE=DURATION:PT1H
X-Robots-Tag:noindex
X-PUBLISHED-TTL:PT1H
BEGIN:VTIMEZONE
TZID:America/Los_Angeles
BEGIN:DAYLIGHT
TZOFFSETFROM:-0800
TZOFFSETTO:-0700
TZNAME:PDT
DTSTART:20230312T100000
END:DAYLIGHT
BEGIN:STANDARD
TZOFFSETFROM:-0700
TZOFFSETTO:-0800
TZNAME:PST
DTSTART:20231105T090000
END:STANDARD
BEGIN:DAYLIGHT
TZOFFSETFROM:-0800
TZOFFSETTO:-0700
TZNAME:PDT
DTSTART:20240310T100000
END:DAYLIGHT
BEGIN:STANDARD
TZOFFSETFROM:-0700
TZOFFSETTO:-0800
TZNAME:PST
DTSTART:20241103T090000
END:STANDARD
BEGIN:DAYLIGHT
TZOFFSETFROM:-0800
TZOFFSETTO:-0700
TZNAME:PDT
DTSTART:20250309T100000
END:DAYLIGHT
BEGIN:STANDARD
TZOFFSETFROM:-0700
TZOFFSETTO:-0800
TZNAME:PST
DTSTART:20251102T090000
END:STANDARD
END:VTIMEZONE
BEGIN:VEVENT
DTSTART;TZID=America/Los_Angeles:20241110T160000
DTEND;TZID=America/Los_Angeles:20241115T130000
DTSTAMP:20260421T224359
CREATED:20241002T170539Z
LAST-MODIFIED:20241002T170539Z
UID:147871-1731254400-1731675600@www.contemplativeoutreach.org
SUMMARY:6 DAY (5 NIGHT) CONTEMPLATIVE OUTREACH INTENSIVE SILENT CENTERING PRAYER RETREAT
DESCRIPTION:This retreat\, called an “Intensive Retreat” by Contemplative Outreach\, provides an opportunity to deepen your established Centering Prayer practice in an atmosphere of silence and community\, away from the busyness of daily life\, and to allow your mind\, body and spirit to surrender to God’s presence and action within. It has an educational component to immerse you both in the practice of Centering Prayer and\, increasingly\, in the conceptual background of the spiritual practice. \nEach day there will be about three and a half hours of Centering Prayer\, ranging from 20 to 30-minute periods of prayer\, some back-to-back with a contemplative walk in between. In addition\, participants will view videos from the Thomas Keating “Spiritual Journey” video series. Except for opening and closing times\, silence will be observed throughout the retreat\, including at meals. Participants can choose to remain in silence after the videos or participate in a short sharing session on the teaching. \nBefore attending the retreat\, you should have an established daily practice of Centering Prayer with two 20-minute periods of prayer a day for at least six months to one year. \nPlease see the link below to register.
URL:https://www.contemplativeoutreach.org/event/6-day-5-night-contemplative-outreach-intensive-silent-centering-prayer-retreat/
LOCATION:St. Placid Priory\, 500 College Street NE\, Lacey\, WA\, 98516\, United States
CATEGORIES:Retreat
END:VEVENT
END:VCALENDAR