BEGIN:VCALENDAR
VERSION:2.0
PRODID:-//Contemplative Outreach, Ltd. - ECPv6.15.17.1//NONSGML v1.0//EN
CALSCALE:GREGORIAN
METHOD:PUBLISH
X-ORIGINAL-URL:https://www.contemplativeoutreach.org
X-WR-CALDESC:Events for Contemplative Outreach, Ltd.
REFRESH-INTERVAL;VALUE=DURATION:PT1H
X-Robots-Tag:noindex
X-PUBLISHED-TTL:PT1H
BEGIN:VTIMEZONE
TZID:UTC
BEGIN:STANDARD
TZOFFSETFROM:+0000
TZOFFSETTO:+0000
TZNAME:UTC
DTSTART:20230101T000000
END:STANDARD
END:VTIMEZONE
BEGIN:VEVENT
DTSTART;TZID=UTC:20240711T173000
DTEND;TZID=UTC:20240715T173000
DTSTAMP:20260422T024409
CREATED:20240409T174810Z
LAST-MODIFIED:20240409T195610Z
UID:143658-1720719000-1721064600@www.contemplativeoutreach.org
SUMMARY:A Sacred Pause Silent Wisdom Retreat: A Curated Retreat for Contemplatives Under 50
DESCRIPTION:In a society bombarded with the allure of external validation and perpetual striving\, we often find ourselves caught in the relentless pursuit of relevance\, accomplishment\, and fleeting happiness. Yet\, amidst this tumult\, there exists a timeless wisdom that transcends the ephemeral promises of the world—a wisdom that beckons us to turn inward\, to listen to the Holy One’s heart in the depths of our being. \nDrawing from the insights of contemplatives\, mystics\, and Wisdom teachers\, this retreat offers a space to pause together with others to engage contemplative wisdom practices and inner exploration. Inspired by the teachings of luminaries such as Thomas Keating\, Henri Nouwen and Cynthia Bourgeault\, we embark on a transformative journey to recalibrate our gaze\, redirecting it from the external trappings of success to the quiet rhythm of the heart\, our organ of spiritual senses. \nThroughout our time together\, we will engage a rhythm of guided discussions\, contemplative practices\, and silent reflection that cultivates the inner postures of surrender and receptivity. At the heart of this retreat lies a profound invitation—to unravel the layers of conditioning that bind us\, to relinquish the need for control\, and to trust in the unfolding of life. \nJoin us on this sacred journey of profound surrender to the wisdom that resides within. Come tap into a deep wellspring of resilience and inner peace\, unveiling the essence of our true nature. Together\, let us embrace the transformative power of contemplation. \nMinimum of 25 participants needed. \nFacilitators \nColleen Thomas is a Spiritual Director and long-time practitioner of Centering Prayer who delights in companioning others on their spiritual journey facilitating contemplative prayer groups\, workshops and retreats. Her particular passion is for widening the reach of contemplative practice and teaching to younger and BIPOC communities. Colleen earned her MA in Theology and Art from Fuller Theological Seminary. She worked in television in Los Angeles for 15 years before relocating to her hometown of Washington D.C. where she continues to explore her creative passions while enjoying the close companionship of her family. You can discover more about her work at https://soulcarela.com/and hear her in conversation about Centering Prayer and the contemplative life on the “Opening Minds\, Opening Hearts” podcast. \nHeather Ruce is a Wisdom Spiritual Director who offers Wisdom Practice Circles\, Retreats\, and Wisdom Schools focused on the expansive Christian Wisdom Tradition. She works within the lineage of Wisdom Teacher Cynthia Bourgeault whom she has been a student of for over a decade. Heather weaves her Masters in Marital & Family Therapy and training in Somatic Experiencing\, Organic Intelligence & Spiritual Direction into her teaching and guidance in various Wisdom practices\, all in service of waking up and putting on the Mind of Christ. Find out more at heatherruce.com. \nSchedule (subject to change) \nThursday\, July 11th\n5:30 Dinner\n7:00 Welcome & Introductions\, followed by Centering Prayer & Practices \nFriday – Sunday\, July 12th-14th\n7:30 Breakfast in Silence\n9:00 Centering Prayer & Other Wisdom Practices\n9:45 Silent Break\n10:00 Theme and Reflection Session One\n11:15 Silent Break\n11:30 Centering Prayer & Other Wisdom Practices\n12:00 Silent Lunch followed by Silent Contemplative Free Time with reflection questions\n3:00 Centering Prayer & Other Wisdom Practices\n4:00 Silent Break\n4:15 Theme and Reflection Session Two\n5:30 Silent Dinner\n7:00 Theme and Reflection Session Three\, followed by Centering Prayer & Practices \nMonday\, July 15th\n7:30 Breakfast in Silence\n9:00 Centering Prayer & Other Wisdom Practices\n9:45 Silent Break\n10:00 Theme and Final Reflection Session\n11:00 Silent Break\n11:15 Closing Reflections & Circle\n12:00 Lunch \nPlease see the link below to register.
URL:https://www.contemplativeoutreach.org/event/a-sacred-pause-silent-wisdom-retreat-a-curated-retreat-for-contemplatives-under-50/
LOCATION:Mercy Center Burlingame\, 2300 Adeline Drive\, Burlingame\, CA\, 94010\, United States
CATEGORIES:Retreat
ATTACH;FMTTYPE=image/jpeg:https://www.contemplativeoutreach.org/wp-content/uploads/2024/04/istockphoto-594471418-612x612-1.jpg
END:VEVENT
BEGIN:VEVENT
DTSTART;VALUE=DATE:20240714
DTEND;VALUE=DATE:20240722
DTSTAMP:20260422T024409
CREATED:20240222T200103Z
LAST-MODIFIED:20240222T200220Z
UID:142190-1720915200-1721606399@www.contemplativeoutreach.org
SUMMARY:Summer Centering Prayer retreat: Awakening to Oneness
DESCRIPTION:This retreat will include teachings on Oneness and Unitive Consciousness from Father Thomas Keating and Rev. Cynthia Bourgeault along with multiple daily periods of silence in Centering Prayer as a group. We will weave in teachings from Thomas Berry\, Pierre Teilhard de Chardin and Matthew Fox\, and provide opportunities to experience Forest Therapy and Lectio Terra so that we may come into a felt sense of communion with the living world. This shift in consciousness is vital in these times of ecological destruction and human divisiveness. This retreat will be in full silence with the exception of the opportunity to engage in meaningful reflections together after the teachings. Participants should be familiar with the method and practice of Centering Prayer since this will be a week of silent depth. “Let Love alone speak” – Thomas Keating \nFacilitated by Liz Rees and Mary Jane Yates \n$700 Canadian dollars
URL:https://www.contemplativeoutreach.org/event/summer-centering-prayer-retreat-awakening-to-oneness/
LOCATION:Providence Renewal Center\, AB\, T6J 5R5\, Canada
CATEGORIES:Retreat
END:VEVENT
END:VCALENDAR