BEGIN:VCALENDAR
VERSION:2.0
PRODID:-//Contemplative Outreach, Ltd. - ECPv6.15.17.1//NONSGML v1.0//EN
CALSCALE:GREGORIAN
METHOD:PUBLISH
X-ORIGINAL-URL:https://www.contemplativeoutreach.org
X-WR-CALDESC:Events for Contemplative Outreach, Ltd.
REFRESH-INTERVAL;VALUE=DURATION:PT1H
X-Robots-Tag:noindex
X-PUBLISHED-TTL:PT1H
BEGIN:VTIMEZONE
TZID:UTC
BEGIN:STANDARD
TZOFFSETFROM:+0000
TZOFFSETTO:+0000
TZNAME:UTC
DTSTART:20230101T000000
END:STANDARD
END:VTIMEZONE
BEGIN:VEVENT
DTSTART;TZID=UTC:20241019T090000
DTEND;TZID=UTC:20241019T150000
DTSTAMP:20260421T213420
CREATED:20240823T214323Z
LAST-MODIFIED:20240823T214323Z
UID:147153-1729328400-1729350000@www.contemplativeoutreach.org
SUMMARY:Cynthia Bourgeault:  ​God ‘n Me: Thomas Keating’s Lifelong Love Affair with God - via Zoom
DESCRIPTION:In her first teaching from her soon-to-be published book\, “Thomas Keating: The Making of a Modern Christian Mystic\,” Cynthia will guide us through Thomas’s evolving concept of God\, illuminating Keating’s remarkable spiritual development in the final stages of his spiritual journey. Cynthia will be sharing from her perspective as a disciple of Keating’s teachings as well as her personal experiences and close study of his late works. Topics in her talk will include: \nKeating’s increasing engagement with non-dual spiritual practice\nHis contributions to interspiritual dialogue\nThe evolution of his early teaching on the movement from “false self” to “true self\,” to that from “true self” to “no self”\nHis final “dark night of the spirit” and passage through death\nNew evidence that he never left Christianity but carried it with him to new places\nThis talk will inspire your own spiritual journey as a modern mystic\, at home and at peace in the universe. \nThis is a hybrid presentation being conducted both in person at The Center for Contemplative Living in Denver\, CO and Online via Zoom videoconference. \nTimes listed are mountain time. (Denver\, CO) \nClick the website link below to learn more and register. Scholarships are available.
URL:https://www.contemplativeoutreach.org/event/cynthia-bourgeault-god-n-me-thomas-keatings-lifelong-love-affair-with-god-via-zoom/
LOCATION:Internet – Online
CATEGORIES:Webcast,Webinar
ATTACH;FMTTYPE=image/jpeg:https://www.contemplativeoutreach.org/wp-content/uploads/2024/08/Cynthia_B_teaching_in_Forest-e1724449382688.jpg
ORGANIZER;CN="Contemplative Outreach of Colorado":MAILTO:staff@centeringprayer.net
END:VEVENT
END:VCALENDAR