BEGIN:VCALENDAR
VERSION:2.0
PRODID:-//Contemplative Outreach, Ltd. - ECPv6.15.17.1//NONSGML v1.0//EN
CALSCALE:GREGORIAN
METHOD:PUBLISH
X-ORIGINAL-URL:https://www.contemplativeoutreach.org
X-WR-CALDESC:Events for Contemplative Outreach, Ltd.
REFRESH-INTERVAL;VALUE=DURATION:PT1H
X-Robots-Tag:noindex
X-PUBLISHED-TTL:PT1H
BEGIN:VTIMEZONE
TZID:UTC
BEGIN:STANDARD
TZOFFSETFROM:+0000
TZOFFSETTO:+0000
TZNAME:UTC
DTSTART:20250101T000000
END:STANDARD
END:VTIMEZONE
BEGIN:VEVENT
DTSTART;TZID=UTC:20260108T183000
DTEND;TZID=UTC:20260108T203000
DTSTAMP:20260420T192317
CREATED:20241231T160818Z
LAST-MODIFIED:20260102T023745Z
UID:151550-1767897000-1767904200@www.contemplativeoutreach.org
SUMMARY:Heartfulness: Transformation in Christ – via Zoom
DESCRIPTION:Heartfulness is the sixth in a series of eight courses in the Spiritual Journey Series. In this series Fr. Thomas guides the listener toward an understanding of the contemplative dimension of the Gospel and its extraordinary implications and applications for personal freedom and global peace. Fr. Thomas calls this the journey of heartfulness\, and says that Centering Prayer might be thought of as heartfulness. Centering Prayer as contemplative prayer is a reflection on the mysteries of faith that has been digested and reflected upon and expressed in acts of love until it has simplified into a movement of the will that is becoming quasi-permanent – a way of occupying the mind and transferring it to the heart so that with practice it becomes more “heartfulness” than “mindfulness”. \nThis is a nine-week course officially starting on Thursday\, January 9 2025\, at 6:30 pm Mountain Time. \nA wide range of topics is covered in this course. The topics for each week are: \nWeek 1 – The Pursuit of Happiness\nWeek 2 – The Human Condition\nWeek 3 – Centering Prayer\nWeek 4 – Sin\nWeek 5 – Suffering\nWeek 6 – Redemption\nWeek 7 – Love and The Trinity\nWeek 8 – Divine Indwelling\nWeek 9 – Divine Transformation \nEach week\, we will begin with Centering Prayer. Your facilitators will provide an introduction to the topic for the week and we will watch the video (20 to 25 minutes) together. Then we will take a break and you will look over the questions to be discussed in the break-out groups. Discussion will take place in the break-out groups and we will gather together once again to close out the class. \nTime Listed are Mountain Time (Denver\, Colorado)\nClick the website link below to register. Scholarships are available.
URL:https://www.contemplativeoutreach.org/event/heartfulness-transformation-in-christ-via-zoom/
LOCATION:Internet – Online
CATEGORIES:Retreat,Webinar
ATTACH;FMTTYPE=image/jpeg:https://www.contemplativeoutreach.org/wp-content/uploads/2024/12/Heartfulness-e1735661257979.jpg
ORGANIZER;CN="Contemplative Outreach of Colorado":MAILTO:staff@centeringprayer.net
END:VEVENT
END:VCALENDAR