BEGIN:VCALENDAR
VERSION:2.0
PRODID:-//Contemplative Outreach, Ltd. - ECPv6.15.17.1//NONSGML v1.0//EN
CALSCALE:GREGORIAN
METHOD:PUBLISH
X-ORIGINAL-URL:https://www.contemplativeoutreach.org
X-WR-CALDESC:Events for Contemplative Outreach, Ltd.
REFRESH-INTERVAL;VALUE=DURATION:PT1H
X-Robots-Tag:noindex
X-PUBLISHED-TTL:PT1H
BEGIN:VTIMEZONE
TZID:America/New_York
BEGIN:DAYLIGHT
TZOFFSETFROM:-0500
TZOFFSETTO:-0400
TZNAME:EDT
DTSTART:20250309T070000
END:DAYLIGHT
BEGIN:STANDARD
TZOFFSETFROM:-0400
TZOFFSETTO:-0500
TZNAME:EST
DTSTART:20251102T060000
END:STANDARD
BEGIN:DAYLIGHT
TZOFFSETFROM:-0500
TZOFFSETTO:-0400
TZNAME:EDT
DTSTART:20260308T070000
END:DAYLIGHT
BEGIN:STANDARD
TZOFFSETFROM:-0400
TZOFFSETTO:-0500
TZNAME:EST
DTSTART:20261101T060000
END:STANDARD
BEGIN:DAYLIGHT
TZOFFSETFROM:-0500
TZOFFSETTO:-0400
TZNAME:EDT
DTSTART:20270314T070000
END:DAYLIGHT
BEGIN:STANDARD
TZOFFSETFROM:-0400
TZOFFSETTO:-0500
TZNAME:EST
DTSTART:20271107T060000
END:STANDARD
END:VTIMEZONE
BEGIN:VEVENT
DTSTART;TZID=America/New_York:20260411T083000
DTEND;TZID=America/New_York:20260411T163000
DTSTAMP:20260420T134335
CREATED:20250610T204729Z
LAST-MODIFIED:20250610T204729Z
UID:155907-1775896200-1775925000@www.contemplativeoutreach.org
SUMMARY:Living the Questions with Rainer Maria Rilke
DESCRIPTION:In one of his Sonnets to Orpheus\, Rilke invites us to “desire the change!” Transformation was one of his central themes. But how do we find the courage to do this? This retreat invites us to explore his invitation to “live the questions\,” and indeed to “live everything” as the path toward that end. We’ll explore his invitation to live into “the Open\,” and discover our lives as belonging to “the Whole.” Come to practice doing what Rilke called the “heart-work” of life. \nThis event includes sessions of Centering Prayer. \nPlease see the link below for more information and to register.
URL:https://www.contemplativeoutreach.org/event/living-the-questions-with-rainer-maria-rilke/
LOCATION:Holy Family Passionist Retreat Center\, 303 Tunxis Road\, West Hartford\, CT\, 6107\, United States
CATEGORIES:Workshop
ATTACH;FMTTYPE=image/png:https://www.contemplativeoutreach.org/wp-content/uploads/2025/06/CCE-Finding-Fullness.png
ORGANIZER;CN="Mike Smoolca":MAILTO:msmoolca@hotmail.com
END:VEVENT
END:VCALENDAR