BEGIN:VCALENDAR
VERSION:2.0
PRODID:-//Contemplative Outreach, Ltd. - ECPv6.15.17.1//NONSGML v1.0//EN
CALSCALE:GREGORIAN
METHOD:PUBLISH
X-WR-CALNAME:Contemplative Outreach, Ltd.
X-ORIGINAL-URL:https://www.contemplativeoutreach.org
X-WR-CALDESC:Events for Contemplative Outreach, Ltd.
REFRESH-INTERVAL;VALUE=DURATION:PT1H
X-Robots-Tag:noindex
X-PUBLISHED-TTL:PT1H
BEGIN:VTIMEZONE
TZID:America/Chicago
BEGIN:DAYLIGHT
TZOFFSETFROM:-0600
TZOFFSETTO:-0500
TZNAME:CDT
DTSTART:20250309T080000
END:DAYLIGHT
BEGIN:STANDARD
TZOFFSETFROM:-0500
TZOFFSETTO:-0600
TZNAME:CST
DTSTART:20251102T070000
END:STANDARD
BEGIN:DAYLIGHT
TZOFFSETFROM:-0600
TZOFFSETTO:-0500
TZNAME:CDT
DTSTART:20260308T080000
END:DAYLIGHT
BEGIN:STANDARD
TZOFFSETFROM:-0500
TZOFFSETTO:-0600
TZNAME:CST
DTSTART:20261101T070000
END:STANDARD
BEGIN:DAYLIGHT
TZOFFSETFROM:-0600
TZOFFSETTO:-0500
TZNAME:CDT
DTSTART:20270314T080000
END:DAYLIGHT
BEGIN:STANDARD
TZOFFSETFROM:-0500
TZOFFSETTO:-0600
TZNAME:CST
DTSTART:20271107T070000
END:STANDARD
END:VTIMEZONE
BEGIN:VEVENT
DTSTART;VALUE=DATE:20260321
DTEND;VALUE=DATE:20260322
DTSTAMP:20260420T150917
CREATED:20260210T005013Z
LAST-MODIFIED:20260210T005013Z
UID:160824-1774051200-1774137599@www.contemplativeoutreach.org
SUMMARY:Contemplative Outreach Birmingham 2026 Conference
DESCRIPTION:The conference will feature as speaker Rev. Ed Bacon. His conference presentation is entitled “Contemplation Changes Us; Let Me Count the Ways.”\nRev. Bacon has served three churches as Rector or Dean: in Dalton\, GA; Jackson\, MS; and Pasadena\, CA. He is a strong advocate and practitioner of Centering Prayer and has also participated in annual Ignatian 8-day retreats. Now in retirement\, Rev. Bacon is currently serving as Interim Rector at All Saints Episcopal Church in Birmingham\, AL. His contemplative ministries focus on teaching the unitive and non-dual theologies of Centering Prayer\, leading weekly Centering Prayer sits\, and teaching a weekly zoom class on Contemplative Transformation. His presentation will describe how contemplation and the energy in community transform us into new beings with a new consciousness. Rev. Bacon is the author of the book\, 8 Habits of Love: Overcome Fear and Transform Your Life. \nSee the website link below for more information.
URL:https://www.contemplativeoutreach.org/event/contemplative-outreach-birmingham-2026-conference/
LOCATION:St. Stephen’s Episcopal Church\, 3775 Crosshaven Dr.\, Birmingham\,\, AL\, 35223\, United States
CATEGORIES:Workshop
ORGANIZER;CN="Contemplative Outreach Birmingham":MAILTO:cobforcontemplatives@gmail.com
END:VEVENT
END:VCALENDAR