BEGIN:VCALENDAR
VERSION:2.0
PRODID:-//Contemplative Outreach, Ltd. - ECPv6.15.17.1//NONSGML v1.0//EN
CALSCALE:GREGORIAN
METHOD:PUBLISH
X-ORIGINAL-URL:https://www.contemplativeoutreach.org
X-WR-CALDESC:Events for Contemplative Outreach, Ltd.
REFRESH-INTERVAL;VALUE=DURATION:PT1H
X-Robots-Tag:noindex
X-PUBLISHED-TTL:PT1H
BEGIN:VTIMEZONE
TZID:America/Chicago
BEGIN:DAYLIGHT
TZOFFSETFROM:-0600
TZOFFSETTO:-0500
TZNAME:CDT
DTSTART:20250309T080000
END:DAYLIGHT
BEGIN:STANDARD
TZOFFSETFROM:-0500
TZOFFSETTO:-0600
TZNAME:CST
DTSTART:20251102T070000
END:STANDARD
BEGIN:DAYLIGHT
TZOFFSETFROM:-0600
TZOFFSETTO:-0500
TZNAME:CDT
DTSTART:20260308T080000
END:DAYLIGHT
BEGIN:STANDARD
TZOFFSETFROM:-0500
TZOFFSETTO:-0600
TZNAME:CST
DTSTART:20261101T070000
END:STANDARD
BEGIN:DAYLIGHT
TZOFFSETFROM:-0600
TZOFFSETTO:-0500
TZNAME:CDT
DTSTART:20270314T080000
END:DAYLIGHT
BEGIN:STANDARD
TZOFFSETFROM:-0500
TZOFFSETTO:-0600
TZNAME:CST
DTSTART:20271107T070000
END:STANDARD
END:VTIMEZONE
BEGIN:VEVENT
DTSTART;TZID=America/Chicago:20260502T093000
DTEND;TZID=America/Chicago:20260502T120000
DTSTAMP:20260420T135508
CREATED:20251211T221056Z
LAST-MODIFIED:20251211T221056Z
UID:158747-1777714200-1777723200@www.contemplativeoutreach.org
SUMMARY:12 Step Spirituality monthly in-person meeting\, Minneapolis\, MN
DESCRIPTION:12StepSpirituality.org hosts an in-person meeting on the first Saturday of the month\, October through May\, in Minneapolis\, Minnesota. The meeting focuses on the 11th Step\, using Centering Prayer meditation to open us to the presence and action of our own Higher Power. The meeting starts with Welcoming Prayer\, a speaker sharing briefly on various topics\, a 20-minute sit of Centering Prayer (teaching Centering Prayer to newcomers as needed)\, small group breakouts\, and large group discussion. \nThere is also a zoom meeting which occurs every Saturday morning. \nIn-Person:\n1st Saturdays\, October through May\n9:30 AM – 12:00 Noon Central Time\n1st Universalist Church\nSocial Hall\n3400 Dupont Avenue South\nMinneapolis\, MN 55408 \nMailing list and questions: 12StepCP@gmail.com
URL:https://www.contemplativeoutreach.org/event/12-step-spirituality-monthly-in-person-meeting-minneapolis-mn-5/
LOCATION:1st Universalist Church\, 3400 Dupont Avenue South\, Minneapolis\, MN\, 55408\, United States
CATEGORIES:Retreat
ORGANIZER;CN="12-step Outreach":MAILTO:12StepCP@gmail.com
END:VEVENT
END:VCALENDAR